BEGIN:VCALENDAR
VERSION:2.0
PRODID:-//WCSU Events - ECPv6.15.17.1//NONSGML v1.0//EN
CALSCALE:GREGORIAN
METHOD:PUBLISH
X-WR-CALNAME:WCSU Events
X-ORIGINAL-URL:https://www.wcsu.edu/events
X-WR-CALDESC:Events for WCSU Events
REFRESH-INTERVAL;VALUE=DURATION:PT1H
X-Robots-Tag:noindex
X-PUBLISHED-TTL:PT1H
BEGIN:VTIMEZONE
TZID:UTC
BEGIN:STANDARD
TZOFFSETFROM:+0000
TZOFFSETTO:+0000
TZNAME:UTC
DTSTART:20210101T000000
END:STANDARD
END:VTIMEZONE
BEGIN:VTIMEZONE
TZID:America/New_York
BEGIN:DAYLIGHT
TZOFFSETFROM:-0500
TZOFFSETTO:-0400
TZNAME:EDT
DTSTART:20210314T070000
END:DAYLIGHT
BEGIN:STANDARD
TZOFFSETFROM:-0400
TZOFFSETTO:-0500
TZNAME:EST
DTSTART:20211107T060000
END:STANDARD
BEGIN:DAYLIGHT
TZOFFSETFROM:-0500
TZOFFSETTO:-0400
TZNAME:EDT
DTSTART:20220313T070000
END:DAYLIGHT
BEGIN:STANDARD
TZOFFSETFROM:-0400
TZOFFSETTO:-0500
TZNAME:EST
DTSTART:20221106T060000
END:STANDARD
BEGIN:DAYLIGHT
TZOFFSETFROM:-0500
TZOFFSETTO:-0400
TZNAME:EDT
DTSTART:20230312T070000
END:DAYLIGHT
BEGIN:STANDARD
TZOFFSETFROM:-0400
TZOFFSETTO:-0500
TZNAME:EST
DTSTART:20231105T060000
END:STANDARD
END:VTIMEZONE
BEGIN:VEVENT
DTSTART;TZID=UTC:20221111T130000
DTEND;TZID=UTC:20221112T153000
DTSTAMP:20260423T070726
CREATED:20221022T002944Z
LAST-MODIFIED:20221111T134429Z
UID:10061415-1668171600-1668267000@www.wcsu.edu
SUMMARY:POSTPONED: Catskills Overnight Hike
DESCRIPTION:POSTPONED: CATSKILLS OVERNIGHT HIKE: Due to Bad weather\, this event has been postponed.  \n  \nCome bag two peaks in the Catskills with the Adventure Club for an early November overnight. We will be summiting Balsam Peak and visiting the Balsam Lake Mountain Observation Tower. Balsam Peak is NOT the same as Balsam Lake Mountain. These are two separate hikes. The first hike will be 7 miles split between two days. The second hike will be about 5 miles. \nPlan for brisk November weather and a moderately strenuous hike. We will spend the night Friday at Balsam Lake Mountain Lean-to and hike to the Balsam Lake Mountain Observation Tower for sunrise. We will then hike back to the trailhead and drive to the trailhead to hike to Balsam Peak. \nThis trip has limited space. RSVP on ENGAGE. \nTransportation will be provided. Meet at 1 p.m. at the Midtown Student Center bus stop on Friday\, 11/11. Plan to return to campus Saturday evening. \nTHIS IS AN OVERNIGHT TRIP. RETURN TO CAMPUS WILL BE ON SATURDAY 11/12.
URL:https://www.wcsu.edu/events/calendar/catskills-overnight-hike/
LOCATION:Off-campus Trip
CATEGORIES:Adventure,Athletics,Hiking,Outdoor,Trip
ATTACH;FMTTYPE=image/jpeg:https://www.wcsu.edu/events/wp-content/uploads/sites/181/2022/10/Balsam-Lake-Mountain-Fire-Observation-Tower.jpg
END:VEVENT
BEGIN:VEVENT
DTSTART;TZID=UTC:20221112T093000
DTEND;TZID=UTC:20221112T220000
DTSTAMP:20260423T070726
CREATED:20221102T000100Z
LAST-MODIFIED:20221104T145343Z
UID:10061438-1668245400-1668290400@www.wcsu.edu
SUMMARY:PAC The Phantom of the Opera Trip
DESCRIPTION:PAC “THE PHANTOM OF THE OPERA” TRIP: We’re headed to see “The Phantom of the Opera” on Broadway! Tickets will be available for purchase Wednesday\, Nov. 2 @ 10 a.m. in our Instagram Bio. Guests are welcome! Tickets are available until they are sold out. \n  \nThe trip is on Saturday\, Nov. 12. Bus pick-up for Midtown Student Center is at 9:30 a.m. and Westside Campus Center is at 9:45 a.m. Bus drop-off for Westside is at 9:45 p.m. and Midtown is at 10 p.m.
URL:https://www.wcsu.edu/events/calendar/pac-the-phantom-of-the-opera-trip/2022-11-12/
LOCATION:Off-campus Trip
CATEGORIES:Entertainment,Trip
ATTACH;FMTTYPE=image/png:https://www.wcsu.edu/events/wp-content/uploads/sites/181/2022/11/1-1.png
ORGANIZER;CN="Program Activities Council (PAC)":MAILTO:quirkm@wcsu.edu
END:VEVENT
BEGIN:VEVENT
DTSTART;TZID=America/New_York:20221112T110000
DTEND;TZID=America/New_York:20221112T130000
DTSTAMP:20260423T070726
CREATED:20221109T135630Z
LAST-MODIFIED:20221110T142144Z
UID:10063157-1668250800-1668258000@www.wcsu.edu
SUMMARY:Cover Board Project Research
DESCRIPTION:COVER BOARD PROJECT RESEARCH: Students will get a chance to go to the Great Hollow Nature Preserve to survey the area for vertebrates. Cover boards will be surveyed as well as the surrounding areas. There are 60 cover boards and 3 sites in total. Students will be able to identify different species\, collect data and learn about being a field technician. From 11 a.m. to 1 p.m. at Great Hollow.  Contact Michael Tambascio via text or email to for more information.
URL:https://www.wcsu.edu/events/calendar/cover-board-project-research/2022-11-12/
LOCATION:Off-campus Trip
CATEGORIES:Outdoor,Science,WOW
ATTACH;FMTTYPE=image/jpeg:https://www.wcsu.edu/events/wp-content/uploads/sites/181/2022/11/20221105-spring-peeper.jpg
END:VEVENT
BEGIN:VEVENT
DTSTART;TZID=UTC:20221112T120000
DTEND;TZID=UTC:20221112T160000
DTSTAMP:20260423T070726
CREATED:20221013T211416Z
LAST-MODIFIED:20221111T134701Z
UID:10063097-1668254400-1668268800@www.wcsu.edu
SUMMARY:CANCELLED: Ropes Course at Adventure Park
DESCRIPTION:CANCELLED: ROPES COURSE AT ADVENTURE PARK: Join the Adventure Club for a Ropes course at the Adventure Park in Bridgeport\, CT! Tickets are required\, and they are $24.50 each. They close Oct. 23rd\, so get them fast. This is the link: https://wcsutickets.regfox.com/ropes-course-at-adventure-park \nThis event has been cancelled. 
URL:https://www.wcsu.edu/events/calendar/ropes-course-at-adventure-park/
LOCATION:Adventure Park\, Bridgeport\, CT\, United States
CATEGORIES:Adventure,Social Event
END:VEVENT
BEGIN:VEVENT
DTSTART;TZID=UTC:20221112T170000
DTEND;TZID=UTC:20221112T193000
DTSTAMP:20260423T070726
CREATED:20221013T214127Z
LAST-MODIFIED:20221111T213308Z
UID:10061373-1668272400-1668281400@www.wcsu.edu
SUMMARY:Men's Basketball
DESCRIPTION:MEN’S BASKETBALL: Wolves vs. Fitchburg State University at 5 p.m. in the Feldman Arena of the O’Neill Center.
URL:https://www.wcsu.edu/events/calendar/mens-basketball-6/
LOCATION:O’Neill Center\, 43 Lake Ave. Extension\, Danbury\, CT
CATEGORIES:Athletics,WOW
ATTACH;FMTTYPE=image/jpeg:https://www.wcsu.edu/events/wp-content/uploads/sites/181/2022/10/M-Basketball-11-12-22-e1668202380501.jpg
ORGANIZER;CN="Athletics":MAILTO:amess@wcsu.edu
END:VEVENT
BEGIN:VEVENT
DTSTART;TZID=UTC:20221112T190000
DTEND;TZID=UTC:20221112T203000
DTSTAMP:20260423T070726
CREATED:20220927T232420Z
LAST-MODIFIED:20220930T181943Z
UID:10063033-1668279600-1668285000@www.wcsu.edu
SUMMARY:Opera Scenes
DESCRIPTION:OPERA SCENES: Opera Scenes\, featuring the WCSU Opera Ensemble in favorite opera scenes and excerpts. Margaret Astrup\, Director. At 7 p.m. in the Veronica Hagman Concert Hall in the VPAC\, Westside campus. \n**Tickets at the Faculty\, Staff and Student rate are available at the VPAC box office located in the VPAC lobby – a valid WCSU ID is required at the time of purchase** \nNOTE: Advance ticket purchases made online are $10 plus fees; Tickets purchased at the door are $15. \nNo refunds are permitted; all sales are final.
URL:https://www.wcsu.edu/events/calendar/opera-scenes-3/
LOCATION:Veronica Hagman Concert Hall\, VPAC\, 43 Lake Ave. Extension\, Danbury\, CT
CATEGORIES:Music,Visual & Performing Arts
ATTACH;FMTTYPE=image/jpeg:https://www.wcsu.edu/events/wp-content/uploads/sites/181/2022/09/Opera-1.jpg
ORGANIZER;CN="Department of Music":MAILTO:piechotal@wcsu.edu
END:VEVENT
END:VCALENDAR