BEGIN:VCALENDAR
VERSION:2.0
PRODID:-//WCSU Events - ECPv6.15.17.1//NONSGML v1.0//EN
CALSCALE:GREGORIAN
METHOD:PUBLISH
X-ORIGINAL-URL:https://www.wcsu.edu/events
X-WR-CALDESC:Events for WCSU Events
REFRESH-INTERVAL;VALUE=DURATION:PT1H
X-Robots-Tag:noindex
X-PUBLISHED-TTL:PT1H
BEGIN:VTIMEZONE
TZID:UTC
BEGIN:STANDARD
TZOFFSETFROM:+0000
TZOFFSETTO:+0000
TZNAME:UTC
DTSTART:20210101T000000
END:STANDARD
END:VTIMEZONE
BEGIN:VTIMEZONE
TZID:America/New_York
BEGIN:DAYLIGHT
TZOFFSETFROM:-0500
TZOFFSETTO:-0400
TZNAME:EDT
DTSTART:20210314T070000
END:DAYLIGHT
BEGIN:STANDARD
TZOFFSETFROM:-0400
TZOFFSETTO:-0500
TZNAME:EST
DTSTART:20211107T060000
END:STANDARD
BEGIN:DAYLIGHT
TZOFFSETFROM:-0500
TZOFFSETTO:-0400
TZNAME:EDT
DTSTART:20220313T070000
END:DAYLIGHT
BEGIN:STANDARD
TZOFFSETFROM:-0400
TZOFFSETTO:-0500
TZNAME:EST
DTSTART:20221106T060000
END:STANDARD
BEGIN:DAYLIGHT
TZOFFSETFROM:-0500
TZOFFSETTO:-0400
TZNAME:EDT
DTSTART:20230312T070000
END:DAYLIGHT
BEGIN:STANDARD
TZOFFSETFROM:-0400
TZOFFSETTO:-0500
TZNAME:EST
DTSTART:20231105T060000
END:STANDARD
END:VTIMEZONE
BEGIN:VEVENT
DTSTART;TZID=UTC:20221229T150000
DTEND;TZID=UTC:20221229T190000
DTSTAMP:20260420T212418
CREATED:20221013T214322Z
LAST-MODIFIED:20221116T142801Z
UID:10061380-1672326000-1672340400@www.wcsu.edu
SUMMARY:Men's Basketball Holiday Tournament
DESCRIPTION:MEN’S BASKETBALL HOLIDAY TOURNAMENT: The Wolves face CCNY at 3 p.m. in the Feldman Arena of the O’Neill Center.\nMaritime College faces Coast Guard at 5 p.m.
URL:https://www.wcsu.edu/events/calendar/mens-basketball-holiday-tournament-3/
LOCATION:O’Neill Center\, 43 Lake Ave. Extension\, Danbury\, CT
CATEGORIES:Athletics
ATTACH;FMTTYPE=image/jpeg:https://www.wcsu.edu/events/wp-content/uploads/sites/181/2022/10/1229-Basketball-Tournament-e1668608837329.jpg
ORGANIZER;CN="Athletics":MAILTO:amess@wcsu.edu
END:VEVENT
BEGIN:VEVENT
DTSTART;TZID=UTC:20221211T140000
DTEND;TZID=UTC:20221211T160000
DTSTAMP:20260420T212418
CREATED:20221013T212057Z
LAST-MODIFIED:20221025T194258Z
UID:10063091-1670767200-1670774400@www.wcsu.edu
SUMMARY:Women's Basketball Game
DESCRIPTION:WOMEN’S BASKETBALL GAME: The Wolves take on York College of New York in the second meeting of a home-and-home\, back-to-back series at 2 p.m. in the Feldman Arena of the O’Neill Center.
URL:https://www.wcsu.edu/events/calendar/womens-basketball-game-2/
LOCATION:O’Neill Center\, 43 Lake Ave. Extension\, Danbury\, CT
CATEGORIES:Athletics
ATTACH;FMTTYPE=image/jpeg:https://www.wcsu.edu/events/wp-content/uploads/sites/181/2022/10/Womens-Basketball-12-11-22-e1666712558415.jpg
ORGANIZER;CN="Athletics":MAILTO:amess@wcsu.edu
END:VEVENT
BEGIN:VEVENT
DTSTART;TZID=UTC:20221206T170000
DTEND;TZID=UTC:20221206T210000
DTSTAMP:20260420T212418
CREATED:20221013T213711Z
LAST-MODIFIED:20221031T212215Z
UID:10061379-1670346000-1670360400@www.wcsu.edu
SUMMARY:Women's and Men's LEC Basketball Doubleheader
DESCRIPTION:WOMEN’S AND MEN’S BASKETBALL LITTLE EAST CONFERENCE DOUBLEHEADER: Wolves women and men face UMass Boston at 5 and 7 p.m. in a Little East Conference battle in the Feldman Arena of the O’Neill Center.
URL:https://www.wcsu.edu/events/calendar/womens-and-mens-lec-basketball-doubleheader-8/
LOCATION:O’Neill Center\, 43 Lake Ave. Extension\, Danbury\, CT
CATEGORIES:Athletics
ATTACH;FMTTYPE=image/jpeg:https://www.wcsu.edu/events/wp-content/uploads/sites/181/2022/10/Basketball-Doubleheader-12-6-22-e1667236910961.jpg
ORGANIZER;CN="Athletics":MAILTO:amess@wcsu.edu
END:VEVENT
BEGIN:VEVENT
DTSTART;TZID=UTC:20221122T180000
DTEND;TZID=UTC:20221122T200000
DTSTAMP:20260420T212418
CREATED:20221013T212209Z
LAST-MODIFIED:20221108T143138Z
UID:10063090-1669140000-1669147200@www.wcsu.edu
SUMMARY:Women's Basketball
DESCRIPTION:WOMEN’S BASKETBALL: The Wolves face cross-state rival Mitchell College at 6 p.m. in the Feldman Arena of the O’Neill Center.
URL:https://www.wcsu.edu/events/calendar/womens-basketball-game-3/
LOCATION:O’Neill Center\, 43 Lake Ave. Extension\, Danbury\, CT
CATEGORIES:Athletics
ATTACH;FMTTYPE=image/jpeg:https://www.wcsu.edu/events/wp-content/uploads/sites/181/2022/10/Womens-Basketball-11-22-e1667917856582.jpg
ORGANIZER;CN="Athletics":MAILTO:amess@wcsu.edu
END:VEVENT
BEGIN:VEVENT
DTSTART;TZID=UTC:20221119T150000
DTEND;TZID=UTC:20221119T170000
DTSTAMP:20260420T212418
CREATED:20221013T213828Z
LAST-MODIFIED:20221025T192648Z
UID:10061377-1668870000-1668877200@www.wcsu.edu
SUMMARY:Men's Basketball
DESCRIPTION:MEN’S BASKETBALL: Wolves vs. Elms College at 3 p.m. in the Feldman Arena of the O’Neill Center.
URL:https://www.wcsu.edu/events/calendar/mens-basketball-game/
LOCATION:O’Neill Center\, 43 Lake Ave. Extension\, Danbury\, CT
CATEGORIES:Athletics
ATTACH;FMTTYPE=image/jpeg:https://www.wcsu.edu/events/wp-content/uploads/sites/181/2022/10/Mens-Basketball-11-19-22-e1666711579702.jpg
ORGANIZER;CN="Athletics":MAILTO:amess@wcsu.edu
END:VEVENT
BEGIN:VEVENT
DTSTART;TZID=UTC:20221119T140000
DTEND;TZID=UTC:20221119T160000
DTSTAMP:20260420T212418
CREATED:20221013T212324Z
LAST-MODIFIED:20221025T191051Z
UID:10063089-1668866400-1668873600@www.wcsu.edu
SUMMARY:Women's Basketball
DESCRIPTION:WOMEN’S BASKETBALL: The Wolves take on City College of New York in its home opener at 2 p.m. in the Feldman Arena of the O’Neill Center.
URL:https://www.wcsu.edu/events/calendar/womens-basketball-game-4/
LOCATION:O’Neill Center\, 43 Lake Ave. Extension\, Danbury\, CT
CATEGORIES:Athletics
ATTACH;FMTTYPE=image/jpeg:https://www.wcsu.edu/events/wp-content/uploads/sites/181/2022/10/Womens-Basketball-11-19-22-e1666710629154.jpg
ORGANIZER;CN="Athletics":MAILTO:amess@wcsu.edu
END:VEVENT
BEGIN:VEVENT
DTSTART;TZID=UTC:20221119T120000
DTEND;TZID=UTC:20221119T150000
DTSTAMP:20260420T212418
CREATED:20221013T210750Z
LAST-MODIFIED:20221021T185441Z
UID:10063095-1668859200-1668870000@www.wcsu.edu
SUMMARY:Women's and Men's Swimming and Diving
DESCRIPTION:WOMEN’S AND MEN’S SWIMMING AND DIVING:  The Wolves take on Lehman College at noon in the O’Neill Center Pool.
URL:https://www.wcsu.edu/events/calendar/womens-and-mens-swimming-and-diving-6/
LOCATION:O’Neill Center Pool\, 43 Lake Ave. Extension\, Danbury\, CT
CATEGORIES:Athletics
ATTACH;FMTTYPE=image/jpeg:https://www.wcsu.edu/events/wp-content/uploads/sites/181/2022/10/Swimming-Diving-11-19-22-e1666364075755.jpg
ORGANIZER;CN="Athletics":MAILTO:amess@wcsu.edu
END:VEVENT
BEGIN:VEVENT
DTSTART;TZID=UTC:20221113T173000
DTEND;TZID=UTC:20221113T203000
DTSTAMP:20260420T212418
CREATED:20221013T210951Z
LAST-MODIFIED:20221111T140059Z
UID:10063094-1668360600-1668371400@www.wcsu.edu
SUMMARY:Men's and Women's Swimming and Diving
DESCRIPTION:MEN’S AND WOMEN’S SWIMMING AND DIVING: The Wolves battle against Maritime College in their home opening meet at 5:30 p.m. in the O’Neill Center Pool.
URL:https://www.wcsu.edu/events/calendar/mens-and-womens-swimming-and-diving/
LOCATION:O’Neill Center Pool\, 43 Lake Ave. Extension\, Danbury\, CT
CATEGORIES:Athletics
ATTACH;FMTTYPE=image/jpeg:https://www.wcsu.edu/events/wp-content/uploads/sites/181/2022/10/Swimming-Diving-11-13-22-e1668175251139.jpg
ORGANIZER;CN="Athletics":MAILTO:amess@wcsu.edu
END:VEVENT
BEGIN:VEVENT
DTSTART;TZID=UTC:20221113T130000
DTEND;TZID=UTC:20221113T180000
DTSTAMP:20260420T212418
CREATED:20221013T213954Z
LAST-MODIFIED:20221019T001422Z
UID:10061375-1668344400-1668362400@www.wcsu.edu
SUMMARY:Men's Basketball
DESCRIPTION:MEN’S BASKETBALL: WestConn Tip-off tournament continues from 1 to 6 p.m. in the Feldman Arena of the O’Neill Center.\nConsolation and championship games.
URL:https://www.wcsu.edu/events/calendar/mens-basketball-5/
LOCATION:O’Neill Center\, 43 Lake Ave. Extension\, Danbury\, CT
CATEGORIES:Athletics
ATTACH;FMTTYPE=image/jpeg:https://www.wcsu.edu/events/wp-content/uploads/sites/181/2022/10/M-Basketball-Tourn-11-13-22-e1666124054285.jpg
ORGANIZER;CN="Athletics":MAILTO:amess@wcsu.edu
END:VEVENT
BEGIN:VEVENT
DTSTART;TZID=UTC:20221112T170000
DTEND;TZID=UTC:20221112T193000
DTSTAMP:20260420T212418
CREATED:20221013T214127Z
LAST-MODIFIED:20221111T213308Z
UID:10061373-1668272400-1668281400@www.wcsu.edu
SUMMARY:Men's Basketball
DESCRIPTION:MEN’S BASKETBALL: Wolves vs. Fitchburg State University at 5 p.m. in the Feldman Arena of the O’Neill Center.
URL:https://www.wcsu.edu/events/calendar/mens-basketball-6/
LOCATION:O’Neill Center\, 43 Lake Ave. Extension\, Danbury\, CT
CATEGORIES:Athletics,WOW
ATTACH;FMTTYPE=image/jpeg:https://www.wcsu.edu/events/wp-content/uploads/sites/181/2022/10/M-Basketball-11-12-22-e1668202380501.jpg
ORGANIZER;CN="Athletics":MAILTO:amess@wcsu.edu
END:VEVENT
BEGIN:VEVENT
DTSTART;TZID=UTC:20221111T130000
DTEND;TZID=UTC:20221112T153000
DTSTAMP:20260420T212418
CREATED:20221022T002944Z
LAST-MODIFIED:20221111T134429Z
UID:10061415-1668171600-1668267000@www.wcsu.edu
SUMMARY:POSTPONED: Catskills Overnight Hike
DESCRIPTION:POSTPONED: CATSKILLS OVERNIGHT HIKE: Due to Bad weather\, this event has been postponed.  \n  \nCome bag two peaks in the Catskills with the Adventure Club for an early November overnight. We will be summiting Balsam Peak and visiting the Balsam Lake Mountain Observation Tower. Balsam Peak is NOT the same as Balsam Lake Mountain. These are two separate hikes. The first hike will be 7 miles split between two days. The second hike will be about 5 miles. \nPlan for brisk November weather and a moderately strenuous hike. We will spend the night Friday at Balsam Lake Mountain Lean-to and hike to the Balsam Lake Mountain Observation Tower for sunrise. We will then hike back to the trailhead and drive to the trailhead to hike to Balsam Peak. \nThis trip has limited space. RSVP on ENGAGE. \nTransportation will be provided. Meet at 1 p.m. at the Midtown Student Center bus stop on Friday\, 11/11. Plan to return to campus Saturday evening. \nTHIS IS AN OVERNIGHT TRIP. RETURN TO CAMPUS WILL BE ON SATURDAY 11/12.
URL:https://www.wcsu.edu/events/calendar/catskills-overnight-hike/
LOCATION:Off-campus Trip
CATEGORIES:Adventure,Athletics,Hiking,Outdoor,Trip
ATTACH;FMTTYPE=image/jpeg:https://www.wcsu.edu/events/wp-content/uploads/sites/181/2022/10/Balsam-Lake-Mountain-Fire-Observation-Tower.jpg
END:VEVENT
BEGIN:VEVENT
DTSTART;TZID=America/New_York:20221105T163000
DTEND;TZID=America/New_York:20221105T193000
DTSTAMP:20260420T212418
CREATED:20221104T121818Z
LAST-MODIFIED:20221104T190651Z
UID:10063144-1667665800-1667676600@www.wcsu.edu
SUMMARY:LEC Men's Soccer Championship
DESCRIPTION:LEC MEN’S SOCCER CHAMPIONSHIP: #1 WestConn takes on #2 UMass Boston at 4:30 p.m. in the Westside Athletic Complex. Go Wolves!\nFor all the marbles! \nLEC Teaser
URL:https://www.wcsu.edu/events/calendar/lec-mens-soccer-championship/
LOCATION:Westside Athletic Complex\, 43 Lake Ave. Extension\, Danbury\, CT
CATEGORIES:Athletics,WOW
ATTACH;FMTTYPE=image/jpeg:https://www.wcsu.edu/events/wp-content/uploads/sites/181/2022/11/Mens-Soccer-Finals-11-5-22-e1667564272146.jpg
ORGANIZER;CN="Athletics":MAILTO:amess@wcsu.edu
END:VEVENT
BEGIN:VEVENT
DTSTART;TZID=UTC:20221105T120000
DTEND;TZID=UTC:20221105T153000
DTSTAMP:20260420T212418
CREATED:20220815T194415Z
LAST-MODIFIED:20220930T184939Z
UID:10062693-1667649600-1667662200@www.wcsu.edu
SUMMARY:Football
DESCRIPTION:FOOTBALL: Football vs. Fitchburg State University (MA) at noon at the Westside Athletic Complex. For more information\, visit https://westconnathletics.com/index.aspx.
URL:https://www.wcsu.edu/events/calendar/football-9/
LOCATION:Westside Athletic Complex\, 43 Lake Ave. Extension\, Danbury\, CT
CATEGORIES:Athletics
ATTACH;FMTTYPE=image/png:https://www.wcsu.edu/events/wp-content/uploads/sites/181/2022/08/115-Football.png
END:VEVENT
BEGIN:VEVENT
DTSTART;TZID=UTC:20221103T190000
DTEND;TZID=UTC:20221103T213000
DTSTAMP:20260420T212418
CREATED:20221101T185042Z
LAST-MODIFIED:20221101T193258Z
UID:10061431-1667502000-1667511000@www.wcsu.edu
SUMMARY:LEC Men's Soccer Tournament Semifinals
DESCRIPTION:LEC MEN’S SOCCER TOURNAMENT SEMIFINALS: #1 WestConn plays host to the quarterfinal #4 vs. #5 winner at 7 p.m. at the Westside Athletic Complex.
URL:https://www.wcsu.edu/events/calendar/lec-mens-soccer-tournament-semifinals/
LOCATION:Westside Athletic Complex\, 43 Lake Ave. Extension\, Danbury\, CT
CATEGORIES:Athletics
ATTACH;FMTTYPE=image/jpeg:https://www.wcsu.edu/events/wp-content/uploads/sites/181/2022/11/Mens-Soccer-11-3-22-e1667316773303.jpg
END:VEVENT
BEGIN:VEVENT
DTSTART;TZID=UTC:20221103T160000
DTEND;TZID=UTC:20221103T183000
DTSTAMP:20260420T212418
CREATED:20221101T185204Z
LAST-MODIFIED:20221101T193551Z
UID:10061429-1667491200-1667500200@www.wcsu.edu
SUMMARY:LEC Women's Soccer Semifinals
DESCRIPTION:LEC WOMEN’S SOCCER SEMIFINALS: #2 seed WestConn hosts the quarterfinal #3 vs #6 winner at 4 p.m. at the Westside Athletic Complex.
URL:https://www.wcsu.edu/events/calendar/lec-womens-soccer-semifinals/
LOCATION:Westside Athletic Complex\, 43 Lake Ave. Extension\, Danbury\, CT
CATEGORIES:Athletics
ATTACH;FMTTYPE=image/jpeg:https://www.wcsu.edu/events/wp-content/uploads/sites/181/2022/11/11-3-22-Womens-Soccer-Semifinals-e1667316931562.jpg
END:VEVENT
BEGIN:VEVENT
DTSTART;TZID=UTC:20221101T190000
DTEND;TZID=UTC:20221101T210000
DTSTAMP:20260420T212418
CREATED:20221101T185318Z
LAST-MODIFIED:20221101T190704Z
UID:10061427-1667329200-1667336400@www.wcsu.edu
SUMMARY:LEC Women's Volleyball Quarterfinals
DESCRIPTION:LEC WOMEN’S VOLLEYBALL QUARTERFINALS: WestConn vs. Eastern Connecticut at 7 p.m. in the Feldman Arena of the O’Neill Center on the Westside campus.
URL:https://www.wcsu.edu/events/calendar/lec-womens-volleyball-quarterfinals/
LOCATION:O’Neill Center\, 43 Lake Ave. Extension\, Danbury\, CT
CATEGORIES:Athletics
ATTACH;FMTTYPE=image/jpeg:https://www.wcsu.edu/events/wp-content/uploads/sites/181/2022/11/Volleyball-LEC-11-1-22-e1667315215271.jpg
END:VEVENT
BEGIN:VEVENT
DTSTART;TZID=UTC:20221030T120000
DTEND;TZID=UTC:20221030T150000
DTSTAMP:20260420T212418
CREATED:20220815T194652Z
LAST-MODIFIED:20220929T234300Z
UID:10062691-1667131200-1667142000@www.wcsu.edu
SUMMARY:JV Football
DESCRIPTION:JV FOOTBALL: JV Football vs. Sacred Heart University at noon at the Westside Athletic Complex. For more information\, visit https://westconnathletics.com/index.aspx.
URL:https://www.wcsu.edu/events/calendar/jv-football-3/
LOCATION:Westside Athletic Complex\, 43 Lake Ave. Extension\, Danbury\, CT
CATEGORIES:Athletics
ATTACH;FMTTYPE=image/jpeg:https://www.wcsu.edu/events/wp-content/uploads/sites/181/2022/08/JV-FB-10-30-22-e1664480571827.jpg
END:VEVENT
BEGIN:VEVENT
DTSTART;TZID=UTC:20221029T140000
DTEND;TZID=UTC:20221029T173000
DTSTAMP:20260420T212418
CREATED:20220815T194520Z
LAST-MODIFIED:20221003T172843Z
UID:10062692-1667052000-1667064600@www.wcsu.edu
SUMMARY:Football
DESCRIPTION:FOOTBALL: Football vs. Worcester State University (MA) at 2 p.m. at the Westside Athletic Complex. For more information\, visit https://westconnathletics.com/index.aspx.
URL:https://www.wcsu.edu/events/calendar/football-10/
LOCATION:Westside Athletic Complex\, 43 Lake Ave. Extension\, Danbury\, CT
CATEGORIES:Athletics
ATTACH;FMTTYPE=image/jpeg:https://www.wcsu.edu/events/wp-content/uploads/sites/181/2022/08/Football-10-29-22-e1664803704783.jpg
END:VEVENT
BEGIN:VEVENT
DTSTART;TZID=UTC:20221029T120000
DTEND;TZID=UTC:20221029T180000
DTSTAMP:20260420T212418
CREATED:20220815T195635Z
LAST-MODIFIED:20220929T224232Z
UID:10062690-1667044800-1667066400@www.wcsu.edu
SUMMARY:Women's Volleyball Tri-Match
DESCRIPTION:WOMEN’S VOLLEYBALL TRI-MATCH: Women’s Volleyball Tri-Match vs. University of Southern Maine at noon; USM vs. College of St. Vincent at 2 p.m.; and WCSU vs. CSV at 4 p.m. in the O’Neill Center on the Westside campus. For more information\, visit https://westconnathletics.com/index.aspx.
URL:https://www.wcsu.edu/events/calendar/womens-volleyball-tri-match/
LOCATION:O’Neill Center\, 43 Lake Ave. Extension\, Danbury\, CT
CATEGORIES:Athletics
ATTACH;FMTTYPE=image/jpeg:https://www.wcsu.edu/events/wp-content/uploads/sites/181/2022/08/Womens-VB-Tri-Match-10-29-22-e1664476169391.jpg
END:VEVENT
BEGIN:VEVENT
DTSTART;TZID=UTC:20221029T100000
DTEND;TZID=UTC:20221029T120000
DTSTAMP:20260420T212418
CREATED:20220815T183650Z
LAST-MODIFIED:20221001T002911Z
UID:10060438-1667037600-1667044800@www.wcsu.edu
SUMMARY:Women's Soccer
DESCRIPTION:WOMEN’S SOCCER: Women’s Soccer vs. University of Southern Maine at 10 a.m. at the Westside Athletic Complex. For more information\, visit https://westconnathletics.com/index.aspx.
URL:https://www.wcsu.edu/events/calendar/womens-soccer-9/
LOCATION:Westside Athletic Complex\, 43 Lake Ave. Extension\, Danbury\, CT
CATEGORIES:Athletics
ATTACH;FMTTYPE=image/jpeg:https://www.wcsu.edu/events/wp-content/uploads/sites/181/2022/08/Womens-Soccer-10-29-22-e1664569737631.jpg
END:VEVENT
BEGIN:VEVENT
DTSTART;TZID=UTC:20221026T180000
DTEND;TZID=UTC:20221026T200000
DTSTAMP:20260420T212418
CREATED:20220815T183833Z
LAST-MODIFIED:20220930T234654Z
UID:10060436-1666807200-1666814400@www.wcsu.edu
SUMMARY:Women's Soccer
DESCRIPTION:WOMEN’S SOCCER: Women’s Soccer vs. Bard College (NY) at 6 p.m. at the Westside Athletic Complex. For more information\, visit https://westconnathletics.com/index.aspx.
URL:https://www.wcsu.edu/events/calendar/womens-soccer-10/
LOCATION:Westside Athletic Complex\, 43 Lake Ave. Extension\, Danbury\, CT
CATEGORIES:Athletics
ATTACH;FMTTYPE=image/jpeg:https://www.wcsu.edu/events/wp-content/uploads/sites/181/2022/08/Womens-Soccer-10-26-22-e1664565899819.jpg
END:VEVENT
BEGIN:VEVENT
DTSTART;TZID=UTC:20221026T130000
DTEND;TZID=UTC:20221026T150000
DTSTAMP:20260420T212418
CREATED:20221024T162729Z
LAST-MODIFIED:20221025T234100Z
UID:10061418-1666789200-1666796400@www.wcsu.edu
SUMMARY:Cricket Workshop
DESCRIPTION:CHARITY WEEK: CRICKET WORKSHOP: Ever wanted to try playing cricket? The sport is believed to have originated somewhere in Europe but is now a widely popular international event. Come join the MSA as we host our first-ever cricket workshop\, where we’ll teach you how to play cricket and you’ll get the chance to swing the bat yourself! Please use the link below to register for this event. There is a $5 admission fee per person. All funds will go to a charity organized by Islamic Relief to help the people of Pakistan in light of recent events. Please click this link to register. \nFor any questions or concerns\, please email khan058@wcsu.edu.
URL:https://www.wcsu.edu/events/calendar/cricket-workshop/
LOCATION:Rec Field – Science Building Lawn\, 181 White St.\, Danbury\, CT
CATEGORIES:Athletics,Charity/Fundraising,Diversity,Entertainment,Food,Games,Health And Wellness,Outdoor,Public Events,Recreation,Social Event,Workshops,WOW
ATTACH;FMTTYPE=image/png:https://www.wcsu.edu/events/wp-content/uploads/sites/181/2022/10/WCSU-MSA-CW-Cricket-Workshop-revised-e1666614435500.png
ORGANIZER;CN="Muslim Student Association (MSA)":MAILTO:bande001@wcsu.edu
END:VEVENT
BEGIN:VEVENT
DTSTART;TZID=UTC:20221022T160000
DTEND;TZID=UTC:20221022T180000
DTSTAMP:20260420T212418
CREATED:20220815T183148Z
LAST-MODIFIED:20221020T184459Z
UID:10060434-1666454400-1666461600@www.wcsu.edu
SUMMARY:Men's Soccer
DESCRIPTION:MEN’S SOCCER: Men’s Soccer vs. UMass Boston at 4 p.m. at the Westside Athletic Complex. For more information\, visit https://westconnathletics.com/index.aspx.
URL:https://www.wcsu.edu/events/calendar/mens-soccer-11/
LOCATION:Westside Athletic Complex\, 43 Lake Ave. Extension\, Danbury\, CT
CATEGORIES:Athletics
ATTACH;FMTTYPE=image/jpeg:https://www.wcsu.edu/events/wp-content/uploads/sites/181/2022/08/Soccer-10-22-22-e1664474414511.jpg
END:VEVENT
BEGIN:VEVENT
DTSTART;TZID=UTC:20221022T130000
DTEND;TZID=UTC:20221022T150000
DTSTAMP:20260420T212418
CREATED:20220815T194836Z
LAST-MODIFIED:20220929T221926Z
UID:10060432-1666443600-1666450800@www.wcsu.edu
SUMMARY:Field Hockey
DESCRIPTION:FIELD HOCKEY: Field Hockey vs. Salem State University (MA) at 1 p.m. at the Westside Athletic Complex. For more information\, visit https://westconnathletics.com/index.aspx.
URL:https://www.wcsu.edu/events/calendar/field-hockey-18/
LOCATION:Westside Athletic Complex\, 43 Lake Ave. Extension\, Danbury\, CT
CATEGORIES:Athletics
ATTACH;FMTTYPE=image/jpeg:https://www.wcsu.edu/events/wp-content/uploads/sites/181/2022/08/Field-Hockey-10-22-22-e1664475561720.jpg
END:VEVENT
BEGIN:VEVENT
DTSTART;TZID=UTC:20221022T103000
DTEND;TZID=UTC:20221022T133000
DTSTAMP:20260420T212418
CREATED:20221017T162202Z
LAST-MODIFIED:20221017T162204Z
UID:10063099-1666434600-1666445400@www.wcsu.edu
SUMMARY:Sleeping Giant Hike
DESCRIPTION:SLEEPING GIANT MID DAY HIKE: Join the Adventure Club at Sleeping Giant State Park! We are hiking up the blue trail\, which is steep with some rock scrambling\, but the trail is short\, which means a lot of fun! Once we reach the top we will stop for lunch and admire the view; on a clear day you can see Long Island Sound. On the way down we will follow the tower trail\, which is a fire road\, so a nice and easy downhill. \nThe plan is to meet at the Sleeping Giant State Park parking lot at 10:45 a.m. and be back at the parking lot at 1:30 p.m. at the latest. Much more info on the Western Adventure Club page. \nWe’ll see you there!
URL:https://www.wcsu.edu/events/calendar/sleeping-giant-hike/
LOCATION:Off-campus Trip
CATEGORIES:Adventure,Athletics,Health And Wellness,Hiking,Outdoor
ATTACH;FMTTYPE=image/jpeg:https://www.wcsu.edu/events/wp-content/uploads/sites/181/2022/10/Sleeping-Giant-blue-trail.jpg
END:VEVENT
BEGIN:VEVENT
DTSTART;TZID=UTC:20221019T190000
DTEND;TZID=UTC:20221019T210000
DTSTAMP:20260420T212418
CREATED:20220815T194946Z
LAST-MODIFIED:20220929T220431Z
UID:10060430-1666206000-1666213200@www.wcsu.edu
SUMMARY:Men's Soccer
DESCRIPTION:MEN’S SOCCER: Men’s Soccer vs. Trinity College (CT) at 7 p.m. at the Westside Athletic Complex. For more information\, visit https://westconnathletics.com/index.aspx.
URL:https://www.wcsu.edu/events/calendar/mens-soccer-20/
LOCATION:Westside Athletic Complex\, 43 Lake Ave. Extension\, Danbury\, CT
CATEGORIES:Athletics
ATTACH;FMTTYPE=image/jpeg:https://www.wcsu.edu/events/wp-content/uploads/sites/181/2022/08/Soccer-10-19-22-e1664474664943.jpg
END:VEVENT
BEGIN:VEVENT
DTSTART;TZID=UTC:20221018T190000
DTEND;TZID=UTC:20221018T210000
DTSTAMP:20260420T212418
CREATED:20220815T195051Z
LAST-MODIFIED:20220923T002847Z
UID:10060428-1666119600-1666126800@www.wcsu.edu
SUMMARY:Women's Soccer
DESCRIPTION:WOMEN’S SOCCER: Women’s Soccer vs. Wesleyan University (CT) at 7 p.m. at the Westside Athletic Complex. For more information\, visit https://westconnathletics.com/index.aspx.
URL:https://www.wcsu.edu/events/calendar/womens-soccer-18/
LOCATION:Westside Athletic Complex\, 43 Lake Ave. Extension\, Danbury\, CT
CATEGORIES:Athletics
ATTACH;FMTTYPE=image/jpeg:https://www.wcsu.edu/events/wp-content/uploads/sites/181/2022/08/Womens-soccer-10-18-22-1-e1663878493848.jpg
END:VEVENT
BEGIN:VEVENT
DTSTART;TZID=UTC:20221018T160000
DTEND;TZID=UTC:20221018T180000
DTSTAMP:20260420T212418
CREATED:20220815T195225Z
LAST-MODIFIED:20220928T194814Z
UID:10060426-1666108800-1666116000@www.wcsu.edu
SUMMARY:Field Hockey
DESCRIPTION:FIELD HOCKEY: Field Hockey vs. Eastern Connecticut State University at 4 p.m. at the Westside Athletic Complex. For more information\, visit https://westconnathletics.com/index.aspx.
URL:https://www.wcsu.edu/events/calendar/field-hockey-19/
LOCATION:Westside Athletic Complex\, 43 Lake Ave. Extension\, Danbury\, CT
CATEGORIES:Athletics
ATTACH;FMTTYPE=image/jpeg:https://www.wcsu.edu/events/wp-content/uploads/sites/181/2022/08/Field-Hockey-10-18-22-e1664380081587.jpg
END:VEVENT
BEGIN:VEVENT
DTSTART;TZID=UTC:20221015T150000
DTEND;TZID=UTC:20221015T183000
DTSTAMP:20260420T212418
CREATED:20220815T194256Z
LAST-MODIFIED:20220923T213136Z
UID:10060424-1665846000-1665858600@www.wcsu.edu
SUMMARY:Football
DESCRIPTION:FOOTBALL: Football vs. Framingham State University (MA) at 3 p.m. at the Westside Athletic Complex. For more information\, visit https://westconnathletics.com/index.aspx.
URL:https://www.wcsu.edu/events/calendar/football-8/
LOCATION:Westside Athletic Complex\, 43 Lake Ave. Extension\, Danbury\, CT
CATEGORIES:Athletics
ATTACH;FMTTYPE=image/jpeg:https://www.wcsu.edu/events/wp-content/uploads/sites/181/2022/08/Football-10-15-22-e1663954290600.jpg
END:VEVENT
BEGIN:VEVENT
DTSTART;TZID=UTC:20221015T120000
DTEND;TZID=UTC:20221015T180000
DTSTAMP:20260420T212418
CREATED:20220815T195831Z
LAST-MODIFIED:20220923T001445Z
UID:10060419-1665835200-1665856800@www.wcsu.edu
SUMMARY:Women's Volleyball Tri-Match
DESCRIPTION:WOMEN’S VOLLEYBALL TRI-MATCH: Women’s Volleyball Tri-Match vs. UMass Dartmouth at noon; UMD vs. William Paterson at 2 p.m.; and WCSU vs. WPU at 4 p.m. in the O’Neill Center on the Westside campus. For more information\, visit https://westconnathletics.com/index.aspx.
URL:https://www.wcsu.edu/events/calendar/womens-volleyball-tri-match-2/
LOCATION:O’Neill Center\, 43 Lake Ave. Extension\, Danbury\, CT
CATEGORIES:Athletics
ATTACH;FMTTYPE=image/jpeg:https://www.wcsu.edu/events/wp-content/uploads/sites/181/2022/08/Volleyball-10-15-22-1-e1663877680949.jpg
END:VEVENT
END:VCALENDAR