BEGIN:VCALENDAR
VERSION:2.0
PRODID:-//WCSU Events - ECPv6.15.17.1//NONSGML v1.0//EN
CALSCALE:GREGORIAN
METHOD:PUBLISH
X-ORIGINAL-URL:https://www.wcsu.edu/events
X-WR-CALDESC:Events for WCSU Events
REFRESH-INTERVAL;VALUE=DURATION:PT1H
X-Robots-Tag:noindex
X-PUBLISHED-TTL:PT1H
BEGIN:VTIMEZONE
TZID:UTC
BEGIN:STANDARD
TZOFFSETFROM:+0000
TZOFFSETTO:+0000
TZNAME:UTC
DTSTART:20210101T000000
END:STANDARD
END:VTIMEZONE
BEGIN:VEVENT
DTSTART;TZID=UTC:20221022T103000
DTEND;TZID=UTC:20221022T133000
DTSTAMP:20260420T212644
CREATED:20221017T162202Z
LAST-MODIFIED:20221017T162204Z
UID:10063099-1666434600-1666445400@www.wcsu.edu
SUMMARY:Sleeping Giant Hike
DESCRIPTION:SLEEPING GIANT MID DAY HIKE: Join the Adventure Club at Sleeping Giant State Park! We are hiking up the blue trail\, which is steep with some rock scrambling\, but the trail is short\, which means a lot of fun! Once we reach the top we will stop for lunch and admire the view; on a clear day you can see Long Island Sound. On the way down we will follow the tower trail\, which is a fire road\, so a nice and easy downhill. \nThe plan is to meet at the Sleeping Giant State Park parking lot at 10:45 a.m. and be back at the parking lot at 1:30 p.m. at the latest. Much more info on the Western Adventure Club page. \nWe’ll see you there!
URL:https://www.wcsu.edu/events/calendar/sleeping-giant-hike/
LOCATION:Off-campus Trip
CATEGORIES:Adventure,Athletics,Health And Wellness,Hiking,Outdoor
ATTACH;FMTTYPE=image/jpeg:https://www.wcsu.edu/events/wp-content/uploads/sites/181/2022/10/Sleeping-Giant-blue-trail.jpg
END:VEVENT
BEGIN:VEVENT
DTSTART;TZID=UTC:20221019T190000
DTEND;TZID=UTC:20221019T210000
DTSTAMP:20260420T212644
CREATED:20220815T194946Z
LAST-MODIFIED:20220929T220431Z
UID:10060430-1666206000-1666213200@www.wcsu.edu
SUMMARY:Men's Soccer
DESCRIPTION:MEN’S SOCCER: Men’s Soccer vs. Trinity College (CT) at 7 p.m. at the Westside Athletic Complex. For more information\, visit https://westconnathletics.com/index.aspx.
URL:https://www.wcsu.edu/events/calendar/mens-soccer-20/
LOCATION:Westside Athletic Complex\, 43 Lake Ave. Extension\, Danbury\, CT
CATEGORIES:Athletics
ATTACH;FMTTYPE=image/jpeg:https://www.wcsu.edu/events/wp-content/uploads/sites/181/2022/08/Soccer-10-19-22-e1664474664943.jpg
END:VEVENT
BEGIN:VEVENT
DTSTART;TZID=UTC:20221018T190000
DTEND;TZID=UTC:20221018T210000
DTSTAMP:20260420T212644
CREATED:20220815T195051Z
LAST-MODIFIED:20220923T002847Z
UID:10060428-1666119600-1666126800@www.wcsu.edu
SUMMARY:Women's Soccer
DESCRIPTION:WOMEN’S SOCCER: Women’s Soccer vs. Wesleyan University (CT) at 7 p.m. at the Westside Athletic Complex. For more information\, visit https://westconnathletics.com/index.aspx.
URL:https://www.wcsu.edu/events/calendar/womens-soccer-18/
LOCATION:Westside Athletic Complex\, 43 Lake Ave. Extension\, Danbury\, CT
CATEGORIES:Athletics
ATTACH;FMTTYPE=image/jpeg:https://www.wcsu.edu/events/wp-content/uploads/sites/181/2022/08/Womens-soccer-10-18-22-1-e1663878493848.jpg
END:VEVENT
BEGIN:VEVENT
DTSTART;TZID=UTC:20221018T160000
DTEND;TZID=UTC:20221018T180000
DTSTAMP:20260420T212644
CREATED:20220815T195225Z
LAST-MODIFIED:20220928T194814Z
UID:10060426-1666108800-1666116000@www.wcsu.edu
SUMMARY:Field Hockey
DESCRIPTION:FIELD HOCKEY: Field Hockey vs. Eastern Connecticut State University at 4 p.m. at the Westside Athletic Complex. For more information\, visit https://westconnathletics.com/index.aspx.
URL:https://www.wcsu.edu/events/calendar/field-hockey-19/
LOCATION:Westside Athletic Complex\, 43 Lake Ave. Extension\, Danbury\, CT
CATEGORIES:Athletics
ATTACH;FMTTYPE=image/jpeg:https://www.wcsu.edu/events/wp-content/uploads/sites/181/2022/08/Field-Hockey-10-18-22-e1664380081587.jpg
END:VEVENT
BEGIN:VEVENT
DTSTART;TZID=UTC:20221015T150000
DTEND;TZID=UTC:20221015T183000
DTSTAMP:20260420T212644
CREATED:20220815T194256Z
LAST-MODIFIED:20220923T213136Z
UID:10060424-1665846000-1665858600@www.wcsu.edu
SUMMARY:Football
DESCRIPTION:FOOTBALL: Football vs. Framingham State University (MA) at 3 p.m. at the Westside Athletic Complex. For more information\, visit https://westconnathletics.com/index.aspx.
URL:https://www.wcsu.edu/events/calendar/football-8/
LOCATION:Westside Athletic Complex\, 43 Lake Ave. Extension\, Danbury\, CT
CATEGORIES:Athletics
ATTACH;FMTTYPE=image/jpeg:https://www.wcsu.edu/events/wp-content/uploads/sites/181/2022/08/Football-10-15-22-e1663954290600.jpg
END:VEVENT
BEGIN:VEVENT
DTSTART;TZID=UTC:20221015T120000
DTEND;TZID=UTC:20221015T180000
DTSTAMP:20260420T212644
CREATED:20220815T195831Z
LAST-MODIFIED:20220923T001445Z
UID:10060419-1665835200-1665856800@www.wcsu.edu
SUMMARY:Women's Volleyball Tri-Match
DESCRIPTION:WOMEN’S VOLLEYBALL TRI-MATCH: Women’s Volleyball Tri-Match vs. UMass Dartmouth at noon; UMD vs. William Paterson at 2 p.m.; and WCSU vs. WPU at 4 p.m. in the O’Neill Center on the Westside campus. For more information\, visit https://westconnathletics.com/index.aspx.
URL:https://www.wcsu.edu/events/calendar/womens-volleyball-tri-match-2/
LOCATION:O’Neill Center\, 43 Lake Ave. Extension\, Danbury\, CT
CATEGORIES:Athletics
ATTACH;FMTTYPE=image/jpeg:https://www.wcsu.edu/events/wp-content/uploads/sites/181/2022/08/Volleyball-10-15-22-1-e1663877680949.jpg
END:VEVENT
BEGIN:VEVENT
DTSTART;TZID=UTC:20221015T110000
DTEND;TZID=UTC:20221015T130000
DTSTAMP:20260420T212644
CREATED:20220815T184215Z
LAST-MODIFIED:20220922T231853Z
UID:10060417-1665831600-1665838800@www.wcsu.edu
SUMMARY:Women's Soccer
DESCRIPTION:WOMEN’S SOCCER: Women’s Soccer vs. UMass Dartmouth at 11 a.m. at the Westside Athletic Complex. For more information\, visit https://westconnathletics.com/index.aspx.
URL:https://www.wcsu.edu/events/calendar/womens-soccer-11/
LOCATION:Westside Athletic Complex\, 43 Lake Ave. Extension\, Danbury\, CT
CATEGORIES:Athletics
ATTACH;FMTTYPE=image/jpeg:https://www.wcsu.edu/events/wp-content/uploads/sites/181/2022/08/Womens-Soccer-10-15-22-e1663873935407.jpg
END:VEVENT
BEGIN:VEVENT
DTSTART;TZID=UTC:20221013T180000
DTEND;TZID=UTC:20221013T200000
DTSTAMP:20260420T212644
CREATED:20220815T184353Z
LAST-MODIFIED:20220922T182239Z
UID:10062689-1665684000-1665691200@www.wcsu.edu
SUMMARY:Field Hockey
DESCRIPTION:FIELD HOCKEY: Field Hockey vs. William Paterson University (NJ) at 6 p.m. at the Westside Athletic Complex. For more information\, visit https://westconnathletics.com/index.aspx.
URL:https://www.wcsu.edu/events/calendar/field-hockey-10/
LOCATION:Westside Athletic Complex\, 43 Lake Ave. Extension\, Danbury\, CT
CATEGORIES:Athletics
ATTACH;FMTTYPE=image/jpeg:https://www.wcsu.edu/events/wp-content/uploads/sites/181/2022/08/Field-Hockey-10-13-22-e1663856552977.jpg
END:VEVENT
BEGIN:VEVENT
DTSTART;TZID=UTC:20221009T130000
DTEND;TZID=UTC:20221009T150000
DTSTAMP:20260420T212644
CREATED:20220815T184519Z
LAST-MODIFIED:20220922T165347Z
UID:10062688-1665320400-1665327600@www.wcsu.edu
SUMMARY:Men's Soccer
DESCRIPTION:MEN’S SOCCER: Men’s soccer vs. U. S. Merchant Marine Academy (NY) at 1 p.m. at the Westside Athletic Complex. For more information\, visit https://westconnathletics.com/index.aspx.
URL:https://www.wcsu.edu/events/calendar/mens-soccer-12/
LOCATION:Westside Athletic Complex\, 43 Lake Ave. Extension\, Danbury\, CT
CATEGORIES:Athletics
ATTACH;FMTTYPE=image/jpeg:https://www.wcsu.edu/events/wp-content/uploads/sites/181/2022/08/Mens-Soccer-10-9-22-e1663851213681.jpg
END:VEVENT
BEGIN:VEVENT
DTSTART;TZID=UTC:20221008T120000
DTEND;TZID=UTC:20221008T140000
DTSTAMP:20260420T212644
CREATED:20220815T184648Z
LAST-MODIFIED:20220922T230959Z
UID:10062687-1665230400-1665237600@www.wcsu.edu
SUMMARY:Men's Soccer
DESCRIPTION:MEN’S SOCCER: Men’s soccer vs. Plymouth State University (NH) at noon at the Westside Athletic Complex. For more information\, visit https://westconnathletics.com/index.aspx.
URL:https://www.wcsu.edu/events/calendar/mens-soccer-13/
LOCATION:Westside Athletic Complex\, 43 Lake Ave. Extension\, Danbury\, CT
CATEGORIES:Athletics
ATTACH;FMTTYPE=image/jpeg:https://www.wcsu.edu/events/wp-content/uploads/sites/181/2022/08/Mens-Soccer-10-8-22-e1663873780294.jpg
END:VEVENT
BEGIN:VEVENT
DTSTART;TZID=UTC:20221006T190000
DTEND;TZID=UTC:20221006T210000
DTSTAMP:20260420T212644
CREATED:20220815T184929Z
LAST-MODIFIED:20220921T221821Z
UID:10062686-1665082800-1665090000@www.wcsu.edu
SUMMARY:Women's Volleyball
DESCRIPTION:WOMEN’S VOLLEYBALL: Women’s Volleyball vs. Purchase College (NY) at 7 p.m. at the O’Neill Center on the Westside campus. For more information\, visit https://westconnathletics.com/index.aspx.
URL:https://www.wcsu.edu/events/calendar/womens-volleyball-8/
LOCATION:O’Neill Center\, 43 Lake Ave. Extension\, Danbury\, CT
CATEGORIES:Athletics
ATTACH;FMTTYPE=image/jpeg:https://www.wcsu.edu/events/wp-content/uploads/sites/181/2022/08/Volleyball-10-6-22-e1663784295765.jpg
END:VEVENT
BEGIN:VEVENT
DTSTART;TZID=UTC:20221005T153000
DTEND;TZID=UTC:20221005T183000
DTSTAMP:20260420T212644
CREATED:20220815T185102Z
LAST-MODIFIED:20220922T182514Z
UID:10062685-1664983800-1664994600@www.wcsu.edu
SUMMARY:Women's Tennis
DESCRIPTION:WOMEN’S TENNIS: Women’s Tennis vs. Bridgewater State University (MA) at 3:30 p.m. at the Westside Tennis Courts. For more information\, visit https://westconnathletics.com/index.aspx.
URL:https://www.wcsu.edu/events/calendar/womens-tennis-7/
LOCATION:Westside Tennis Courts\, 43 Lake Ave. Extension\, Danbury\, CT
CATEGORIES:Athletics
ATTACH;FMTTYPE=image/jpeg:https://www.wcsu.edu/events/wp-content/uploads/sites/181/2022/08/Tennis-10-5-22-e1663856708658.jpg
END:VEVENT
BEGIN:VEVENT
DTSTART;TZID=UTC:20221003T153000
DTEND;TZID=UTC:20221003T183000
DTSTAMP:20260420T212644
CREATED:20220815T185233Z
LAST-MODIFIED:20220922T173434Z
UID:10062684-1664811000-1664821800@www.wcsu.edu
SUMMARY:Women's Tennis
DESCRIPTION:WOMEN’S TENNIS: Women’s Tennis vs. University of St. Joseph (CT) at 3:30 p.m. at the Westside Tennis Courts. For more information\, visit https://westconnathletics.com/index.aspx.
URL:https://www.wcsu.edu/events/calendar/womens-tennis-8/
LOCATION:Westside Tennis Courts\, 43 Lake Ave. Extension\, Danbury\, CT
CATEGORIES:Athletics
ATTACH;FMTTYPE=image/jpeg:https://www.wcsu.edu/events/wp-content/uploads/sites/181/2022/08/Tennis-10-3-22-e1663853659145.jpg
END:VEVENT
BEGIN:VEVENT
DTSTART;TZID=UTC:20221002T140000
DTEND;TZID=UTC:20221002T170000
DTSTAMP:20260420T212644
CREATED:20220815T185605Z
LAST-MODIFIED:20220919T185528Z
UID:10062683-1664719200-1664730000@www.wcsu.edu
SUMMARY:JV Football
DESCRIPTION:JV FOOTBALL: JV Football vs. FDU-Florham at 2 p.m. at the Westside Athletic Complex. For more information\, visit https://westconnathletics.com/index.aspx.
URL:https://www.wcsu.edu/events/calendar/jv-football/
LOCATION:Westside Athletic Complex\, 43 Lake Ave. Extension\, Danbury\, CT
CATEGORIES:Athletics
ATTACH;FMTTYPE=image/jpeg:https://www.wcsu.edu/events/wp-content/uploads/sites/181/2022/08/WCSU-JV-FB-10-2-22-e1663599312971.jpg
END:VEVENT
BEGIN:VEVENT
DTSTART;TZID=UTC:20221001T160000
DTEND;TZID=UTC:20221001T160000
DTSTAMP:20260420T212644
CREATED:20220815T185859Z
LAST-MODIFIED:20220922T165023Z
UID:10062682-1664640000-1664640000@www.wcsu.edu
SUMMARY:Men's Soccer
DESCRIPTION:MEN’S SOCCER: Men’s Soccer vs. Castleton University (VT) at 4 p.m. at the Westside Athletic Complex. For more information\, visit https://westconnathletics.com/index.aspx.
URL:https://www.wcsu.edu/events/calendar/mens-soccer-14/
LOCATION:Westside Athletic Complex\, 43 Lake Ave. Extension\, Danbury\, CT
CATEGORIES:Athletics
ATTACH;FMTTYPE=image/jpeg:https://www.wcsu.edu/events/wp-content/uploads/sites/181/2022/08/Mens-Soccer-10-1-22-e1663851008194.jpg
END:VEVENT
BEGIN:VEVENT
DTSTART;TZID=UTC:20221001T130000
DTEND;TZID=UTC:20221001T150000
DTSTAMP:20260420T212644
CREATED:20220815T190050Z
LAST-MODIFIED:20220922T224331Z
UID:10062681-1664629200-1664636400@www.wcsu.edu
SUMMARY:Field Hockey
DESCRIPTION:FIELD HOCKEY: Field Hockey vs. Castleton University (VT) at 1 p.m. at the Westside Athletic Complex. For more information\, visit https://westconnathletics.com/index.aspx.
URL:https://www.wcsu.edu/events/calendar/field-hockey-11/
LOCATION:Westside Athletic Complex\, 43 Lake Ave. Extension\, Danbury\, CT
CATEGORIES:Athletics
ATTACH;FMTTYPE=image/jpeg:https://www.wcsu.edu/events/wp-content/uploads/sites/181/2022/08/Field-Hockey-10-1-22-e1663872199641.jpg
END:VEVENT
BEGIN:VEVENT
DTSTART;TZID=UTC:20221001T100000
DTEND;TZID=UTC:20221001T140000
DTSTAMP:20260420T212644
CREATED:20220920T190037Z
LAST-MODIFIED:20220920T190730Z
UID:10062766-1664618400-1664632800@www.wcsu.edu
SUMMARY:Rock Climbing
DESCRIPTION:ROCK CLIMBING: Join the adventure club for a morning of outdoor rock climbing from 10 a.m. to 2 p.m. No experience needed\, just a love for the outdoors and adventure! Attendance is limited so sign up on Engage. Meet off campus at Orenaug Park in Woodbury\, CT. Coordinates: 41.535983\, -73.204195
URL:https://www.wcsu.edu/events/calendar/rock-climbing/
LOCATION:Off-campus Trip
CATEGORIES:Athletics,Outdoor,Trip
ATTACH;FMTTYPE=image/jpeg:https://www.wcsu.edu/events/wp-content/uploads/sites/181/2022/09/rc1.jpeg
END:VEVENT
BEGIN:VEVENT
DTSTART;TZID=UTC:20220928T190000
DTEND;TZID=UTC:20220928T210000
DTSTAMP:20260420T212644
CREATED:20220815T190247Z
LAST-MODIFIED:20220921T222242Z
UID:10062680-1664391600-1664398800@www.wcsu.edu
SUMMARY:Women's Volleyball
DESCRIPTION:WOMEN’S VOLLEYBALL: Women’s Volleyball vs. Eastern Connecticut State University at 7 p.m. at the O’Neill Center on the Westside campus. For more information\, visit https://westconnathletics.com/index.aspx.
URL:https://www.wcsu.edu/events/calendar/womens-volleyball-9/
LOCATION:O’Neill Center\, 43 Lake Ave. Extension\, Danbury\, CT
CATEGORIES:Athletics
ATTACH;FMTTYPE=image/jpeg:https://www.wcsu.edu/events/wp-content/uploads/sites/181/2022/08/Volleyball-9-28-22-e1663784475309.jpg
END:VEVENT
BEGIN:VEVENT
DTSTART;TZID=UTC:20220928T180000
DTEND;TZID=UTC:20220928T200000
DTSTAMP:20260420T212644
CREATED:20220815T190717Z
LAST-MODIFIED:20220922T163354Z
UID:10062679-1664388000-1664395200@www.wcsu.edu
SUMMARY:Women's Soccer
DESCRIPTION:WOMEN’S SOCCER: Women’s Soccer vs. Eastern Connecticut State University at 6 p.m. at the Westside Athletic Complex. For more information\, visit https://westconnathletics.com/index.aspx.
URL:https://www.wcsu.edu/events/calendar/womens-soccer-13/
LOCATION:O’Neill Center\, 43 Lake Ave. Extension\, Danbury\, CT
CATEGORIES:Athletics
ATTACH;FMTTYPE=image/jpeg:https://www.wcsu.edu/events/wp-content/uploads/sites/181/2022/08/Womens-soccer-9-28-22-e1663850030531.jpg
END:VEVENT
BEGIN:VEVENT
DTSTART;TZID=UTC:20220927T180000
DTEND;TZID=UTC:20220927T200000
DTSTAMP:20260420T212644
CREATED:20220815T190930Z
LAST-MODIFIED:20220922T225055Z
UID:10062678-1664301600-1664308800@www.wcsu.edu
SUMMARY:Field Hockey
DESCRIPTION:FIELD HOCKEY: Field Hockey vs. Framingham State University (MA) at 6 p.m. at the Westside Athletic Complex. For more information\, visit https://westconnathletics.com/index.aspx.
URL:https://www.wcsu.edu/events/calendar/field-hockey-12/
LOCATION:Westside Athletic Complex\, 43 Lake Ave. Extension\, Danbury\, CT
CATEGORIES:Athletics
ATTACH;FMTTYPE=image/jpeg:https://www.wcsu.edu/events/wp-content/uploads/sites/181/2022/08/Field-Hockey-9-27-22-e1663872586131.jpg
END:VEVENT
BEGIN:VEVENT
DTSTART;TZID=UTC:20220927T153000
DTEND;TZID=UTC:20220927T183000
DTSTAMP:20260420T212644
CREATED:20220815T191052Z
LAST-MODIFIED:20220922T002909Z
UID:10062677-1664292600-1664303400@www.wcsu.edu
SUMMARY:Women's Tennis
DESCRIPTION:WOMEN’S TENNIS: Women’s Tennis vs. Rhode Island College at 3:30 p.m. at the Westside Tennis Courts. For more information\, visit https://westconnathletics.com/index.aspx.
URL:https://www.wcsu.edu/events/calendar/womens-tennis-9/
LOCATION:Westside Tennis Courts\, 43 Lake Ave. Extension\, Danbury\, CT
CATEGORIES:Athletics
ATTACH;FMTTYPE=image/jpeg:https://www.wcsu.edu/events/wp-content/uploads/sites/181/2022/08/Tennis-9-27-e1663792139958.jpg
END:VEVENT
BEGIN:VEVENT
DTSTART;TZID=UTC:20220926T190000
DTEND;TZID=UTC:20220926T210000
DTSTAMP:20260420T212644
CREATED:20220815T191233Z
LAST-MODIFIED:20220922T215921Z
UID:10062676-1664218800-1664226000@www.wcsu.edu
SUMMARY:Women's Volleyball
DESCRIPTION:WOMEN’S VOLLEYBALL: Women’s Volleyball vs. Mitchell College (CT) at 7 p.m. at the O’Neill Center on the Westside campus. For more information\, visit https://westconnathletics.com/index.aspx.
URL:https://www.wcsu.edu/events/calendar/womens-volleyball-10/
LOCATION:O’Neill Center\, 43 Lake Ave. Extension\, Danbury\, CT
CATEGORIES:Athletics
ATTACH;FMTTYPE=image/jpeg:https://www.wcsu.edu/events/wp-content/uploads/sites/181/2022/08/Volleyball-9-26-22-e1663869549306.jpg
END:VEVENT
BEGIN:VEVENT
DTSTART;TZID=UTC:20220924T170000
DTEND;TZID=UTC:20220924T203000
DTSTAMP:20260420T212644
CREATED:20220815T194148Z
LAST-MODIFIED:20220922T192450Z
UID:10062675-1664038800-1664051400@www.wcsu.edu
SUMMARY:Football
DESCRIPTION:FOOTBALL: Football vs. Bridgewater State University (MA) at 5 p.m. at the Westside Athletic Complex. For more information\, visit https://westconnathletics.com/index.aspx.
URL:https://www.wcsu.edu/events/calendar/football-7/
LOCATION:Westside Athletic Complex\, 43 Lake Ave. Extension\, Danbury\, CT
CATEGORIES:Athletics
ATTACH;FMTTYPE=image/jpeg:https://www.wcsu.edu/events/wp-content/uploads/sites/181/2022/08/Homecoming-FB-9-24-22.jpg
END:VEVENT
BEGIN:VEVENT
DTSTART;TZID=UTC:20220924T130000
DTEND;TZID=UTC:20220924T150000
DTSTAMP:20260420T212644
CREATED:20220815T194030Z
LAST-MODIFIED:20220922T181605Z
UID:10062674-1664024400-1664031600@www.wcsu.edu
SUMMARY:Field Hockey
DESCRIPTION:FIELD HOCKEY: Field Hockey vs. Keene State College (NH) at 1 p.m. at the Westside Athletic Complex. For more information\, visit https://westconnathletics.com/index.aspx.
URL:https://www.wcsu.edu/events/calendar/field-hockey-17/
LOCATION:Westside Athletic Complex\, 43 Lake Ave. Extension\, Danbury\, CT
CATEGORIES:Athletics
ATTACH;FMTTYPE=image/jpeg:https://www.wcsu.edu/events/wp-content/uploads/sites/181/2022/08/Field-Hockey-9-24-22-e1663856151465.jpg
END:VEVENT
BEGIN:VEVENT
DTSTART;TZID=UTC:20220924T120000
DTEND;TZID=UTC:20220924T180000
DTSTAMP:20260420T212644
CREATED:20220815T200007Z
LAST-MODIFIED:20220921T222738Z
UID:10062673-1664020800-1664042400@www.wcsu.edu
SUMMARY:Women's Volleyball
DESCRIPTION:WOMEN’S VOLLEYBALL TRI-MATCH: Women’s Volleyball Tri-Match vs. Keene State College at noon; Keene State vs. Hunter College at 2 p.m.; and WCSU vs. Hunter at 4 p.m. in the O’Neill Center on the Westside campus. For more information\, visit https://westconnathletics.com/index.aspx.
URL:https://www.wcsu.edu/events/calendar/womens-volleyball-12/
LOCATION:O’Neill Center\, 43 Lake Ave. Extension\, Danbury\, CT
CATEGORIES:Athletics
ATTACH;FMTTYPE=image/jpeg:https://www.wcsu.edu/events/wp-content/uploads/sites/181/2022/08/Womens-Volleyball-Tri-Match-9-24-22--e1663784845218.jpg
END:VEVENT
BEGIN:VEVENT
DTSTART;TZID=UTC:20220924T120000
DTEND;TZID=UTC:20220924T170000
DTSTAMP:20260420T212644
CREATED:20220616T001032Z
LAST-MODIFIED:20220923T011536Z
UID:10062575-1664020800-1664038800@www.wcsu.edu
SUMMARY:Homecoming
DESCRIPTION:HOMECOMING: Alumni\, students\, faculty\, staff\, and parents are invited to join us for tailgating\, food trucks\, corn hole game competition\, a kids’ section\, and a football game to close out the afternoon. \nHomecoming Program (PDF) \nSchedule: \nnoon to 5 p.m.\nHomecoming Food Truck Festival – Commuter Parking Lot (Free for students only – parents can purchase food)\nSponsored by the Homecoming Committee\, Alumni Association\, Program Activities Council\, Student Government Association\nSweet Cupcasions\, Ice Cream Emergency\, Weenie Lynn’s\, DrewbaQ\, and Fried Dough Cart. Prices determined by each vendor. \nHomecoming Tailgating – Commuter Parking Lot\nPre-Register through Alumni Office \nAlumni Reunion City – Alumni Pavilion\nJoin alumni and friends for some good cheer\, music and Karaoke at this traditional Homecoming favorite. \nStreet Fair Activities – Commuter Parking Lot\nHave a little fun with inflatables\, activities\, and more! \n5:00 p.m.\nWCSU Football Game – Westside Athletic Complex\nWestConn vs. Bridgewater State University
URL:https://www.wcsu.edu/events/calendar/homecoming/
LOCATION:Westside Alumni Pavilion\, 43 Lake Ave. Extension\, Danbury\, CT\, 06811
CATEGORIES:Alumni,Athletics,Food,Homecoming,Public Events,Social Event,WOW
ATTACH;FMTTYPE=image/jpeg:https://www.wcsu.edu/events/wp-content/uploads/sites/181/2022/06/Homecoming.jpg
ORGANIZER;CN="WCSU Alumni Association":MAILTO:crucittit@wcsu.edu
END:VEVENT
BEGIN:VEVENT
DTSTART;TZID=UTC:20220923T180000
DTEND;TZID=UTC:20220923T200000
DTSTAMP:20260420T212644
CREATED:20220815T193923Z
LAST-MODIFIED:20220922T163139Z
UID:10062672-1663956000-1663963200@www.wcsu.edu
SUMMARY:Women's Soccer
DESCRIPTION:WOMEN’S SOCCER: Women’s Soccer vs. Keene State College (NH) at 6 p.m. at the Westside Athletic Complex. For more information\, visit https://westconnathletics.com/index.aspx.
URL:https://www.wcsu.edu/events/calendar/womens-soccer-17/
LOCATION:Westside Athletic Complex\, 43 Lake Ave. Extension\, Danbury\, CT
CATEGORIES:Athletics
ATTACH;FMTTYPE=image/jpeg:https://www.wcsu.edu/events/wp-content/uploads/sites/181/2022/08/Womens-soccer-9-23-22-e1663849886428.jpg
END:VEVENT
BEGIN:VEVENT
DTSTART;TZID=UTC:20220923T173000
DTEND;TZID=UTC:20220923T220000
DTSTAMP:20260420T212644
CREATED:20220721T173040Z
LAST-MODIFIED:20220721T173041Z
UID:10060373-1663954200-1663970400@www.wcsu.edu
SUMMARY:Athletic Hall of Fame Induction Ceremony
DESCRIPTION:ATHLETIC HALL OF FAME INDUCTION CEREMONY: The Athletic Hall of Fame Induction Ceremony for the Class of 2020 will be from 5:30 to 10 p.m. at the Amber Room Colonnade. The cost per guest is $75\, or a table for 10 for $700. For more information or to make a reservation\, contact Tom Crucitti at crucittit@wcsu.edu or call (203) 837-9090.
URL:https://www.wcsu.edu/events/calendar/athletic-hall-of-fame-induction-ceremony/
LOCATION:Amber Room Colonnade\, 1 Stacy Road\, Danbury\, United States
CATEGORIES:Alumni,Athletics
ATTACH;FMTTYPE=image/jpeg:https://www.wcsu.edu/events/wp-content/uploads/sites/181/2022/07/hall-of-fame-2018.jpg
ORGANIZER;CN="WCSU Alumni Association":MAILTO:crucittit@wcsu.edu
END:VEVENT
BEGIN:VEVENT
DTSTART;TZID=UTC:20220923T153000
DTEND;TZID=UTC:20220923T193000
DTSTAMP:20260420T212644
CREATED:20220815T200434Z
LAST-MODIFIED:20220922T173132Z
UID:10062671-1663947000-1663961400@www.wcsu.edu
SUMMARY:Women's Tennis
DESCRIPTION:WOMEN’S TENNIS: Women’s Tennis vs. John Jay College of Criminal Justice (NY) at 3:30 p.m. at the Westside Tennis Courts. For more information\, visit https://westconnathletics.com/index.aspx.
URL:https://www.wcsu.edu/events/calendar/womens-tennis-12/
LOCATION:Westside Tennis Courts\, 43 Lake Ave. Extension\, Danbury\, CT
CATEGORIES:Athletics
ATTACH;FMTTYPE=image/jpeg:https://www.wcsu.edu/events/wp-content/uploads/sites/181/2022/08/W-Tennis-9-23-22--e1663853485985.jpg
END:VEVENT
BEGIN:VEVENT
DTSTART;TZID=UTC:20220922T180000
DTEND;TZID=UTC:20220922T200000
DTSTAMP:20260420T212644
CREATED:20220815T193746Z
LAST-MODIFIED:20220922T164730Z
UID:10062670-1663869600-1663876800@www.wcsu.edu
SUMMARY:Men's Soccer
DESCRIPTION:MEN’S SOCCER: Men’s Soccer vs. Lehman College (NY) at 6 p.m. at the Westside Athletic Complex. For more information\, visit https://westconnathletics.com/index.aspx.
URL:https://www.wcsu.edu/events/calendar/mens-soccer-19/
LOCATION:Westside Athletic Complex\, 43 Lake Ave. Extension\, Danbury\, CT
CATEGORIES:Athletics
ATTACH;FMTTYPE=image/jpeg:https://www.wcsu.edu/events/wp-content/uploads/sites/181/2022/08/Mens-Soccer-9-22-22-e1663850266510.jpg
END:VEVENT
END:VCALENDAR