BEGIN:VCALENDAR
VERSION:2.0
PRODID:-//WCSU Events - ECPv6.15.17.1//NONSGML v1.0//EN
CALSCALE:GREGORIAN
METHOD:PUBLISH
X-WR-CALNAME:WCSU Events
X-ORIGINAL-URL:https://www.wcsu.edu/events
X-WR-CALDESC:Events for WCSU Events
REFRESH-INTERVAL;VALUE=DURATION:PT1H
X-Robots-Tag:noindex
X-PUBLISHED-TTL:PT1H
BEGIN:VTIMEZONE
TZID:America/New_York
BEGIN:DAYLIGHT
TZOFFSETFROM:-0500
TZOFFSETTO:-0400
TZNAME:EDT
DTSTART:20250309T070000
END:DAYLIGHT
BEGIN:STANDARD
TZOFFSETFROM:-0400
TZOFFSETTO:-0500
TZNAME:EST
DTSTART:20251102T060000
END:STANDARD
BEGIN:DAYLIGHT
TZOFFSETFROM:-0500
TZOFFSETTO:-0400
TZNAME:EDT
DTSTART:20260308T070000
END:DAYLIGHT
BEGIN:STANDARD
TZOFFSETFROM:-0400
TZOFFSETTO:-0500
TZNAME:EST
DTSTART:20261101T060000
END:STANDARD
BEGIN:DAYLIGHT
TZOFFSETFROM:-0500
TZOFFSETTO:-0400
TZNAME:EDT
DTSTART:20270314T070000
END:DAYLIGHT
BEGIN:STANDARD
TZOFFSETFROM:-0400
TZOFFSETTO:-0500
TZNAME:EST
DTSTART:20271107T060000
END:STANDARD
END:VTIMEZONE
BEGIN:VEVENT
DTSTART;TZID=America/New_York:20260210T123000
DTEND;TZID=America/New_York:20260210T131500
DTSTAMP:20260420T015023
CREATED:20260129T221927Z
LAST-MODIFIED:20260129T222630Z
UID:10074158-1770726600-1770729300@www.wcsu.edu
SUMMARY:Virtual Internship Information Session
DESCRIPTION:VIRTUAL INTERNSHIP INFORMATION SESSION: Do you need to complete an internship before graduation\, but aren’t sure where to start? The Career Success Center is hosting a Virtual Internship Information Session for WCSU students of ALL MAJORS. You’ll learn about applying for an internship\, the requirements you need before applying\, tips for finding and securing opportunities\, and much more! Register on Handshake at https://wcsu.joinhandshake.com/login to receive login link.\nIf you have any questions\, please email Katherine Corsillo at corsillok@wcsu.edu \nSessions are scheduled for: \nTuesday\, Feb. 10\, at 12:30 p.m. \nThursday\, March 12\, at 12:30 p.m. \nTuesday\, April 7\, at 12:30 p.m. \nThursday\, May 7\, at 12:30 p.m.
URL:https://www.wcsu.edu/events/calendar/internship-information-session-6/2026-02-10/
LOCATION:Virtual event
CATEGORIES:Career search,Information Session
ATTACH;FMTTYPE=image/jpeg:https://www.wcsu.edu/events/wp-content/uploads/sites/181/2026/01/Spring-2026-Internship-Information-Sessions-WOW.jpg
END:VEVENT
BEGIN:VEVENT
DTSTART;TZID=America/New_York:20260210T130000
DTEND;TZID=America/New_York:20260210T140000
DTSTAMP:20260420T015023
CREATED:20260106T140048Z
LAST-MODIFIED:20260106T140048Z
UID:10074081-1770728400-1770732000@www.wcsu.edu
SUMMARY:Graduate Virtual Information Sessions
DESCRIPTION:GRADUATE VIRTUAL INFORMATION SESSIONS: At Western Connecticut State University\, we are committed to helping you achieve your goals with flexible\, high-quality graduate programs designed to enhance your career opportunities and personal growth. \nOur Virtual Information Sessions provide an opportunity to connect with faculty and program coordinators to learn more about our graduate programs. Whether you are exploring your options or ready to apply\, these sessions will give you valuable insights into program structure\, curriculum\, admission requirements\, and career prospects. \nJoin us to discover how a WestConn graduate degree can help you stand out in today’s competitive job market. Register for an upcoming virtual information session and take the first step toward achieving your academic and professional aspirations! \nClick here to register for a virtual information session. \n\n\n\n\n\n\n\n\n\n\n\n\n\n\n\n\n\n\nFebruary 2026 \n\nFriday\, 02/06/2025\, 6 PM\, EST – Master of Health Administration – Click this link to join the information session.\nMonday\, 2/9/2026\, 6 PM EST – M.S. in Addiction Studies – Click this link to join the information session.\nTuesday\, 2/10/2026\, 1 PM EST – Master of Business Administration MBA – Click this link to join the information session.\nWednesday\, 2/11/2026\, 4 PM EST – M.S. in Homeland Security – Virtual Information Session Link.\nThursday\, 2/12/2026\, 7 PM EST – Master of Music – Click this link to join the information session.\nWednesday\, 2/24/2026\, 5 PM EST – Master of Arts in Teaching – Click this link to join the information session.\n\nMarch 2026 \n\nMonday\, 3/2/2026\, 1 PM EST – M.S. in Homeland Security – Click this link to join the information session.\nMonday\, 3/9/2026\, 6 PM EST – M.S. in Addiction Studies – Click this link to join the information session.\n\nApril 2026 \n\nWednesday\, 4/8/2026\, 4 PM EST – M.S. in Homeland Security – Virtual Information Session Link.\nFriday\, 04/24/2026\, 6 PM EST – Master of Health Administration – Click this link to join the information session.\nFriday\, 04/24/2026\, 1 PM EST – Master of Business Administration MBA – Click this link to join the information session.
URL:https://www.wcsu.edu/events/calendar/graduate-virtual-information-sessions-48/
LOCATION:Virtual
CATEGORIES:Career search,Information Session,Public Events,Virtual event
ATTACH;FMTTYPE=image/jpeg:https://www.wcsu.edu/events/wp-content/uploads/sites/181/2025/04/Virtual-Event-500x300-1.jpg
END:VEVENT
END:VCALENDAR