BEGIN:VCALENDAR
VERSION:2.0
PRODID:-//WCSU Events - ECPv6.15.17.1//NONSGML v1.0//EN
CALSCALE:GREGORIAN
METHOD:PUBLISH
X-WR-CALNAME:WCSU Events
X-ORIGINAL-URL:https://www.wcsu.edu/events
X-WR-CALDESC:Events for WCSU Events
REFRESH-INTERVAL;VALUE=DURATION:PT1H
X-Robots-Tag:noindex
X-PUBLISHED-TTL:PT1H
BEGIN:VTIMEZONE
TZID:UTC
BEGIN:STANDARD
TZOFFSETFROM:+0000
TZOFFSETTO:+0000
TZNAME:UTC
DTSTART:20200101T000000
END:STANDARD
END:VTIMEZONE
BEGIN:VEVENT
DTSTART;TZID=UTC:20221108T200000
DTEND;TZID=UTC:20221108T235900
DTSTAMP:20260420T232931
CREATED:20221027T215821Z
LAST-MODIFIED:20221027T215821Z
UID:10063135-1667937600-1667951940@www.wcsu.edu
SUMMARY:Election Connection 2022!
DESCRIPTION:ELECTION CONNECTION 2022: Live coverage of the election from 8 p.m. – midnight! Produced by WCSU students\, award-winning ELECTION CONNECTION is in its 11th year presenting state & national races and issues important to Connecticut. Live reports from campaign HQs and interviews including the state of our democracy\, abortion\, inflation\, the border\, LGBTBQ\, crime\, student debt\, book banning\, climate\, and what’s school for? Steaming live on YouTube and Facebook at “WCSU Election Connection” and simulcast over the air on WXCI-FM 91.7
URL:https://www.wcsu.edu/events/calendar/election-connection-2022/
LOCATION:Virtual
CATEGORIES:Community Service,Discussion,Information Session,Virtual event
ATTACH;FMTTYPE=image/jpeg:https://www.wcsu.edu/events/wp-content/uploads/sites/181/2022/10/Election-Connection-digital-sign-2022.jpg
END:VEVENT
BEGIN:VEVENT
DTSTART;TZID=UTC:20221102T183000
DTEND;TZID=UTC:20221102T200000
DTSTAMP:20260420T232931
CREATED:20221028T224151Z
LAST-MODIFIED:20221028T224151Z
UID:10063138-1667413800-1667419200@www.wcsu.edu
SUMMARY:Rotaract Club: Ben's Bells "Be Kind" Bells
DESCRIPTION:ROTARACT CLUB – BEN’S BELLS “BE KIND” BELLS: Join the Rotaract Club from 6:30 to 8 p.m. in Room 202 of the Midtown Center to paint “Be Kind” coins for Ben’s Bells\, a nonprofit organization dedicated to promoting intentional kindness through creating and distributing handmade bells.
URL:https://www.wcsu.edu/events/calendar/rotaract-club-bens-bells-be-kind-bells/
LOCATION:Midtown Student Center 202\, 181 White St.\, Danbury\, CT
CATEGORIES:Community Service
ATTACH;FMTTYPE=image/png:https://www.wcsu.edu/events/wp-content/uploads/sites/181/2022/10/1-1.png
ORGANIZER;CN="Rotaract":MAILTO:rotaract@wcsu.edu
END:VEVENT
BEGIN:VEVENT
DTSTART;TZID=UTC:20220921T183000
DTEND;TZID=UTC:20220921T203000
DTSTAMP:20260420T232931
CREATED:20220916T222423Z
LAST-MODIFIED:20220916T222431Z
UID:10062751-1663785000-1663792200@www.wcsu.edu
SUMMARY:Tea Wreath Making
DESCRIPTION:TEA WREATH MAKING: Join Rotaract Club in making tea wreaths from 6:30 to 8:30 p.m. in Student Center 202! They are to be donated to Ann’s Place; a nonprofit organization dedicated to supporting cancer patients.
URL:https://www.wcsu.edu/events/calendar/tea-wreath-making/
LOCATION:Midtown Student Center 202\, 181 White St.\, Danbury\, CT
CATEGORIES:Community Service
ATTACH;FMTTYPE=image/png:https://www.wcsu.edu/events/wp-content/uploads/sites/181/2022/09/41739EE0-FA94-44CE-98B0-EDA89193880C-e1665500261474.png
ORGANIZER;CN="Rotaract":MAILTO:rotaract@wcsu.edu
END:VEVENT
BEGIN:VEVENT
DTSTART;TZID=UTC:20220916T080000
DTEND;TZID=UTC:20220916T170000
DTSTAMP:20260420T232931
CREATED:20220616T002613Z
LAST-MODIFIED:20220831T000931Z
UID:10062576-1663315200-1663347600@www.wcsu.edu
SUMMARY:WCSU Day Of Service
DESCRIPTION:WCSU DAY OF SERVICE: All students\, faculty\, and staff are encouraged to participate in this Day of Service in Danbury and the Greater Danbury community. For more details go to the Day of Service webpage.  \nAn email will be sent once we have the sites set up and open registration. In the meantime if you are interested in volunteering as a Group Leader please let us know. Send us an email to dayofservice@wcsu.edu. We will have jobs for volunteers activities across the Greater Danbury Area.  These activities will range from outdoor or indoor activities like gardening\, painting\, picking up litter\, raking\, cleaning\, or clearing trails to name a few. \nPlease note that if you are under the age of 18 we would need permission from your parent to participate. Your parent could send a short email to diazv@wcsu.edu just stating your name\, their relationship to you and that they give permission for you to participate in WCSU Day of Service.
URL:https://www.wcsu.edu/events/calendar/wcsu-day-of-service/
LOCATION:CT
CATEGORIES:Community Service,Leadership,Social Event,Wellness,WOW
ATTACH;FMTTYPE=image/jpeg:https://www.wcsu.edu/events/wp-content/uploads/sites/181/2022/06/WCSU-Day-Of-Service-e1661890164483.jpg
ORGANIZER;CN="Student Affairs":MAILTO:diazv@wcsu.edu
END:VEVENT
BEGIN:VEVENT
DTSTART;TZID=UTC:20220908T080000
DTEND;TZID=UTC:20220908T170000
DTSTAMP:20260420T232931
CREATED:20220830T235051Z
LAST-MODIFIED:20220930T175750Z
UID:10060467-1662624000-1662656400@www.wcsu.edu
SUMMARY:Deadline to register for WCSU Day of Service
DESCRIPTION:DEADLINE TO REGISTER FOR WCSU DAY OF SERVICE: \nRegister here. \nClasses will be canceled the morning of Friday\, 9/16 until 1 p.m. so every student and faculty member can participate and not miss out on classes. Transportation will either be provided or locations will be within walking distance. \nIf you have any questions\, would like to recommend a volunteer site to us\, would like to serve as a group leader\, or would like to participate as a group\, please email us at dayofservice@wcsu.edu.
URL:https://www.wcsu.edu/events/calendar/deadline-to-register-for-wcsu-day-of-service/
LOCATION:CT
CATEGORIES:Community Service,Deadline,WOW
ATTACH;FMTTYPE=image/jpeg:https://www.wcsu.edu/events/wp-content/uploads/sites/181/2022/06/WCSU-Day-Of-Service-e1661890164483.jpg
END:VEVENT
BEGIN:VEVENT
DTSTART;TZID=UTC:20220623T120000
DTEND;TZID=UTC:20220623T130000
DTSTAMP:20260420T232931
CREATED:20220621T183218Z
LAST-MODIFIED:20220621T183218Z
UID:10062581-1655985600-1655989200@www.wcsu.edu
SUMMARY:Peace Corps - Meet Your Recruiters
DESCRIPTION:PEACE CORPS – MEET YOUR RECRUITERS: Join three Connecticut-based recruiters from noon to 1 p.m. to hear about what it’s like to live\, learn and work with a community overseas. We’ll talk about what you can expect from working with a recruiter and how recruiters support those first steps of your Peace Corps service journey. Applicants who connect with a recruiter are 55% more likely to become volunteers. There will be a short presentation followed by Q & A. \nNote: We will hold this event on a virtual platform instead of in-person. Please register to ensure that you receive access to join the event. \nRegister here: https://www.peacecorps.gov/events/22_vrs_meetrecruiters_connecticut_20220623/
URL:https://www.wcsu.edu/events/calendar/peace-corps-meet-your-recruiters/
LOCATION:Virtual event
CATEGORIES:Career search,Community Service,Discussion,Information Session,International,Panel discussion
ATTACH;FMTTYPE=image/png:https://www.wcsu.edu/events/wp-content/uploads/sites/181/2022/06/PC-logo.png
END:VEVENT
BEGIN:VEVENT
DTSTART;TZID=UTC:20220405T190000
DTEND;TZID=UTC:20220405T200000
DTSTAMP:20260420T232931
CREATED:20220404T194721Z
LAST-MODIFIED:20220404T194721Z
UID:10062226-1649185200-1649188800@www.wcsu.edu
SUMMARY:Easter Egg Hunt Preparation: VOLUNTEERS NEEDED
DESCRIPTION:EASTER EGG HUNT PREPARATION: VOLUNTEERS NEEDED: ‘Find Us Outside’ is a non-profit organization whose mission is to instill a love of learning in children through their holistic nature immersion program. They encourage children to develop socially\, emotionally\, and physically through interest-led play and exploration. In the spring\, Rotaract holds an Easter Egg hunt for the children of ‘Find Us Outside.’ But we need help with preparation!  We will begin prepping the eggs for the event by filling them with candy and toys starting at 7 p.m. in the Midtown Student Center. More info is in the photo! Stay tuned for the Easter Egg hunt date.
URL:https://www.wcsu.edu/events/calendar/easter-egg-hunt-preparation-volunteers-needed/
LOCATION:Midtown Student Center\, 181 White St.\, Danbury\, CT
CATEGORIES:Community Service
ATTACH;FMTTYPE=image/png:https://www.wcsu.edu/events/wp-content/uploads/sites/181/2022/04/Easter2.png
ORGANIZER;CN="Rotaract":MAILTO:rotaract@wcsu.edu
END:VEVENT
BEGIN:VEVENT
DTSTART;TZID=UTC:20210924T200000
DTEND;TZID=UTC:20210924T220000
DTSTAMP:20260420T232931
CREATED:20210916T163854Z
LAST-MODIFIED:20210916T184826Z
UID:10061313-1632513600-1632520800@www.wcsu.edu
SUMMARY:Sorority Recruitment
DESCRIPTION:SORORITY RECRUITMENT: This series of events will be taking place from September 20th to September 24th! Every night you will get a chance to meet the sororities on campus\, and start to decide which organization is the best fit for you! Al events are free! We encourage you to sign up in advance so we know to expect you 🙂 https://wcsu.mycampusdirector2.com/landing/
URL:https://www.wcsu.edu/events/calendar/sorority-recruitment/2021-09-24/
LOCATION:Midtown Student Center\, 181 White St.\, Danbury\, CT
CATEGORIES:Charity/Fundraising,Community Service,Leadership,Public Events,Social Event
ATTACH;FMTTYPE=image/png:https://www.wcsu.edu/events/wp-content/uploads/sites/181/2021/09/sorority-recruitment-flyer.png
END:VEVENT
BEGIN:VEVENT
DTSTART;TZID=UTC:20210923T200000
DTEND;TZID=UTC:20210923T220000
DTSTAMP:20260420T232931
CREATED:20210916T163854Z
LAST-MODIFIED:20210916T184826Z
UID:10061312-1632427200-1632434400@www.wcsu.edu
SUMMARY:Sorority Recruitment
DESCRIPTION:SORORITY RECRUITMENT: This series of events will be taking place from September 20th to September 24th! Every night you will get a chance to meet the sororities on campus\, and start to decide which organization is the best fit for you! Al events are free! We encourage you to sign up in advance so we know to expect you 🙂 https://wcsu.mycampusdirector2.com/landing/
URL:https://www.wcsu.edu/events/calendar/sorority-recruitment/2021-09-23/
LOCATION:Midtown Student Center\, 181 White St.\, Danbury\, CT
CATEGORIES:Charity/Fundraising,Community Service,Leadership,Public Events,Social Event
ATTACH;FMTTYPE=image/png:https://www.wcsu.edu/events/wp-content/uploads/sites/181/2021/09/sorority-recruitment-flyer.png
END:VEVENT
BEGIN:VEVENT
DTSTART;TZID=UTC:20210922T200000
DTEND;TZID=UTC:20210922T220000
DTSTAMP:20260420T232931
CREATED:20210916T163854Z
LAST-MODIFIED:20210916T184826Z
UID:10061311-1632340800-1632348000@www.wcsu.edu
SUMMARY:Sorority Recruitment
DESCRIPTION:SORORITY RECRUITMENT: This series of events will be taking place from September 20th to September 24th! Every night you will get a chance to meet the sororities on campus\, and start to decide which organization is the best fit for you! Al events are free! We encourage you to sign up in advance so we know to expect you 🙂 https://wcsu.mycampusdirector2.com/landing/
URL:https://www.wcsu.edu/events/calendar/sorority-recruitment/2021-09-22/
LOCATION:Midtown Student Center\, 181 White St.\, Danbury\, CT
CATEGORIES:Charity/Fundraising,Community Service,Leadership,Public Events,Social Event
ATTACH;FMTTYPE=image/png:https://www.wcsu.edu/events/wp-content/uploads/sites/181/2021/09/sorority-recruitment-flyer.png
END:VEVENT
BEGIN:VEVENT
DTSTART;TZID=UTC:20210921T200000
DTEND;TZID=UTC:20210921T220000
DTSTAMP:20260420T232931
CREATED:20210916T163854Z
LAST-MODIFIED:20210916T184826Z
UID:10061310-1632254400-1632261600@www.wcsu.edu
SUMMARY:Sorority Recruitment
DESCRIPTION:SORORITY RECRUITMENT: This series of events will be taking place from September 20th to September 24th! Every night you will get a chance to meet the sororities on campus\, and start to decide which organization is the best fit for you! Al events are free! We encourage you to sign up in advance so we know to expect you 🙂 https://wcsu.mycampusdirector2.com/landing/
URL:https://www.wcsu.edu/events/calendar/sorority-recruitment/2021-09-21/
LOCATION:Midtown Student Center\, 181 White St.\, Danbury\, CT
CATEGORIES:Charity/Fundraising,Community Service,Leadership,Public Events,Social Event
ATTACH;FMTTYPE=image/png:https://www.wcsu.edu/events/wp-content/uploads/sites/181/2021/09/sorority-recruitment-flyer.png
END:VEVENT
BEGIN:VEVENT
DTSTART;TZID=UTC:20210920T200000
DTEND;TZID=UTC:20210920T220000
DTSTAMP:20260420T232931
CREATED:20210916T163854Z
LAST-MODIFIED:20210916T184826Z
UID:10061309-1632168000-1632175200@www.wcsu.edu
SUMMARY:Sorority Recruitment
DESCRIPTION:SORORITY RECRUITMENT: This series of events will be taking place from September 20th to September 24th! Every night you will get a chance to meet the sororities on campus\, and start to decide which organization is the best fit for you! Al events are free! We encourage you to sign up in advance so we know to expect you 🙂 https://wcsu.mycampusdirector2.com/landing/
URL:https://www.wcsu.edu/events/calendar/sorority-recruitment/2021-09-20/
LOCATION:Midtown Student Center\, 181 White St.\, Danbury\, CT
CATEGORIES:Charity/Fundraising,Community Service,Leadership,Public Events,Social Event
ATTACH;FMTTYPE=image/png:https://www.wcsu.edu/events/wp-content/uploads/sites/181/2021/09/sorority-recruitment-flyer.png
END:VEVENT
BEGIN:VEVENT
DTSTART;TZID=UTC:20210917T090000
DTEND;TZID=UTC:20210917T130000
DTSTAMP:20260420T232931
CREATED:20210901T233520Z
LAST-MODIFIED:20210914T224402Z
UID:10060475-1631869200-1631883600@www.wcsu.edu
SUMMARY:Western Day of Service
DESCRIPTION:7TH ANNUAL WESTERN DAY OF SERVICE: Our 7th Annual Western Day of Service is happening from 9 a.m. to 1 p.m. Sign ups are available. Please check your WCSU email.  This is a great way to volunteer within the community\, so don’t miss out!
URL:https://www.wcsu.edu/events/calendar/western-day-of-service/
LOCATION:CT
CATEGORIES:Community Service
ATTACH;FMTTYPE=image/jpeg:https://www.wcsu.edu/events/wp-content/uploads/sites/181/2021/09/Day-of-Service-shuttle.jpg
END:VEVENT
END:VCALENDAR