BEGIN:VCALENDAR
VERSION:2.0
PRODID:-//WCSU Events - ECPv6.15.17.1//NONSGML v1.0//EN
CALSCALE:GREGORIAN
METHOD:PUBLISH
X-ORIGINAL-URL:https://www.wcsu.edu/events
X-WR-CALDESC:Events for WCSU Events
REFRESH-INTERVAL;VALUE=DURATION:PT1H
X-Robots-Tag:noindex
X-PUBLISHED-TTL:PT1H
BEGIN:VTIMEZONE
TZID:America/New_York
BEGIN:DAYLIGHT
TZOFFSETFROM:-0500
TZOFFSETTO:-0400
TZNAME:EDT
DTSTART:20200308T070000
END:DAYLIGHT
BEGIN:STANDARD
TZOFFSETFROM:-0400
TZOFFSETTO:-0500
TZNAME:EST
DTSTART:20201101T060000
END:STANDARD
BEGIN:DAYLIGHT
TZOFFSETFROM:-0500
TZOFFSETTO:-0400
TZNAME:EDT
DTSTART:20210314T070000
END:DAYLIGHT
BEGIN:STANDARD
TZOFFSETFROM:-0400
TZOFFSETTO:-0500
TZNAME:EST
DTSTART:20211107T060000
END:STANDARD
BEGIN:DAYLIGHT
TZOFFSETFROM:-0500
TZOFFSETTO:-0400
TZNAME:EDT
DTSTART:20220313T070000
END:DAYLIGHT
BEGIN:STANDARD
TZOFFSETFROM:-0400
TZOFFSETTO:-0500
TZNAME:EST
DTSTART:20221106T060000
END:STANDARD
BEGIN:DAYLIGHT
TZOFFSETFROM:-0500
TZOFFSETTO:-0400
TZNAME:EDT
DTSTART:20230312T070000
END:DAYLIGHT
BEGIN:STANDARD
TZOFFSETFROM:-0400
TZOFFSETTO:-0500
TZNAME:EST
DTSTART:20231105T060000
END:STANDARD
END:VTIMEZONE
BEGIN:VTIMEZONE
TZID:UTC
BEGIN:STANDARD
TZOFFSETFROM:+0000
TZOFFSETTO:+0000
TZNAME:UTC
DTSTART:20200101T000000
END:STANDARD
END:VTIMEZONE
BEGIN:VTIMEZONE
TZID:UTC
BEGIN:STANDARD
TZOFFSETFROM:+0000
TZOFFSETTO:+0000
TZNAME:UTC
DTSTART:20200101T000000
END:STANDARD
END:VTIMEZONE
BEGIN:VEVENT
DTSTART;TZID=America/New_York:20220103T000000
DTEND;TZID=America/New_York:20220103T235900
DTSTAMP:20260422T233353
CREATED:20211202T184902Z
LAST-MODIFIED:20211209T001527Z
UID:10059743-1641168000-1641254340@www.wcsu.edu
SUMMARY:Guess and Win
DESCRIPTION:GUESS THE FIRST 6-INCH SNOW FOR A CHANCE TO WIN $50: Enter a raffle to guess the first day we will have 6 inches of snow fall. The winner will receive a $50 Amazon gift card. If contestants do not guess correctly\, the closest guessed date after the correct answer will win. The content is open until we get 6 inches of snow!\nMultiple entries per person are allowed. Entries are $1 each and to be paid via Venmo to WCSU’s Meteorology Club Treasurer (@aspen_m). Don’t forget to add your guess and WCSU contact information in the Venmo description.
URL:https://www.wcsu.edu/events/calendar/guess-and-win/2022-01-03/
LOCATION:Virtual
CATEGORIES:Contest,Fundraising
ATTACH;FMTTYPE=image/jpeg:https://www.wcsu.edu/events/wp-content/uploads/sites/181/2021/12/First-Six-Inch-Snowstorm-Fundraiser.jpg
END:VEVENT
BEGIN:VEVENT
DTSTART;TZID=America/New_York:20211230T000000
DTEND;TZID=America/New_York:20211230T235900
DTSTAMP:20260422T233353
CREATED:20211202T184902Z
LAST-MODIFIED:20211209T001527Z
UID:10059742-1640822400-1640908740@www.wcsu.edu
SUMMARY:Guess and Win
DESCRIPTION:GUESS THE FIRST 6-INCH SNOW FOR A CHANCE TO WIN $50: Enter a raffle to guess the first day we will have 6 inches of snow fall. The winner will receive a $50 Amazon gift card. If contestants do not guess correctly\, the closest guessed date after the correct answer will win. The content is open until we get 6 inches of snow!\nMultiple entries per person are allowed. Entries are $1 each and to be paid via Venmo to WCSU’s Meteorology Club Treasurer (@aspen_m). Don’t forget to add your guess and WCSU contact information in the Venmo description.
URL:https://www.wcsu.edu/events/calendar/guess-and-win/2021-12-30/
LOCATION:Virtual
CATEGORIES:Contest,Fundraising
ATTACH;FMTTYPE=image/jpeg:https://www.wcsu.edu/events/wp-content/uploads/sites/181/2021/12/First-Six-Inch-Snowstorm-Fundraiser.jpg
END:VEVENT
BEGIN:VEVENT
DTSTART;TZID=America/New_York:20211227T000000
DTEND;TZID=America/New_York:20211227T235900
DTSTAMP:20260422T233353
CREATED:20211202T184902Z
LAST-MODIFIED:20211209T001527Z
UID:10059741-1640563200-1640649540@www.wcsu.edu
SUMMARY:Guess and Win
DESCRIPTION:GUESS THE FIRST 6-INCH SNOW FOR A CHANCE TO WIN $50: Enter a raffle to guess the first day we will have 6 inches of snow fall. The winner will receive a $50 Amazon gift card. If contestants do not guess correctly\, the closest guessed date after the correct answer will win. The content is open until we get 6 inches of snow!\nMultiple entries per person are allowed. Entries are $1 each and to be paid via Venmo to WCSU’s Meteorology Club Treasurer (@aspen_m). Don’t forget to add your guess and WCSU contact information in the Venmo description.
URL:https://www.wcsu.edu/events/calendar/guess-and-win/2021-12-27/
LOCATION:Virtual
CATEGORIES:Contest,Fundraising
ATTACH;FMTTYPE=image/jpeg:https://www.wcsu.edu/events/wp-content/uploads/sites/181/2021/12/First-Six-Inch-Snowstorm-Fundraiser.jpg
END:VEVENT
BEGIN:VEVENT
DTSTART;TZID=America/New_York:20211223T000000
DTEND;TZID=America/New_York:20211223T235900
DTSTAMP:20260422T233353
CREATED:20211202T184902Z
LAST-MODIFIED:20211209T001527Z
UID:10059740-1640217600-1640303940@www.wcsu.edu
SUMMARY:Guess and Win
DESCRIPTION:GUESS THE FIRST 6-INCH SNOW FOR A CHANCE TO WIN $50: Enter a raffle to guess the first day we will have 6 inches of snow fall. The winner will receive a $50 Amazon gift card. If contestants do not guess correctly\, the closest guessed date after the correct answer will win. The content is open until we get 6 inches of snow!\nMultiple entries per person are allowed. Entries are $1 each and to be paid via Venmo to WCSU’s Meteorology Club Treasurer (@aspen_m). Don’t forget to add your guess and WCSU contact information in the Venmo description.
URL:https://www.wcsu.edu/events/calendar/guess-and-win/2021-12-23/
LOCATION:Virtual
CATEGORIES:Contest,Fundraising
ATTACH;FMTTYPE=image/jpeg:https://www.wcsu.edu/events/wp-content/uploads/sites/181/2021/12/First-Six-Inch-Snowstorm-Fundraiser.jpg
END:VEVENT
BEGIN:VEVENT
DTSTART;TZID=America/New_York:20211220T000000
DTEND;TZID=America/New_York:20211220T235900
DTSTAMP:20260422T233353
CREATED:20211202T184902Z
LAST-MODIFIED:20211209T001527Z
UID:10059739-1639958400-1640044740@www.wcsu.edu
SUMMARY:Guess and Win
DESCRIPTION:GUESS THE FIRST 6-INCH SNOW FOR A CHANCE TO WIN $50: Enter a raffle to guess the first day we will have 6 inches of snow fall. The winner will receive a $50 Amazon gift card. If contestants do not guess correctly\, the closest guessed date after the correct answer will win. The content is open until we get 6 inches of snow!\nMultiple entries per person are allowed. Entries are $1 each and to be paid via Venmo to WCSU’s Meteorology Club Treasurer (@aspen_m). Don’t forget to add your guess and WCSU contact information in the Venmo description.
URL:https://www.wcsu.edu/events/calendar/guess-and-win/2021-12-20/
LOCATION:Virtual
CATEGORIES:Contest,Fundraising
ATTACH;FMTTYPE=image/jpeg:https://www.wcsu.edu/events/wp-content/uploads/sites/181/2021/12/First-Six-Inch-Snowstorm-Fundraiser.jpg
END:VEVENT
BEGIN:VEVENT
DTSTART;TZID=America/New_York:20211216T000000
DTEND;TZID=America/New_York:20211216T235900
DTSTAMP:20260422T233353
CREATED:20211202T184902Z
LAST-MODIFIED:20211209T001527Z
UID:10059738-1639612800-1639699140@www.wcsu.edu
SUMMARY:Guess and Win
DESCRIPTION:GUESS THE FIRST 6-INCH SNOW FOR A CHANCE TO WIN $50: Enter a raffle to guess the first day we will have 6 inches of snow fall. The winner will receive a $50 Amazon gift card. If contestants do not guess correctly\, the closest guessed date after the correct answer will win. The content is open until we get 6 inches of snow!\nMultiple entries per person are allowed. Entries are $1 each and to be paid via Venmo to WCSU’s Meteorology Club Treasurer (@aspen_m). Don’t forget to add your guess and WCSU contact information in the Venmo description.
URL:https://www.wcsu.edu/events/calendar/guess-and-win/2021-12-16/
LOCATION:Virtual
CATEGORIES:Contest,Fundraising
ATTACH;FMTTYPE=image/jpeg:https://www.wcsu.edu/events/wp-content/uploads/sites/181/2021/12/First-Six-Inch-Snowstorm-Fundraiser.jpg
END:VEVENT
BEGIN:VEVENT
DTSTART;TZID=America/New_York:20211213T000000
DTEND;TZID=America/New_York:20211213T235900
DTSTAMP:20260422T233353
CREATED:20211202T184902Z
LAST-MODIFIED:20211209T001527Z
UID:10059737-1639353600-1639439940@www.wcsu.edu
SUMMARY:Guess and Win
DESCRIPTION:GUESS THE FIRST 6-INCH SNOW FOR A CHANCE TO WIN $50: Enter a raffle to guess the first day we will have 6 inches of snow fall. The winner will receive a $50 Amazon gift card. If contestants do not guess correctly\, the closest guessed date after the correct answer will win. The content is open until we get 6 inches of snow!\nMultiple entries per person are allowed. Entries are $1 each and to be paid via Venmo to WCSU’s Meteorology Club Treasurer (@aspen_m). Don’t forget to add your guess and WCSU contact information in the Venmo description.
URL:https://www.wcsu.edu/events/calendar/guess-and-win/2021-12-13/
LOCATION:Virtual
CATEGORIES:Contest,Fundraising
ATTACH;FMTTYPE=image/jpeg:https://www.wcsu.edu/events/wp-content/uploads/sites/181/2021/12/First-Six-Inch-Snowstorm-Fundraiser.jpg
END:VEVENT
BEGIN:VEVENT
DTSTART;TZID=America/New_York:20211209T000000
DTEND;TZID=America/New_York:20211209T235900
DTSTAMP:20260422T233353
CREATED:20211202T184902Z
LAST-MODIFIED:20211209T001527Z
UID:10059736-1639008000-1639094340@www.wcsu.edu
SUMMARY:Guess and Win
DESCRIPTION:GUESS THE FIRST 6-INCH SNOW FOR A CHANCE TO WIN $50: Enter a raffle to guess the first day we will have 6 inches of snow fall. The winner will receive a $50 Amazon gift card. If contestants do not guess correctly\, the closest guessed date after the correct answer will win. The content is open until we get 6 inches of snow!\nMultiple entries per person are allowed. Entries are $1 each and to be paid via Venmo to WCSU’s Meteorology Club Treasurer (@aspen_m). Don’t forget to add your guess and WCSU contact information in the Venmo description.
URL:https://www.wcsu.edu/events/calendar/guess-and-win/2021-12-09/
LOCATION:Virtual
CATEGORIES:Contest,Fundraising
ATTACH;FMTTYPE=image/jpeg:https://www.wcsu.edu/events/wp-content/uploads/sites/181/2021/12/First-Six-Inch-Snowstorm-Fundraiser.jpg
END:VEVENT
BEGIN:VEVENT
DTSTART;TZID=America/New_York:20211206T000000
DTEND;TZID=America/New_York:20211206T235900
DTSTAMP:20260422T233353
CREATED:20211202T184902Z
LAST-MODIFIED:20211209T001527Z
UID:10059735-1638748800-1638835140@www.wcsu.edu
SUMMARY:Guess and Win
DESCRIPTION:GUESS THE FIRST 6-INCH SNOW FOR A CHANCE TO WIN $50: Enter a raffle to guess the first day we will have 6 inches of snow fall. The winner will receive a $50 Amazon gift card. If contestants do not guess correctly\, the closest guessed date after the correct answer will win. The content is open until we get 6 inches of snow!\nMultiple entries per person are allowed. Entries are $1 each and to be paid via Venmo to WCSU’s Meteorology Club Treasurer (@aspen_m). Don’t forget to add your guess and WCSU contact information in the Venmo description.
URL:https://www.wcsu.edu/events/calendar/guess-and-win/2021-12-06/
LOCATION:Virtual
CATEGORIES:Contest,Fundraising
ATTACH;FMTTYPE=image/jpeg:https://www.wcsu.edu/events/wp-content/uploads/sites/181/2021/12/First-Six-Inch-Snowstorm-Fundraiser.jpg
END:VEVENT
BEGIN:VEVENT
DTSTART;TZID=America/New_York:20211202T000000
DTEND;TZID=America/New_York:20211202T235900
DTSTAMP:20260422T233353
CREATED:20211202T184902Z
LAST-MODIFIED:20211209T001527Z
UID:10059734-1638403200-1638489540@www.wcsu.edu
SUMMARY:Guess and Win
DESCRIPTION:GUESS THE FIRST 6-INCH SNOW FOR A CHANCE TO WIN $50: Enter a raffle to guess the first day we will have 6 inches of snow fall. The winner will receive a $50 Amazon gift card. If contestants do not guess correctly\, the closest guessed date after the correct answer will win. The content is open until we get 6 inches of snow!\nMultiple entries per person are allowed. Entries are $1 each and to be paid via Venmo to WCSU’s Meteorology Club Treasurer (@aspen_m). Don’t forget to add your guess and WCSU contact information in the Venmo description.
URL:https://www.wcsu.edu/events/calendar/guess-and-win/2021-12-02/
LOCATION:Virtual
CATEGORIES:Contest,Fundraising
ATTACH;FMTTYPE=image/jpeg:https://www.wcsu.edu/events/wp-content/uploads/sites/181/2021/12/First-Six-Inch-Snowstorm-Fundraiser.jpg
END:VEVENT
BEGIN:VEVENT
DTSTART;TZID=UTC:20211012T173000
DTEND;TZID=UTC:20211012T183000
DTSTAMP:20260422T233353
CREATED:20211008T215808Z
LAST-MODIFIED:20211013T195851Z
UID:10059552-1634059800-1634063400@www.wcsu.edu
SUMMARY:WMA Marketing Week
DESCRIPTION:WESTERN MARKETING ASSOCIATION MARKETING WEEK: The Western Connecticut Marketing Association is hosting their annual Marketing week from Monday 10/11 to Friday 10/15. \nNew events every day including a LinkedIn workshop\, HubSpot Workshop\, Alumni Panel\, Big Idea Competition and a Logo Design Competition. \nGuest speakers from former WestConn Grads to Marketing Agency Founders and CEOs. \nOpen to all majors!
URL:https://www.wcsu.edu/events/calendar/wma-marketing-week/
LOCATION:Westside Campus Center 212/214\, 43 Lake Ave. Extension\, Danbury\, CT
CATEGORIES:Contest,Speaker
ATTACH;FMTTYPE=image/jpeg:https://www.wcsu.edu/events/wp-content/uploads/sites/181/2021/10/1F36C8A3-7FA7-444A-975B-D76E71210F79.jpeg
END:VEVENT
BEGIN:VEVENT
DTSTART;TZID=UTC:20211006T200000
DTEND;TZID=UTC:20211006T220000
DTSTAMP:20260422T233353
CREATED:20210928T161408Z
LAST-MODIFIED:20210928T161711Z
UID:10059444-1633550400-1633557600@www.wcsu.edu
SUMMARY:Take it or Leave it
DESCRIPTION:TAKE IT OR LEAVE IT: Come play take it or leave it with PAC! Come for a chance to win gift cards from 8 to 10 p.m. in Ives Concert Hall.
URL:https://www.wcsu.edu/events/calendar/take-it-or-leave-it/
LOCATION:Ives Concert Hall\, 181 White St.\, Danbury\, CT
CATEGORIES:Contest,Entertainment,Social Event,WOW
ATTACH;FMTTYPE=image/png:https://www.wcsu.edu/events/wp-content/uploads/sites/181/2021/09/take-2.png
END:VEVENT
BEGIN:VEVENT
DTSTART;VALUE=DATE:20211003
DTEND;VALUE=DATE:20211004
DTSTAMP:20260422T233353
CREATED:20211007T182048Z
LAST-MODIFIED:20211007T182049Z
UID:10061414-1633219200-1633305599@www.wcsu.edu
SUMMARY:Photo Contest
DESCRIPTION:STUDENT AFFAIRS WEEKLY PHOTO CONTEST: Submit a photo of you cheering on our football team at this weekends Homecoming Game! DM us a photo to our Instagram account @wcsu_studentaffairs and follow the instructions for a chance to win a $10 gift card to the WCSU Bookstore. Deadline to submit is Sunday\, October 10 at 11:59 p.m. Good luck!
URL:https://www.wcsu.edu/events/calendar/photo-contest-22/
LOCATION:Virtual
CATEGORIES:Contest,WOW
ATTACH;FMTTYPE=image/jpeg:https://www.wcsu.edu/events/wp-content/uploads/sites/181/2021/10/1010-photo-contest-shuttle.jpg
END:VEVENT
BEGIN:VEVENT
DTSTART;TZID=UTC:20210927T120000
DTEND;TZID=UTC:20210927T150000
DTSTAMP:20260422T233353
CREATED:20210927T172044Z
LAST-MODIFIED:20210927T172044Z
UID:10061362-1632744000-1632754800@www.wcsu.edu
SUMMARY:DartBoard for St. Jude
DESCRIPTION:DARTBOARD FOR ST. JUDE: Come out and throw some darts with the brothers of Tau Kappa Epsilon! Throw darts at balloons and earn a chance to win a gift. All payments go directly to St.Jude Children’s Research Hospital!
URL:https://www.wcsu.edu/events/calendar/dartboard-for-st-jude/
LOCATION:Midtown Campus Quad\, 181 White Street\, Danbury\, CT
CATEGORIES:Charity/Fundraising,Contest,Social Event
ATTACH;FMTTYPE=image/jpeg:https://www.wcsu.edu/events/wp-content/uploads/sites/181/2021/09/IMG_7965002.jpg
ORGANIZER;CN="Tau Kappa Epsilon":MAILTO:tz.taukappaepsilon@gmail.com
END:VEVENT
BEGIN:VEVENT
DTSTART;VALUE=DATE:20210927
DTEND;VALUE=DATE:20210928
DTSTAMP:20260422T233353
CREATED:20210930T175452Z
LAST-MODIFIED:20210930T175452Z
UID:10061376-1632700800-1632787199@www.wcsu.edu
SUMMARY:WCSU Weekly Photo Contest
DESCRIPTION:WCSU WEEKLY PHOTO CONTEST: The week for the weekly photo contest\, you have to submit a picture of you or a friend attending a Midtown Coffeehouse. You have an opportunity to this on Thursday\, Sept. 30\, to go and support fellow students and hear everyone’s amazing talents! The submission deadline is on Sunday\, Oct. 3\, at 11:59 p.m. Good luck!
URL:https://www.wcsu.edu/events/calendar/wcsu-weekly-photo-contest/
LOCATION:Virtual
CATEGORIES:Contest
ATTACH;FMTTYPE=image/jpeg:https://www.wcsu.edu/events/wp-content/uploads/sites/181/2021/09/103-photo-contest-shuttle.jpg
ORGANIZER;CN="Student Affairs":MAILTO:diazv@wcsu.edu
END:VEVENT
BEGIN:VEVENT
DTSTART;VALUE=DATE:20210919
DTEND;VALUE=DATE:20210920
DTSTAMP:20260422T233353
CREATED:20210916T213045Z
LAST-MODIFIED:20210916T213046Z
UID:10061308-1632009600-1632095999@www.wcsu.edu
SUMMARY:Photo Contest
DESCRIPTION:STUDENT AFFAIRS WEEKLY PHOTO CONTEST: Submit a photo of you riding the WCSU campus shuttle to our Instagram account @wcsu_studentaffairs and follow the instructions for a chance to win a $10 gift card to the WCSU Bookstore. Deadline to submit is Sunday\, September 26 at 11:59 p.m.
URL:https://www.wcsu.edu/events/calendar/photo-contest-21/
CATEGORIES:Contest
ATTACH;FMTTYPE=image/jpeg:https://www.wcsu.edu/events/wp-content/uploads/sites/181/2021/09/926-photo-contest-shuttle-1.jpg
END:VEVENT
END:VCALENDAR