BEGIN:VCALENDAR
VERSION:2.0
PRODID:-//WCSU Events - ECPv6.15.17.1//NONSGML v1.0//EN
CALSCALE:GREGORIAN
METHOD:PUBLISH
X-WR-CALNAME:WCSU Events
X-ORIGINAL-URL:https://www.wcsu.edu/events
X-WR-CALDESC:Events for WCSU Events
REFRESH-INTERVAL;VALUE=DURATION:PT1H
X-Robots-Tag:noindex
X-PUBLISHED-TTL:PT1H
BEGIN:VTIMEZONE
TZID:UTC
BEGIN:STANDARD
TZOFFSETFROM:+0000
TZOFFSETTO:+0000
TZNAME:UTC
DTSTART:20200101T000000
END:STANDARD
END:VTIMEZONE
BEGIN:VTIMEZONE
TZID:America/Halifax
BEGIN:DAYLIGHT
TZOFFSETFROM:-0400
TZOFFSETTO:-0300
TZNAME:ADT
DTSTART:20200308T060000
END:DAYLIGHT
BEGIN:STANDARD
TZOFFSETFROM:-0300
TZOFFSETTO:-0400
TZNAME:AST
DTSTART:20201101T050000
END:STANDARD
BEGIN:DAYLIGHT
TZOFFSETFROM:-0400
TZOFFSETTO:-0300
TZNAME:ADT
DTSTART:20210314T060000
END:DAYLIGHT
BEGIN:STANDARD
TZOFFSETFROM:-0300
TZOFFSETTO:-0400
TZNAME:AST
DTSTART:20211107T050000
END:STANDARD
BEGIN:DAYLIGHT
TZOFFSETFROM:-0400
TZOFFSETTO:-0300
TZNAME:ADT
DTSTART:20220313T060000
END:DAYLIGHT
BEGIN:STANDARD
TZOFFSETFROM:-0300
TZOFFSETTO:-0400
TZNAME:AST
DTSTART:20221106T050000
END:STANDARD
END:VTIMEZONE
BEGIN:VEVENT
DTSTART;TZID=UTC:20211027T170000
DTEND;TZID=UTC:20211027T200000
DTSTAMP:20260422T095257
CREATED:20211022T180858Z
LAST-MODIFIED:20211022T180859Z
UID:10059569-1635354000-1635364800@www.wcsu.edu
SUMMARY:Haunted Hospital Escape Room
DESCRIPTION:MINORITIES IN MEDICINE HAUNTED HOSPITAL ESCAPE ROOM: A fun event with a spooky turn of events! From 5 to 8 p.m. in the Science Building. Discover what really happened to the patient… Sign up using our QR Code!
URL:https://www.wcsu.edu/events/calendar/haunted-hospital-escape-room/
LOCATION:Science Building\, 181 White St.\, Danbury\, CT
CATEGORIES:Entertainment
ATTACH;FMTTYPE=image/png:https://www.wcsu.edu/events/wp-content/uploads/sites/181/2021/10/MM-Escape-Room.png
END:VEVENT
BEGIN:VEVENT
DTSTART;TZID=UTC:20211026T183000
DTEND;TZID=UTC:20211026T210000
DTSTAMP:20260422T095257
CREATED:20211019T180755Z
LAST-MODIFIED:20211022T232939Z
UID:10061473-1635273000-1635282000@www.wcsu.edu
SUMMARY:PAC's Halloween Drive-in
DESCRIPTION:PAC’S HALLOWEEN DRIVE-IN DOUBLE FEATURE: Come spend the night with PAC as we watch “Halloweentown” & “Halloweentown 2”! Sign up for our event is in the Link in our Instagram bio. Find us at @wcsu_pac on Instagram and follow to find out about all of our upcoming events! From 6:30 to 9 p.m. on the Westside Rec Field.
URL:https://www.wcsu.edu/events/calendar/pacs-halloween-drive-in/
LOCATION:Westside REC Field
CATEGORIES:Entertainment,Movie,WOW
ATTACH;FMTTYPE=image/png:https://www.wcsu.edu/events/wp-content/uploads/sites/181/2021/10/PAC-Presents.png
END:VEVENT
BEGIN:VEVENT
DTSTART;TZID=UTC:20211023T143000
DTEND;TZID=UTC:20211023T203000
DTSTAMP:20260422T095257
CREATED:20211013T174855Z
LAST-MODIFIED:20211013T174856Z
UID:10059558-1634999400-1635021000@www.wcsu.edu
SUMMARY:Trip to DEMENTED FX
DESCRIPTION:TRIP TO DEMENTED FX: Join PAC as we travel to the #1 Virtual horror experience in America! From 2:30 to 8:30 p.m. Get your tickets ahead of time.
URL:https://www.wcsu.edu/events/calendar/trip-to-demented-fx/
CATEGORIES:Entertainment,Trip
ATTACH;FMTTYPE=image/png:https://www.wcsu.edu/events/wp-content/uploads/sites/181/2021/10/DEMENTED-FX-UPDATE.png
END:VEVENT
BEGIN:VEVENT
DTSTART;TZID=UTC:20211022T180000
DTEND;TZID=UTC:20211022T220000
DTSTAMP:20260422T095257
CREATED:20210915T230213Z
LAST-MODIFIED:20211021T170908Z
UID:10059254-1634925600-1634940000@www.wcsu.edu
SUMMARY:Who's Got Game?
DESCRIPTION:WHO’S GOT GAME? ON FRIDAY NIGHTS: Friday night game nights are back! Come and join us for Pool\, Ping Pong\, Darts\, Board Games and even some Rec Zone fun. \nEvery Friday night from 6 to 10 p.m. in the Midtown Student Center Game Room\, 2nd Floor and the Rec Zone will be open for your enjoyment. \nThere will be open game nights and tournaments. \nAll student clubs\, organizations and sports teams are welcome to sponsor a themed Friday Night…at no cost! \nGames\, food\, music and giveaways. \nSponsored by CHOICES\, InterCultural Affairs\, Recreation\, Sodexo\, and the Weekend Activities Council – Student Organization Sponsor this NIght: Program Activities Council (PAC) \n  \nAll clubs and organizations are invited to sponsor a Friday Night – who’s Got Game Night…at No Cost to Your Club. \nAll you have to do is agree to host the Friday night and bring your members and friends…and have a good time. \nYou can register on a first come – reserve the date by contacting: Daryle Dennis – dennisd@wcsu.edu
URL:https://www.wcsu.edu/events/calendar/whos-got-game-2021-10-22/
LOCATION:Campus & Student Centers
CATEGORIES:Entertainment
ATTACH;FMTTYPE=image/jpeg:https://www.wcsu.edu/events/wp-content/uploads/sites/181/2021/09/Game-Night-3.jpg
ORGANIZER;CN="Office of InterCultural Affairs":MAILTO:dennisd@wcsu.edu
END:VEVENT
BEGIN:VEVENT
DTSTART;TZID=UTC:20211021T193000
DTEND;TZID=UTC:20211021T220000
DTSTAMP:20260422T095257
CREATED:20211006T233817Z
LAST-MODIFIED:20211013T200821Z
UID:10061412-1634844600-1634853600@www.wcsu.edu
SUMMARY:Midtown Coffeehouse
DESCRIPTION:MIDTOWN COFFEEHOUSE: Please join us for Coffeehouse located in the Midtown Student Center Colonial Corner. Open mic starts at 8 p.m. and goes until 9 p.m. The featured act\, Daniel Madeson\, will perform from 9 – 10 p.m. Sign up is at 7:30 p.m.\, so come early and secure a seat. You don’t want to miss out!
URL:https://www.wcsu.edu/events/calendar/midtown-coffeehouse-15/
LOCATION:Midtown Student Center Colonial Corner\, 181 White St.\, Danbury\, United States
CATEGORIES:Alumni,Coffeehouse,Entertainment,Food,Music,WOW
ATTACH;FMTTYPE=image/jpeg:https://www.wcsu.edu/events/wp-content/uploads/sites/181/2021/10/1021-Coffeehouse-shuttle.jpg
ORGANIZER;CN="Student Affairs":MAILTO:diazv@wcsu.edu
END:VEVENT
BEGIN:VEVENT
DTSTART;TZID=UTC:20211020T200000
DTEND;TZID=UTC:20211020T213000
DTSTAMP:20260422T095257
CREATED:20211008T175204Z
LAST-MODIFIED:20211008T175205Z
UID:10059548-1634760000-1634765400@www.wcsu.edu
SUMMARY:John Zaffis
DESCRIPTION:GODFATHER OF THE PARANORMAL JOHN ZAFFIS: Be prepared for a night of fear! Join PAC at 8 p.m. in Ives Concert Hall as we host John Zaffis\, The Godfather of the Paranormal\, as he shares his scariest stories!
URL:https://www.wcsu.edu/events/calendar/john-zaffis/
LOCATION:Ives Concert Hall\, 181 White St.\, Danbury\, CT
CATEGORIES:Entertainment
ATTACH;FMTTYPE=image/png:https://www.wcsu.edu/events/wp-content/uploads/sites/181/2021/10/JOHN-ZAFFIS-4-1.png
END:VEVENT
BEGIN:VEVENT
DTSTART;TZID=UTC:20211018T190000
DTEND;TZID=UTC:20211018T200000
DTSTAMP:20260422T095257
CREATED:20211018T180219Z
LAST-MODIFIED:20211018T180221Z
UID:10061471-1634583600-1634587200@www.wcsu.edu
SUMMARY:Hispanic Heritage Open Mic Night
DESCRIPTION:HISPANIC HERITAGE OPEN MIC NIGHT: Celebrate Hispanic heritage and share your stories\, songs\, poetry\, etc. during our Hispanic Heritage Open Mic Night\, hosted by LASO and the WCSU Libraries at the Haas Library on Midtown from 7 p.m. to about 8 p.m. We can’t wait to hear what you have to say! Open to WCSU faculty\, staff and students only. 
URL:https://www.wcsu.edu/events/calendar/hispanic-heritage-open-mic-night/
LOCATION:Ruth Haas Library\, 181 White St.\, Danbury\, CT
CATEGORIES:Diversity,Entertainment,Social Event
ATTACH;FMTTYPE=image/jpeg:https://www.wcsu.edu/events/wp-content/uploads/sites/181/2021/10/OpenMicNight-LASO_WOWflyer.jpg
END:VEVENT
BEGIN:VEVENT
DTSTART;TZID=UTC:20211017T170000
DTEND;TZID=UTC:20211017T183000
DTSTAMP:20260422T095257
CREATED:20211013T175737Z
LAST-MODIFIED:20211013T233653Z
UID:10061422-1634490000-1634495400@www.wcsu.edu
SUMMARY:The Amazing Race
DESCRIPTION:THE AMAZING RACE: Join PAC for our The Amazing Race Scavenger Hunt! From 5 to 6:30 p.m. in the North Plaza of the Westside Campus Center.
URL:https://www.wcsu.edu/events/calendar/the-amazing-race/
LOCATION:Westside Campus Center North Plaza\, 43 Lake Ave. Extension\, Danbury\, CT
CATEGORIES:Entertainment,Recreation,Social Event,WOW
ATTACH;FMTTYPE=image/png:https://www.wcsu.edu/events/wp-content/uploads/sites/181/2021/10/The-Amazing-Race-1.png
END:VEVENT
BEGIN:VEVENT
DTSTART;TZID=UTC:20211015T180000
DTEND;TZID=UTC:20211015T220000
DTSTAMP:20260422T095257
CREATED:20210915T230213Z
LAST-MODIFIED:20210922T214209Z
UID:10059252-1634320800-1634335200@www.wcsu.edu
SUMMARY:Who's Got Game?
DESCRIPTION:WHO’S GOT GAME? ON FRIDAY NIGHTS: Friday night game nights are back! Come and join us for Pool\, Ping Pong\, Darts\, Board Games and even some Rec Zone fun. \nEvery Friday night from 6 to 10 p.m. in the Midtown Student Center Game Room\, 2nd Floor and the Rec Zone will be open for your enjoyment. \nThere will be open game nights and tournaments. \nAll student clubs\, organizations and sports teams are welcome to sponsor a themed Friday Night…at no cost! \nGames\, food\, music and giveaways. \nSponsored by CHOICES\, InterCultural Affairs\, Recreation\, Sodexo\, and the Weekend Activities Council \n  \nAll clubs and organizations are invited to sponsor a Friday Night – who’s Got Game Night…at No Cost to Your Club. \nAll you have to do is agree to host the Friday night and bring your members and friends…and have a good time. \nYou can register on a first come – reserve the date by contacting: Daryle Dennis – dennisd@wcsu.edu
URL:https://www.wcsu.edu/events/calendar/whos-got-game/2021-10-15/
LOCATION:Campus & Student Centers
CATEGORIES:Entertainment
ATTACH;FMTTYPE=image/jpeg:https://www.wcsu.edu/events/wp-content/uploads/sites/181/2021/09/Game-Night-3.jpg
ORGANIZER;CN="Office of InterCultural Affairs":MAILTO:dennisd@wcsu.edu
END:VEVENT
BEGIN:VEVENT
DTSTART;TZID=UTC:20211014T140000
DTEND;TZID=UTC:20211014T180000
DTSTAMP:20260422T095257
CREATED:20211008T175345Z
LAST-MODIFIED:20211013T195914Z
UID:10059550-1634220000-1634234400@www.wcsu.edu
SUMMARY:PAC Pumpkin Patch
DESCRIPTION:PAC PUMPKIN PATCH: PAC is bringing the Pumpkin Patch to campus! Come pick a pumpkin with PAC from 2 to 6 p.m. on the Westside Rec Field.
URL:https://www.wcsu.edu/events/calendar/pac-pumpkin-patch/
LOCATION:Westside REC Field
CATEGORIES:Entertainment,Social Event,WOW
ATTACH;FMTTYPE=image/png:https://www.wcsu.edu/events/wp-content/uploads/sites/181/2021/10/WCSU-PUMPKIN-PATCH-4.png
END:VEVENT
BEGIN:VEVENT
DTSTART;TZID=UTC:20211008T200000
DTEND;TZID=UTC:20211008T220000
DTSTAMP:20260422T095257
CREATED:20210928T161251Z
LAST-MODIFIED:20210928T161251Z
UID:10059458-1633723200-1633730400@www.wcsu.edu
SUMMARY:WCSU BONFIRE
DESCRIPTION:WCSU BONFIRE: Come hang out with PAC as we host this years Bonfire the day before the Homecoming game from 8 to 10 p.m. at the Westside Rec Field! Hangout by the fire and relax with your friends. Come enjoy and get a free shirt!
URL:https://www.wcsu.edu/events/calendar/wcsu-bonfire-2/
LOCATION:Westside REC Field
CATEGORIES:Entertainment,Homecoming,Social Event
ATTACH;FMTTYPE=image/png:https://www.wcsu.edu/events/wp-content/uploads/sites/181/2021/09/BONFIRE-2.png
END:VEVENT
BEGIN:VEVENT
DTSTART;TZID=UTC:20211008T180000
DTEND;TZID=UTC:20211008T220000
DTSTAMP:20260422T095257
CREATED:20210915T230213Z
LAST-MODIFIED:20210922T214209Z
UID:10059251-1633716000-1633730400@www.wcsu.edu
SUMMARY:Who's Got Game?
DESCRIPTION:WHO’S GOT GAME? ON FRIDAY NIGHTS: Friday night game nights are back! Come and join us for Pool\, Ping Pong\, Darts\, Board Games and even some Rec Zone fun. \nEvery Friday night from 6 to 10 p.m. in the Midtown Student Center Game Room\, 2nd Floor and the Rec Zone will be open for your enjoyment. \nThere will be open game nights and tournaments. \nAll student clubs\, organizations and sports teams are welcome to sponsor a themed Friday Night…at no cost! \nGames\, food\, music and giveaways. \nSponsored by CHOICES\, InterCultural Affairs\, Recreation\, Sodexo\, and the Weekend Activities Council \n  \nAll clubs and organizations are invited to sponsor a Friday Night – who’s Got Game Night…at No Cost to Your Club. \nAll you have to do is agree to host the Friday night and bring your members and friends…and have a good time. \nYou can register on a first come – reserve the date by contacting: Daryle Dennis – dennisd@wcsu.edu
URL:https://www.wcsu.edu/events/calendar/whos-got-game/2021-10-08/
LOCATION:Campus & Student Centers
CATEGORIES:Entertainment
ATTACH;FMTTYPE=image/jpeg:https://www.wcsu.edu/events/wp-content/uploads/sites/181/2021/09/Game-Night-3.jpg
ORGANIZER;CN="Office of InterCultural Affairs":MAILTO:dennisd@wcsu.edu
END:VEVENT
BEGIN:VEVENT
DTSTART;TZID=UTC:20211006T200000
DTEND;TZID=UTC:20211006T220000
DTSTAMP:20260422T095257
CREATED:20210928T161408Z
LAST-MODIFIED:20210928T161711Z
UID:10059444-1633550400-1633557600@www.wcsu.edu
SUMMARY:Take it or Leave it
DESCRIPTION:TAKE IT OR LEAVE IT: Come play take it or leave it with PAC! Come for a chance to win gift cards from 8 to 10 p.m. in Ives Concert Hall.
URL:https://www.wcsu.edu/events/calendar/take-it-or-leave-it/
LOCATION:Ives Concert Hall\, 181 White St.\, Danbury\, CT
CATEGORIES:Contest,Entertainment,Social Event,WOW
ATTACH;FMTTYPE=image/png:https://www.wcsu.edu/events/wp-content/uploads/sites/181/2021/09/take-2.png
END:VEVENT
BEGIN:VEVENT
DTSTART;TZID=UTC:20211006T110000
DTEND;TZID=UTC:20211006T150000
DTSTAMP:20260422T095257
CREATED:20211004T172528Z
LAST-MODIFIED:20211004T172658Z
UID:10061397-1633518000-1633532400@www.wcsu.edu
SUMMARY:Pie A TeKE
DESCRIPTION:PIE A TKE: Come out and pie the brothers of Tau Kappa Epsilon in the face while donating to a good cause. From 11 to 3 p.m. in the Midtown campus Quad.
URL:https://www.wcsu.edu/events/calendar/pie-a-teke/
LOCATION:Midtown Campus Quad\, 181 White Street\, Danbury\, CT
CATEGORIES:Charity/Fundraising,Entertainment,WOW
ATTACH;FMTTYPE=image/png:https://www.wcsu.edu/events/wp-content/uploads/sites/181/2021/10/0001-9124158127_20211002_010843_0000-e1633353993577.png
ORGANIZER;CN="Tau Kappa Epsilon":MAILTO:tz.taukappaepsilon@gmail.com
END:VEVENT
BEGIN:VEVENT
DTSTART;TZID=UTC:20211004T110000
DTEND;TZID=UTC:20211004T140000
DTSTAMP:20260422T095257
CREATED:20210922T233153Z
LAST-MODIFIED:20210922T234630Z
UID:10061356-1633345200-1633356000@www.wcsu.edu
SUMMARY:Pumpkin Bank Decoration
DESCRIPTION:PUMPKIN BANK DECORATION: Come decorate a ceramic pumpkin with PAC! From 11 a.m. to 2 p.m. in the Midtown Student Center.
URL:https://www.wcsu.edu/events/calendar/pumpkin-bank-decoration/
LOCATION:Midtown Student Center\, 181 White St.\, Danbury\, CT
CATEGORIES:Entertainment
ATTACH;FMTTYPE=image/jpeg:https://www.wcsu.edu/events/wp-content/uploads/sites/181/2021/09/Ceramic-Pumkin-e1632339872955.jpg
END:VEVENT
BEGIN:VEVENT
DTSTART;TZID=UTC:20211003T120000
DTEND;TZID=UTC:20211003T150000
DTSTAMP:20260422T095257
CREATED:20210920T162527Z
LAST-MODIFIED:20210920T194827Z
UID:10061336-1633262400-1633273200@www.wcsu.edu
SUMMARY:Run or Dye
DESCRIPTION:RUN OR DYE!: The run of the semester! From noon to 3 p.m. at Ives Concert Park. Register online to guarantee you will receive a shirt. Open to students\, faculty and staff!
URL:https://www.wcsu.edu/events/calendar/run-or-dye/
LOCATION:Ives Concert Park\, 43 Lake Ave. Extension\, Danbury\, CT
CATEGORIES:Entertainment,Recreation,WOW
ATTACH;FMTTYPE=image/png:https://www.wcsu.edu/events/wp-content/uploads/sites/181/2021/09/RUN-or-Dye-e1632152899659.png
END:VEVENT
BEGIN:VEVENT
DTSTART;TZID=UTC:20211001T180000
DTEND;TZID=UTC:20211001T220000
DTSTAMP:20260422T095257
CREATED:20210915T230213Z
LAST-MODIFIED:20210922T214209Z
UID:10059250-1633111200-1633125600@www.wcsu.edu
SUMMARY:Who's Got Game?
DESCRIPTION:WHO’S GOT GAME? ON FRIDAY NIGHTS: Friday night game nights are back! Come and join us for Pool\, Ping Pong\, Darts\, Board Games and even some Rec Zone fun. \nEvery Friday night from 6 to 10 p.m. in the Midtown Student Center Game Room\, 2nd Floor and the Rec Zone will be open for your enjoyment. \nThere will be open game nights and tournaments. \nAll student clubs\, organizations and sports teams are welcome to sponsor a themed Friday Night…at no cost! \nGames\, food\, music and giveaways. \nSponsored by CHOICES\, InterCultural Affairs\, Recreation\, Sodexo\, and the Weekend Activities Council \n  \nAll clubs and organizations are invited to sponsor a Friday Night – who’s Got Game Night…at No Cost to Your Club. \nAll you have to do is agree to host the Friday night and bring your members and friends…and have a good time. \nYou can register on a first come – reserve the date by contacting: Daryle Dennis – dennisd@wcsu.edu
URL:https://www.wcsu.edu/events/calendar/whos-got-game/2021-10-01/
LOCATION:Campus & Student Centers
CATEGORIES:Entertainment
ATTACH;FMTTYPE=image/jpeg:https://www.wcsu.edu/events/wp-content/uploads/sites/181/2021/09/Game-Night-3.jpg
ORGANIZER;CN="Office of InterCultural Affairs":MAILTO:dennisd@wcsu.edu
END:VEVENT
BEGIN:VEVENT
DTSTART;TZID=UTC:20210928T183000
DTEND;TZID=UTC:20210928T210000
DTSTAMP:20260422T095257
CREATED:20210902T194816Z
LAST-MODIFIED:20210922T232116Z
UID:10060476-1632853800-1632862800@www.wcsu.edu
SUMMARY:Fall Bash 2021!
DESCRIPTION:FALL BASH 2021: PAC Presents FALL BASH 2021! Come join us for fun\, inflatables\, entertainment and food from 6:30 to 9 p.m. on the Westside Campus Center North Patio!
URL:https://www.wcsu.edu/events/calendar/fall-bash-2021/
LOCATION:Westside Campus Center North Plaza\, 43 Lake Ave. Extension\, Danbury\, CT
CATEGORIES:Entertainment,Food,Recreation
ATTACH;FMTTYPE=image/jpeg:https://www.wcsu.edu/events/wp-content/uploads/sites/181/2021/09/Fall-bash-1.jpg
END:VEVENT
BEGIN:VEVENT
DTSTART;TZID=UTC:20210924T180000
DTEND;TZID=UTC:20210924T220000
DTSTAMP:20260422T095257
CREATED:20210915T230213Z
LAST-MODIFIED:20210922T214209Z
UID:10059249-1632506400-1632520800@www.wcsu.edu
SUMMARY:Who's Got Game?
DESCRIPTION:WHO’S GOT GAME? ON FRIDAY NIGHTS: Friday night game nights are back! Come and join us for Pool\, Ping Pong\, Darts\, Board Games and even some Rec Zone fun. \nEvery Friday night from 6 to 10 p.m. in the Midtown Student Center Game Room\, 2nd Floor and the Rec Zone will be open for your enjoyment. \nThere will be open game nights and tournaments. \nAll student clubs\, organizations and sports teams are welcome to sponsor a themed Friday Night…at no cost! \nGames\, food\, music and giveaways. \nSponsored by CHOICES\, InterCultural Affairs\, Recreation\, Sodexo\, and the Weekend Activities Council \n  \nAll clubs and organizations are invited to sponsor a Friday Night – who’s Got Game Night…at No Cost to Your Club. \nAll you have to do is agree to host the Friday night and bring your members and friends…and have a good time. \nYou can register on a first come – reserve the date by contacting: Daryle Dennis – dennisd@wcsu.edu
URL:https://www.wcsu.edu/events/calendar/whos-got-game/2021-09-24/
LOCATION:Campus & Student Centers
CATEGORIES:Entertainment
ATTACH;FMTTYPE=image/jpeg:https://www.wcsu.edu/events/wp-content/uploads/sites/181/2021/09/Game-Night-3.jpg
ORGANIZER;CN="Office of InterCultural Affairs":MAILTO:dennisd@wcsu.edu
END:VEVENT
BEGIN:VEVENT
DTSTART;TZID=UTC:20210922T110000
DTEND;TZID=UTC:20210922T140000
DTSTAMP:20260422T095257
CREATED:20210909T163001Z
LAST-MODIFIED:20210909T163002Z
UID:10060492-1632308400-1632319200@www.wcsu.edu
SUMMARY:Aloe Plant Novelty
DESCRIPTION:ALOE PLANT NOVELTY: Come stop by the Midtown Student Center between 11 a.m. and 2 p.m. and decorate your very own Aloe plant! Sponsored by PAC.
URL:https://www.wcsu.edu/events/calendar/aloe-plant-novelty/
LOCATION:Midtown Student Center\, 181 White St.\, Danbury\, CT
CATEGORIES:Entertainment,WOW
ATTACH;FMTTYPE=image/png:https://www.wcsu.edu/events/wp-content/uploads/sites/181/2021/09/ALOE-PLANT-NOVELTY.png
END:VEVENT
BEGIN:VEVENT
DTSTART;TZID=UTC:20210918T100000
DTEND;TZID=UTC:20210918T193000
DTSTAMP:20260422T095257
CREATED:20210830T201254Z
LAST-MODIFIED:20210914T210011Z
UID:10060444-1631959200-1631993400@www.wcsu.edu
SUMMARY:Trip to The Big E
DESCRIPTION:TRIP TO THE BIG E: Take a trip with WCSU PAC to The Big E! Purchase a ticket and take a bus ride with us and explore the fair! Pick up from Westside will be at 10 a.m.\, and Midtown pick up will be at 10:15 a.m. We will depart the fair at 7:30 p.m. to return to WCSU campus.  Tickets are $10 for students\, and will be available at the Midtown Student Center and Westside Campus Center box offices.
URL:https://www.wcsu.edu/events/calendar/trip-to-the-big-e/
CATEGORIES:Entertainment,Food,Social Event,Transportation
ATTACH;FMTTYPE=image/png:https://www.wcsu.edu/events/wp-content/uploads/sites/181/2021/08/The-Big-E-Fair-Flyer.png
END:VEVENT
BEGIN:VEVENT
DTSTART;TZID=UTC:20210916T200000
DTEND;TZID=UTC:20210916T220000
DTSTAMP:20260422T095257
CREATED:20210910T225151Z
LAST-MODIFIED:20210910T225214Z
UID:10060503-1631822400-1631829600@www.wcsu.edu
SUMMARY:Midtown Coffeehouse
DESCRIPTION:MIDTOWN COFFEEHOUSE: Please join us at the Midtown Student Center Coffeehouse from 8 to 10 p.m. Our featured performer this coming week will be Frankie Becerra. Frankie Becerra is a standup comic\, writer\, and actor who has performed all over the tristate area and in NYC clubs such as Standup NY\, Broadway Comedy Club\, and many more. Frankie has also produced many of his own live comedy shows in New York\, and hosts an open mic night in Brewster\, NY. Frankie graduated from WCSU in 2017 and was a regular coffeehouse performer during his time as a student.
URL:https://www.wcsu.edu/events/calendar/midtown-coffeehouse-12/
LOCATION:Midtown Student Center\, 181 White St.\, Danbury\, CT
CATEGORIES:Entertainment
ATTACH;FMTTYPE=image/jpeg:https://www.wcsu.edu/events/wp-content/uploads/sites/181/2021/09/Frank-Becerra-Coffeehouse-Flyer-9.16.21.jpg
END:VEVENT
BEGIN:VEVENT
DTSTART;TZID=UTC:20210915T200000
DTEND;TZID=UTC:20210915T210000
DTSTAMP:20260422T095257
CREATED:20210901T190741Z
LAST-MODIFIED:20210901T190741Z
UID:10060470-1631736000-1631739600@www.wcsu.edu
SUMMARY:Fall Bash Bingo
DESCRIPTION:BINGO: Come celebrate the beginning of the Fall Bash and play some Bingo with PAC at 8 p.m. on the Westside Campus Center Patio!
URL:https://www.wcsu.edu/events/calendar/fall-bash-bingo/
LOCATION:Westside Campus Center Patio
CATEGORIES:Entertainment
ATTACH;FMTTYPE=image/png:https://www.wcsu.edu/events/wp-content/uploads/sites/181/2021/09/Fall-Bash-BINGO.png
END:VEVENT
BEGIN:VEVENT
DTSTART;TZID=UTC:20210908T110000
DTEND;TZID=UTC:20210908T160000
DTSTAMP:20260422T095257
CREATED:20210806T212248Z
LAST-MODIFIED:20210901T180919Z
UID:10060451-1631098800-1631116800@www.wcsu.edu
SUMMARY:Clubs Carnival
DESCRIPTION:CLUBS CARNIVAL: Looking to get more involved on campus and want to meet new people? Come meet WCSU clubs and organizations at Clubs Carnival! There will be food\, prizes\, music\, entertainment\, and more from 11 a.m. to 4 p.m. on the Midtown campus on the Litchfield and Newbury lawns. 
URL:https://www.wcsu.edu/events/calendar/clubs-carnival-3-2021-09-08/
LOCATION:Midtown campus\, 181 White St.\, Danbury\, CT
CATEGORIES:Entertainment,Food,Social Event
ATTACH;FMTTYPE=image/png:https://www.wcsu.edu/events/wp-content/uploads/sites/181/2021/08/updated-CC.png
END:VEVENT
BEGIN:VEVENT
DTSTART;TZID=America/Halifax:20210907T203000
DTEND;TZID=America/Halifax:20210907T220000
DTSTAMP:20260422T095257
CREATED:20210901T181302Z
LAST-MODIFIED:20210901T181303Z
UID:10060468-1631046600-1631052000@www.wcsu.edu
SUMMARY:P.I.B.E. Fall Auditions
DESCRIPTION:PLAY IT BY EAR FALL AUDITIONS: Play It By Ear is WCSU’s premier coed a cappella group! We are holding our fall auditions from 8:30 to 10 p.m. in the Honors Lyceum on Midtown. Please prepare a verse and chorus (about 30-60 seconds) of any song that you feel shows off your voice. We are looking for singers and beatboxers of all kinds\, and we want you! Feel free to email us at playitbyearacapella@gmail.com with any questions. We hope to see you there!
URL:https://www.wcsu.edu/events/calendar/p-i-b-e-fall-auditions/
LOCATION:Midtown campus\, 181 White St.\, Danbury\, CT
CATEGORIES:Entertainment,WOW
ATTACH;FMTTYPE=image/jpeg:https://www.wcsu.edu/events/wp-content/uploads/sites/181/2021/09/PIBE-logo.jpeg
ORGANIZER;CN="Play It By Ear A Cappella":MAILTO:playitbyearacapella@gmail.com
END:VEVENT
BEGIN:VEVENT
DTSTART;TZID=UTC:20210901T110000
DTEND;TZID=UTC:20210901T160000
DTSTAMP:20260422T095257
CREATED:20210806T212248Z
LAST-MODIFIED:20210830T231356Z
UID:10060402-1630494000-1630512000@www.wcsu.edu
SUMMARY:POSTPONED: Clubs Carnival
DESCRIPTION:POSTPONED: CLUBS CARNIVAL: Looking to get more involved on campus and want to meet new people? Come meet WCSU clubs and organizations at Clubs Carnival! There will be food\, prizes\, music\, entertainment\, and more from 11 a.m. to 4 p.m. on the Midtown campus on the Litchfield and Newbury lawns. This event will now take place on September 8.
URL:https://www.wcsu.edu/events/calendar/clubs-carnival-3/2021-09-01/
LOCATION:Midtown campus\, 181 White St.\, Danbury\, CT
CATEGORIES:Entertainment,Food,Social Event
ATTACH;FMTTYPE=image/png:https://www.wcsu.edu/events/wp-content/uploads/sites/181/2021/08/Clubs-carnival-2021-post.png
END:VEVENT
BEGIN:VEVENT
DTSTART;TZID=UTC:20210828T200000
DTEND;TZID=UTC:20210828T220000
DTSTAMP:20260422T095257
CREATED:20210824T161957Z
LAST-MODIFIED:20210827T170700Z
UID:10060429-1630180800-1630188000@www.wcsu.edu
SUMMARY:Welcome Back Bingo
DESCRIPTION:WELCOME BACK BINGO: Join us as we welcome students back to WestConn with our first BIngo of the semester from 8 to 10 p.m. at the Westside Campus Center north patio.
URL:https://www.wcsu.edu/events/calendar/welcome-back-bingo/
LOCATION:Westside Campus Center Patio
CATEGORIES:Entertainment,Social Event
ATTACH;FMTTYPE=image/jpeg:https://www.wcsu.edu/events/wp-content/uploads/sites/181/2021/08/Bingo.jpg
END:VEVENT
END:VCALENDAR