BEGIN:VCALENDAR
VERSION:2.0
PRODID:-//WCSU Events - ECPv6.15.17.1//NONSGML v1.0//EN
CALSCALE:GREGORIAN
METHOD:PUBLISH
X-WR-CALNAME:WCSU Events
X-ORIGINAL-URL:https://www.wcsu.edu/events
X-WR-CALDESC:Events for WCSU Events
REFRESH-INTERVAL;VALUE=DURATION:PT1H
X-Robots-Tag:noindex
X-PUBLISHED-TTL:PT1H
BEGIN:VTIMEZONE
TZID:America/New_York
BEGIN:DAYLIGHT
TZOFFSETFROM:-0500
TZOFFSETTO:-0400
TZNAME:EDT
DTSTART:20240310T070000
END:DAYLIGHT
BEGIN:STANDARD
TZOFFSETFROM:-0400
TZOFFSETTO:-0500
TZNAME:EST
DTSTART:20241103T060000
END:STANDARD
BEGIN:DAYLIGHT
TZOFFSETFROM:-0500
TZOFFSETTO:-0400
TZNAME:EDT
DTSTART:20250309T070000
END:DAYLIGHT
BEGIN:STANDARD
TZOFFSETFROM:-0400
TZOFFSETTO:-0500
TZNAME:EST
DTSTART:20251102T060000
END:STANDARD
BEGIN:DAYLIGHT
TZOFFSETFROM:-0500
TZOFFSETTO:-0400
TZNAME:EDT
DTSTART:20260308T070000
END:DAYLIGHT
BEGIN:STANDARD
TZOFFSETFROM:-0400
TZOFFSETTO:-0500
TZNAME:EST
DTSTART:20261101T060000
END:STANDARD
END:VTIMEZONE
BEGIN:VEVENT
DTSTART;TZID=America/New_York:20251103T071500
DTEND;TZID=America/New_York:20251103T093000
DTSTAMP:20260419T154251
CREATED:20251002T192952Z
LAST-MODIFIED:20251013T202040Z
UID:10072144-1762154100-1762162200@www.wcsu.edu
SUMMARY:Softball's 28th Annual Breakfast Fundraiser
DESCRIPTION:SOFTBALL’S 28TH ANNUAL BREAKFAST FUNDRAISER: On Monday\, Nov. 3\, the 28th Annual Opening Day Breakfast will be held to officially “throw out the first pitch” of the 2025-26 season! Once again\, we are asking for your support. We invite you to attend for free or if you wish to sponsor your own table and invite seven of your friends or coworkers\, please reach out to RSVP or sponsor a table. There will also be a short presentation by WCSU Women’s Softball Head Coach Heather Stone\, team member introductions\, silent auction\, and a raffle with great prizes! \nWe hope you will be able to join us at the Westside Campus Center Ballroom\, from 7 to 8:30 a.m. \nRSVP via email to stoneh@wcsu.edu or 837-9019.\n——————————————————————————————————–
URL:https://www.wcsu.edu/events/calendar/softballa-28th-annual-breakfast-fundraiser/
LOCATION:Westside Campus Center Ballroom\, 43 Lake Ave. Extension\, Danbury\, CT
CATEGORIES:Athletics,Food,Fundraising
ATTACH;FMTTYPE=image/jpeg:https://www.wcsu.edu/events/wp-content/uploads/sites/181/2023/01/buffet.jpg
ORGANIZER;CN="WestConn Softball":MAILTO:stoneh@wcsu.edu
END:VEVENT
BEGIN:VEVENT
DTSTART;TZID=America/New_York:20251103T160000
DTEND;TZID=America/New_York:20251103T190000
DTSTAMP:20260419T154251
CREATED:20250908T174248Z
LAST-MODIFIED:20250912T193623Z
UID:10071480-1762185600-1762196400@www.wcsu.edu
SUMMARY:Day of the Dead Dinner
DESCRIPTION:DAY OF THE DEAD DINNER: Honor Día de los Muertos with a special themed dinner at both dining halls. Celebrate this vibrant tradition with colorful décor and festive dishes that pay tribute to the holiday’s rich cultural heritage. From 4 to 7 p.m. in Berkshire Hall on the Midtown campus and the Westside Campus Center.
URL:https://www.wcsu.edu/events/calendar/day-of-the-dead/
LOCATION:Berkshire Hall and Westside Campus Center Dining\, Danbury\, CT
CATEGORIES:Diversity,Food
ATTACH;FMTTYPE=image/jpeg:https://www.wcsu.edu/events/wp-content/uploads/sites/181/2023/10/Berkshire-10-18-23.jpg
ORGANIZER;CN="WCSU Dining":MAILTO:heidi.diaz@sodexo.com
END:VEVENT
END:VCALENDAR