BEGIN:VCALENDAR
VERSION:2.0
PRODID:-//WCSU Events - ECPv6.15.17.1//NONSGML v1.0//EN
CALSCALE:GREGORIAN
METHOD:PUBLISH
X-ORIGINAL-URL:https://www.wcsu.edu/events
X-WR-CALDESC:Events for WCSU Events
REFRESH-INTERVAL;VALUE=DURATION:PT1H
X-Robots-Tag:noindex
X-PUBLISHED-TTL:PT1H
BEGIN:VTIMEZONE
TZID:America/New_York
BEGIN:DAYLIGHT
TZOFFSETFROM:-0500
TZOFFSETTO:-0400
TZNAME:EDT
DTSTART:20250309T070000
END:DAYLIGHT
BEGIN:STANDARD
TZOFFSETFROM:-0400
TZOFFSETTO:-0500
TZNAME:EST
DTSTART:20251102T060000
END:STANDARD
BEGIN:DAYLIGHT
TZOFFSETFROM:-0500
TZOFFSETTO:-0400
TZNAME:EDT
DTSTART:20260308T070000
END:DAYLIGHT
BEGIN:STANDARD
TZOFFSETFROM:-0400
TZOFFSETTO:-0500
TZNAME:EST
DTSTART:20261101T060000
END:STANDARD
BEGIN:DAYLIGHT
TZOFFSETFROM:-0500
TZOFFSETTO:-0400
TZNAME:EDT
DTSTART:20270314T070000
END:DAYLIGHT
BEGIN:STANDARD
TZOFFSETFROM:-0400
TZOFFSETTO:-0500
TZNAME:EST
DTSTART:20271107T060000
END:STANDARD
END:VTIMEZONE
BEGIN:VEVENT
DTSTART;TZID=America/New_York:20260302T130000
DTEND;TZID=America/New_York:20260302T140000
DTSTAMP:20260419T122346
CREATED:20260106T140418Z
LAST-MODIFIED:20260106T140418Z
UID:10074085-1772456400-1772460000@www.wcsu.edu
SUMMARY:Graduate Virtual Information Sessions
DESCRIPTION:GRADUATE VIRTUAL INFORMATION SESSIONS: At Western Connecticut State University\, we are committed to helping you achieve your goals with flexible\, high-quality graduate programs designed to enhance your career opportunities and personal growth. \nOur Virtual Information Sessions provide an opportunity to connect with faculty and program coordinators to learn more about our graduate programs. Whether you are exploring your options or ready to apply\, these sessions will give you valuable insights into program structure\, curriculum\, admission requirements\, and career prospects. \nJoin us to discover how a WestConn graduate degree can help you stand out in today’s competitive job market. Register for an upcoming virtual information session and take the first step toward achieving your academic and professional aspirations! \nClick here to register for a virtual information session. \n\n\n\n\n\n\n\n\n\n\n\n\n\n\n\n\n\n\nMarch 2026 \n\nMonday\, 3/2/2026\, 1 PM EST – M.S. in Homeland Security – Click this link to join the information session.\nMonday\, 3/9/2026\, 6 PM EST – M.S. in Addiction Studies – Click this link to join the information session.\n\nApril 2026 \n\nWednesday\, 4/8/2026\, 4 PM EST – M.S. in Homeland Security – Virtual Information Session Link.\nFriday\, 04/24/2026\, 6 PM EST – Master of Health Administration – Click this link to join the information session.\nFriday\, 04/24/2026\, 1 PM EST – Master of Business Administration MBA – Click this link to join the information session.
URL:https://www.wcsu.edu/events/calendar/graduate-virtual-information-sessions-52/
LOCATION:Virtual
CATEGORIES:Career search,Information Session,Public Events,Virtual event
ATTACH;FMTTYPE=image/jpeg:https://www.wcsu.edu/events/wp-content/uploads/sites/181/2025/04/Virtual-Event-500x300-1.jpg
END:VEVENT
BEGIN:VEVENT
DTSTART;TZID=America/New_York:20260304T190000
DTEND;TZID=America/New_York:20260304T210000
DTSTAMP:20260419T122346
CREATED:20260302T144735Z
LAST-MODIFIED:20260302T144735Z
UID:10074425-1772650800-1772658000@www.wcsu.edu
SUMMARY:I'm So Facey Dancehall Fit
DESCRIPTION:🔥 I’M SO FACEY DANCEHALL FIT: Get ready to whine\, vibe\, and move your feet with Jason Facey & DJ Fire at the ultimate dancehall experience! \nMarch 4 at 7 p.m.\nWestside Campus Center Ballroom \nCome catch the vibes\, bring your crew\, and let the rhythm take over.\nThis is more than a dance class — it’s a whole mood. All bodies\, all levels – just bring your energy and let the music do the rest! ✨ \nGet Facey and get moving! Dancehall Fit blends infectious Caribbean rhythms with easy-to-follow moves that make working out feel like a party. All bodies\, all levels—just bring your energy and let the music do the rest. All are welcome!
URL:https://www.wcsu.edu/events/calendar/im-so-facey-dancehall-fit/
LOCATION:Westside Campus Center Ballroom\, 43 Lake Ave. Extension\, Danbury\, CT
CATEGORIES:Dance,Diversity,Entertainment,International,Public Events,WOW
ATTACH;FMTTYPE=image/jpeg:https://www.wcsu.edu/events/wp-content/uploads/sites/181/2023/02/Westside-Campus-Center2.jpg
ORGANIZER;CN="Office of InterCultural Affairs":MAILTO:dennisd@wcsu.edu
END:VEVENT
BEGIN:VEVENT
DTSTART;TZID=America/New_York:20260309T120000
DTEND;TZID=America/New_York:20260309T140000
DTSTAMP:20260419T122346
CREATED:20260227T172427Z
LAST-MODIFIED:20260227T172427Z
UID:10074420-1773057600-1773064800@www.wcsu.edu
SUMMARY:International Women's Day Celebration
DESCRIPTION:INTERNATIONAL WOMEN’S DAY CELEBRATION: Join us in celebrating International Women’s Day! \n🌸 International Women’s Day Celebration\n📅 Monday\, March 9\n⏰ noon – 2 p.m. in Berkshire Hall on the Midtown campus \nIn honor of International Women’s Day\, we invite you to come together as a campus community to recognize and celebrate the social\, economic\, cultural\, and political achievements of women around the world. \nStop by to:\n✨ Celebrate the contributions of women past and present\n✨ Engage in meaningful dialogue and reflection\n✨ Connect with fellow students\, faculty\, and staff\n✨ Enjoy light refreshments and community-building activities \nLet’s uplift\, empower\, and honor the voices and leadership of women in our community and beyond. All are welcome! 💜
URL:https://www.wcsu.edu/events/calendar/international-womens-day-celebration/
LOCATION:Berkshire Hall\, 181 White St.\, Danbury\, CT
CATEGORIES:Diversity,Information Session,International,Leadership,Public Events,WOW
ATTACH;FMTTYPE=image/jpeg:https://www.wcsu.edu/events/wp-content/uploads/sites/181/2025/02/Womens-History-Month_500x300.jpg
END:VEVENT
BEGIN:VEVENT
DTSTART;TZID=America/New_York:20260309T180000
DTEND;TZID=America/New_York:20260309T190000
DTSTAMP:20260419T122346
CREATED:20260106T140450Z
LAST-MODIFIED:20260106T140450Z
UID:10074086-1773079200-1773082800@www.wcsu.edu
SUMMARY:Graduate Virtual Information Sessions
DESCRIPTION:GRADUATE VIRTUAL INFORMATION SESSIONS: At Western Connecticut State University\, we are committed to helping you achieve your goals with flexible\, high-quality graduate programs designed to enhance your career opportunities and personal growth. \nOur Virtual Information Sessions provide an opportunity to connect with faculty and program coordinators to learn more about our graduate programs. Whether you are exploring your options or ready to apply\, these sessions will give you valuable insights into program structure\, curriculum\, admission requirements\, and career prospects. \nJoin us to discover how a WestConn graduate degree can help you stand out in today’s competitive job market. Register for an upcoming virtual information session and take the first step toward achieving your academic and professional aspirations! \nClick here to register for a virtual information session. \n\n\n\n\n\n\n\n\n\n\n\n\n\n\n\n\n\n\nMarch 2026 \n\nMonday\, 3/2/2026\, 1 PM EST – M.S. in Homeland Security – Click this link to join the information session.\nMonday\, 3/9/2026\, 6 PM EST – M.S. in Addiction Studies – Click this link to join the information session.\n\nApril 2026 \n\nWednesday\, 4/8/2026\, 4 PM EST – M.S. in Homeland Security – Virtual Information Session Link.\nFriday\, 04/24/2026\, 6 PM EST – Master of Health Administration – Click this link to join the information session.\nFriday\, 04/24/2026\, 1 PM EST – Master of Business Administration MBA – Click this link to join the information session.
URL:https://www.wcsu.edu/events/calendar/graduate-virtual-information-sessions-53/
LOCATION:Virtual
CATEGORIES:Career search,Information Session,Public Events,Virtual event
ATTACH;FMTTYPE=image/jpeg:https://www.wcsu.edu/events/wp-content/uploads/sites/181/2025/04/Virtual-Event-500x300-1.jpg
END:VEVENT
BEGIN:VEVENT
DTSTART;TZID=America/New_York:20260311T170000
DTEND;TZID=America/New_York:20260311T190000
DTSTAMP:20260419T122346
CREATED:20260227T135105Z
LAST-MODIFIED:20260302T144124Z
UID:10074415-1773248400-1773255600@www.wcsu.edu
SUMMARY:Period Justice MoonBee
DESCRIPTION:PERIOD JUSTICE MOONBEE: The Period Justice MoonBee is a free event for WCSU students\, staff\, and members of the public to prepare menstrual supply kits for girls and women around the world. No sewing experience necessary! Refreshments will be served; all supplies provided. \nWe will also be screening the short documentary film “Period: End of Sentence” about Indian women fighting the stigma surrounding menstruation and their journey to begin manufacturing sanitary pads. \nFeel free to bring friends and family. RSVP requested at https://forms.office.com/r/rTCcHZr2Tp but not required. First six (6) students to RSVP and attend will receive a reusable menstrual cup\, courtesy of the WCSU Health Services. We also encourage you to bring disposable menstrual supplies to donate to the WCSU period pantry. \nQuestions? Contact Christine Hegel-Cantarella at hegelcantarellac@wcsu.edu \nComing from off campus? The event will take place on the WCSU Midtown campus\, in White Hall 127. There is free parking on campus in the lot at Osborne Street and Fifth Avenue.
URL:https://www.wcsu.edu/events/calendar/period-justice-moonbee/
LOCATION:White Hall 127\, 181 White St.\, Danbury\, CT
CATEGORIES:Charity/Fundraising,Community Service,Diversity,Health And Wellness,Movie,Public Events
ATTACH;FMTTYPE=image/jpeg:https://www.wcsu.edu/events/wp-content/uploads/sites/181/2025/02/Womens-History-Month_500x300.jpg
ORGANIZER;CN="Social Sciences Club":MAILTO:bensonbeckman001@wcsu.edu
END:VEVENT
BEGIN:VEVENT
DTSTART;TZID=America/New_York:20260315T150000
DTEND;TZID=America/New_York:20260315T170000
DTSTAMP:20260419T122346
CREATED:20260310T194221Z
LAST-MODIFIED:20260310T194221Z
UID:10074452-1773586800-1773594000@www.wcsu.edu
SUMMARY:Poor Yorick: Writers' Open Mic
DESCRIPTION:POOR YORICK – WRITERS’ OPEN MIC: Join WCSU’s Department of Creative & Professional Writing Program for a Writers’ Open Mic with Pop-up Book Shop and Featured Reader\, MFA student Maria Zegarelli\, from 3-5 p.m. at The Market at The Meetinghouse\, located at 602 Ridgebury Road in Ridgefield — just a 12-minute drive from the WCSU Westside campus! \nHosted by Poor Yorick\, the program’s literary journal\, this event celebrates both WCSU’s lifelong community of writers and the vibrant literary voices of the Greater Danbury Area. We’re excited to share our program’s long-standing tradition of these open mics with the local community beyond the boundaries of our campus with an evening of storytelling\, poetry\, and prose of every kind at The Market at The Meetinghouse. This event will feature a Pop-up Book Shop hosted by Rainy Day Paperback Exchange of Bethel\, offering a curated selection of used books. \nFeatured Reader: Maria Zegarelli\nMaria Zegarelli is a creative nonfiction writer and MFA candidate expected to graduate this May from Western Connecticut State University. Zegarelli’s personal lifestyle column\, The Youngest of Us\, published in The Town Tribune\, reflects on identity\, nostalgia\, and the mundane everyday moments that make life… life. She traces how personal history follows us forward. \n———————————————————- \nThis event is open to the public! All writers are welcome to read their works* and all readers invited to sit back and enjoy! \n*Please note: Current WCSU MFA students will receive priority for reading opportunities.
URL:https://www.wcsu.edu/events/calendar/poor-yorick-writers-open-mic-3/
LOCATION:The Market at the Meetinghouse\, 602 Ridgebury Road\, Ridgefield\, CT
CATEGORIES:Affiliated Event,Coffeehouse,Entertainment,Public Events,Reading
ATTACH;FMTTYPE=image/jpeg:https://www.wcsu.edu/events/wp-content/uploads/sites/181/2026/03/March-PY-Open-Mic-WCSU-Events-Image.jpg
ORGANIZER;CN="Poor Yorick Editorial Team":MAILTO:paris013@wcsu.edu
END:VEVENT
END:VCALENDAR