BEGIN:VCALENDAR
VERSION:2.0
PRODID:-//WCSU Events - ECPv6.15.17.1//NONSGML v1.0//EN
CALSCALE:GREGORIAN
METHOD:PUBLISH
X-ORIGINAL-URL:https://www.wcsu.edu/events
X-WR-CALDESC:Events for WCSU Events
REFRESH-INTERVAL;VALUE=DURATION:PT1H
X-Robots-Tag:noindex
X-PUBLISHED-TTL:PT1H
BEGIN:VTIMEZONE
TZID:America/New_York
BEGIN:DAYLIGHT
TZOFFSETFROM:-0500
TZOFFSETTO:-0400
TZNAME:EDT
DTSTART:20250309T070000
END:DAYLIGHT
BEGIN:STANDARD
TZOFFSETFROM:-0400
TZOFFSETTO:-0500
TZNAME:EST
DTSTART:20251102T060000
END:STANDARD
BEGIN:DAYLIGHT
TZOFFSETFROM:-0500
TZOFFSETTO:-0400
TZNAME:EDT
DTSTART:20260308T070000
END:DAYLIGHT
BEGIN:STANDARD
TZOFFSETFROM:-0400
TZOFFSETTO:-0500
TZNAME:EST
DTSTART:20261101T060000
END:STANDARD
BEGIN:DAYLIGHT
TZOFFSETFROM:-0500
TZOFFSETTO:-0400
TZNAME:EDT
DTSTART:20270314T070000
END:DAYLIGHT
BEGIN:STANDARD
TZOFFSETFROM:-0400
TZOFFSETTO:-0500
TZNAME:EST
DTSTART:20271107T060000
END:STANDARD
END:VTIMEZONE
BEGIN:VEVENT
DTSTART;TZID=America/New_York:20260409T140000
DTEND;TZID=America/New_York:20260409T150000
DTSTAMP:20260420T161604
CREATED:20260129T223325Z
LAST-MODIFIED:20260129T223325Z
UID:10074164-1775743200-1775746800@www.wcsu.edu
SUMMARY:Virtual Handshake Information Session
DESCRIPTION:VIRTUAL HANDSHAKE INFORMATION SESSION: The Career Success Center will host a virtual Handshake Information Session for students. Learn about Handshake and how it is the most effective way to find jobs\, internships and career-related events. **The Workshop is free and open to ALL WCSU students and alumni. Register for this event through Handshake at https://wcsu.joinhandshake.com/login to acquire the meeting login link. Questions? Call (203) 837-8263 or email careersuccess@wcsu.edu \nSessions are scheduled for: \nTuesday\, Feb. 17\, at noon \nWednesday\, March 11\, at 11 a.m. \nThursday\, April 9\, at 2 p.m. \nTuesday\, May 5\, at 1 p.m. \n 
URL:https://www.wcsu.edu/events/calendar/virtual-handshake-information-session-3/2026-04-09/
LOCATION:Virtual
CATEGORIES:Career search,Virtual event,Workshops
ATTACH;FMTTYPE=image/jpeg:https://www.wcsu.edu/events/wp-content/uploads/sites/181/2026/01/Spring-2026-Handshake-Information-Sessions-WOW.jpg
END:VEVENT
BEGIN:VEVENT
DTSTART;TZID=America/New_York:20260409T160000
DTEND;TZID=America/New_York:20260409T170000
DTSTAMP:20260420T161604
CREATED:20260319T164455Z
LAST-MODIFIED:20260319T164455Z
UID:10074473-1775750400-1775754000@www.wcsu.edu
SUMMARY:Honoring Sexual Assault Awareness Month by Advocating for Survivor Services and Prevention
DESCRIPTION:HONORING SEXUAL ASSAULT AWARENESS MONTH BY ADVOCATING FOR SURVIVOR SERVICES AND PREVENTION: The Office of Diversity\, Equity\, & Inclusion is promoting this virtual event from the National Resource Center on Domestic Violence. \nJoin the National Alliance to End Sexual Violence to equip yourself with: \n– Recent data from our national survey of rape crisis centers and the National Intimate Partner & Sexual Violence Survey \n– Advocacy and policy basics for legally and effectively engaging with decision makers – “How tos” for planning and participating in meetings with policy makers \n– Talking points on survivor services and prevention priorities for fiscal year 2027 appropriations advocacy \nThis webinar is for survivors\, advocates\, local programs\, coalitions\, and national organizations who care about ending sexual violence and supporting healing services. \nThe virtual event is from 4 to 5 p.m. Register at https://us02web.zoom.us/webinar/register/WN_rwaXVwWXTzC2AfffM3d3xA#/registration
URL:https://www.wcsu.edu/events/calendar/honoring-sexual-assault-awareness-month-by-advocating-for-survivor-services-and-prevention/
LOCATION:Virtual
CATEGORIES:Affiliated Event,Diversity,Information Session,Leadership,Virtual event
ATTACH;FMTTYPE=image/jpeg:https://www.wcsu.edu/events/wp-content/uploads/sites/181/2025/03/Virtual-Event-500x300-no-shield.jpg
END:VEVENT
END:VCALENDAR