BEGIN:VCALENDAR
VERSION:2.0
PRODID:-//WCSU Events - ECPv6.15.17.1//NONSGML v1.0//EN
CALSCALE:GREGORIAN
METHOD:PUBLISH
X-WR-CALNAME:WCSU Events
X-ORIGINAL-URL:https://www.wcsu.edu/events
X-WR-CALDESC:Events for WCSU Events
REFRESH-INTERVAL;VALUE=DURATION:PT1H
X-Robots-Tag:noindex
X-PUBLISHED-TTL:PT1H
BEGIN:VTIMEZONE
TZID:America/New_York
BEGIN:DAYLIGHT
TZOFFSETFROM:-0500
TZOFFSETTO:-0400
TZNAME:EDT
DTSTART:20250309T070000
END:DAYLIGHT
BEGIN:STANDARD
TZOFFSETFROM:-0400
TZOFFSETTO:-0500
TZNAME:EST
DTSTART:20251102T060000
END:STANDARD
BEGIN:DAYLIGHT
TZOFFSETFROM:-0500
TZOFFSETTO:-0400
TZNAME:EDT
DTSTART:20260308T070000
END:DAYLIGHT
BEGIN:STANDARD
TZOFFSETFROM:-0400
TZOFFSETTO:-0500
TZNAME:EST
DTSTART:20261101T060000
END:STANDARD
BEGIN:DAYLIGHT
TZOFFSETFROM:-0500
TZOFFSETTO:-0400
TZNAME:EDT
DTSTART:20270314T070000
END:DAYLIGHT
BEGIN:STANDARD
TZOFFSETFROM:-0400
TZOFFSETTO:-0500
TZNAME:EST
DTSTART:20271107T060000
END:STANDARD
END:VTIMEZONE
BEGIN:VEVENT
DTSTART;TZID=America/New_York:20260422T140000
DTEND;TZID=America/New_York:20260422T150000
DTSTAMP:20260419T173029
CREATED:20260319T163544Z
LAST-MODIFIED:20260319T163544Z
UID:10074472-1776866400-1776870000@www.wcsu.edu
SUMMARY:25 Years Stronger: Looking Back\, Moving Forward - A Retrospect of the Anti-Sexual Violence Movement
DESCRIPTION:25 YEARS STRONGER – LOOKING BACK\, MOVING FORWARD – A RETROSPECT OF THE ANTI-SEXUAL VIOLENCE MOVEMENT: The Office of Diversity\, Equity\, & Inclusion is promoting this virtual event from Connecticut Alliance to End Sexual Violence. \nJoin us as we commemorate 25 years of Sexual Assault Awareness Month\, honoring the strength of survivors and the advocates who have worked to end sexual violence. \nThis presentation will reflect on the history of the movement\, the progress made over the past quarter century\, and the work that remains to build safer\, more supportive communities. \nThis virtual event is from 2 to 3 p.m. Register at https://us02web.zoom.us/meeting/register/XX2jRKV2SkaCz-D7UmOPjw
URL:https://www.wcsu.edu/events/calendar/25-years-stronger-looking-back-moving-forward-a-retrospect-of-the-anti-sexual-violence-movement/
LOCATION:Virtual
CATEGORIES:Affiliated Event,Diversity,Information Session,Leadership,Public Events,Virtual event
ATTACH;FMTTYPE=image/jpeg:https://www.wcsu.edu/events/wp-content/uploads/sites/181/2025/03/Virtual-Event-500x300-no-shield.jpg
END:VEVENT
BEGIN:VEVENT
DTSTART;TZID=America/New_York:20260422T183000
DTEND;TZID=America/New_York:20260422T193000
DTSTAMP:20260419T173029
CREATED:20260310T125639Z
LAST-MODIFIED:20260310T125639Z
UID:10074445-1776882600-1776886200@www.wcsu.edu
SUMMARY:Virtual Financial Aid Workshop
DESCRIPTION:VIRTUAL FINANCIAL AID WORKSHOP: WCSU recognizes the important role that finances play in making your decision of school of choice. WCSU is a public institution that prides itself in access and affordability and we want to ensure that you are provided with all the information you need to make that decision. Please join us virtually for an Important Financial Aid Update at 6:30 p.m. \nRegister to attend at https://westconn.my.salesforce-sites.com/events/targetX_eventsb__events#/esr?eid=a0aNt00000QX55BIAT
URL:https://www.wcsu.edu/events/calendar/virtual-financial-aid-workshop/
LOCATION:Virtual event
CATEGORIES:Virtual event,Workshops
ATTACH;FMTTYPE=image/jpeg:https://www.wcsu.edu/events/wp-content/uploads/sites/181/2025/04/Virtual-Event-500x300-1.jpg
ORGANIZER;CN="Financial Aid &amp%3Bamp%3B Student Employment":MAILTO:wcsufinancialaid@wcsu.edu
END:VEVENT
END:VCALENDAR