BEGIN:VCALENDAR
VERSION:2.0
PRODID:-//WCSU Events - ECPv6.15.17.1//NONSGML v1.0//EN
CALSCALE:GREGORIAN
METHOD:PUBLISH
X-WR-CALNAME:WCSU Events
X-ORIGINAL-URL:https://www.wcsu.edu/events
X-WR-CALDESC:Events for WCSU Events
REFRESH-INTERVAL;VALUE=DURATION:PT1H
X-Robots-Tag:noindex
X-PUBLISHED-TTL:PT1H
BEGIN:VTIMEZONE
TZID:UTC
BEGIN:STANDARD
TZOFFSETFROM:+0000
TZOFFSETTO:+0000
TZNAME:UTC
DTSTART:20200101T000000
END:STANDARD
END:VTIMEZONE
BEGIN:VEVENT
DTSTART;TZID=UTC:20211001T190000
DTEND;TZID=UTC:20211001T210000
DTSTAMP:20260422T183618
CREATED:20210929T200218Z
LAST-MODIFIED:20211001T183845Z
UID:10061372-1633114800-1633122000@www.wcsu.edu
SUMMARY:Sip & Sketch- REMIX
DESCRIPTION:SIP & SKETCH: REMIX: From 7 to 9 p.m. in room 241 of the Visual & Performing Arts Center. Enjoy a (reimagined) creative and entertaining evening combining drawing with music\, wine\, and light refreshments. Guided by an experienced artist and MFA alumna\, Stacey Kolbig\, this event is open to participants of all levels and backgrounds\, from the seasoned to the beginner\, to participate in a shared art experience in a fun and relaxed studio environment. Basic drawing materials are provided but you are welcome to bring your own. Ages 21-plus\, please. \nWCSU Alumni discount available. Email robeaul@wcsu.edu for discount code. For more information\, contact the WCSU Department of Art at (203) 837-8403
URL:https://www.wcsu.edu/events/calendar/sip-sketch-remix-2/
LOCATION:Westside campus\, 43 Lake Ave. Extension\, Danbury\, CT\, United States
CATEGORIES:Art,Workshops
ATTACH;FMTTYPE=image/jpeg:https://www.wcsu.edu/events/wp-content/uploads/sites/181/2021/09/SS_10.1.21.jpg
END:VEVENT
BEGIN:VEVENT
DTSTART;TZID=UTC:20210924T080000
DTEND;TZID=UTC:20210924T170000
DTSTAMP:20260422T183618
CREATED:20210924T190623Z
LAST-MODIFIED:20210924T190623Z
UID:10061364-1632470400-1632502800@www.wcsu.edu
SUMMARY:Sip & Sketch Remix
DESCRIPTION:SIP & SKETCH – REMIX: From 7 to 9 p.m. in Room 241 (Drawing Studio)\, Visual & Performing Arts Center\, Westside campus \nEnjoy a (reimagined) creative and entertaining evening combining drawing with music\, wine and light refreshments with instructor and WCSU alumna\, Stacey Kolbig. Guided by an experienced artist\, this event is open to participants of all levels and backgrounds\, from the seasoned to the beginner\, to participate in a shared art experience in a fun and relaxed studio environment. Basic drawing materials are provided\, but you are welcome to bring your own. Ages 21-plus\, please. \n$5 discount to current WCSU students and alumni. Email robeaul@wcsu.edu for discount code.\nFor more information\, contact the WCSU Department of Art at (203) 837-8403.
URL:https://www.wcsu.edu/events/calendar/sip-sketch-remix/
LOCATION:Drawing Studio\, VPAC\, 43 Lake Ave. Extension\, Danbury\, CT
CATEGORIES:Art,Workshops
ATTACH;FMTTYPE=image/jpeg:https://www.wcsu.edu/events/wp-content/uploads/sites/181/2021/09/SipSketch_EB-sm.jpg
END:VEVENT
BEGIN:VEVENT
DTSTART;TZID=UTC:20210904T130000
DTEND;TZID=UTC:20210904T160000
DTSTAMP:20260422T183618
CREATED:20210901T235945Z
LAST-MODIFIED:20211029T201917Z
UID:10060418-1630760400-1630771200@www.wcsu.edu
SUMMARY:A Celebration of Life for Rich Reimold
DESCRIPTION:A CELEBRATION OF LIFE FOR RICH REIMOLD: The Reimold Family would like to invite you to a celebration of life for Rich Reimold from 1 to 4 p.m. in the Mainstage Theatre of the Visual and Performing Arts Center on the Westside campus. There will be a reception afterward on the stage including a cash bar. You’re welcome to bring a memory or story about Rich to share. Please note that masks will be required indoors at all times\, regardless of vaccination status. Please reserve your space on the included Eventbrite link so that we may prepare accordingly.
URL:https://www.wcsu.edu/events/calendar/a-celebration-of-life-for-rich-reimold/
LOCATION:MainStage Theatre\, VPAC\, 43 Lake Ave. Extension\, Danbury\, CT
CATEGORIES:Theatre
ATTACH;FMTTYPE=image/png:https://www.wcsu.edu/events/wp-content/uploads/sites/181/2021/08/A-Celebration-of-Life-for-Rich-Reimold-1.png
END:VEVENT
BEGIN:VEVENT
DTSTART;TZID=UTC:20210829T140000
DTEND;TZID=UTC:20210829T153000
DTSTAMP:20260422T183618
CREATED:20210817T214438Z
LAST-MODIFIED:20210817T223538Z
UID:10060423-1630245600-1630251000@www.wcsu.edu
SUMMARY:A Midsummer Night's Dream
DESCRIPTION:A MIDSUMMER NIGHT’S DREAM: The WCSU Department of Theatre Arts will present William Shakespeare’s “A Midsummer Night’s Dream\,” directed by Pam McDaniel\, in the MainStage Theatre in the Visual and Performing Arts Center on the Westside campus. This production was originally presented virtually as part of our Spring Virtual Production Series\, and will be adapted for the stage and presented as our first live event since March 2020. Please note that audience members must be masked at all times inside the Visual and Performing Arts Center without exception. In addition\, we will enforce three-foot social distancing\, and as such\, seating inside the theatre is limited to every other seat. Because of the reduced capacity of the theatre\, we ask all patrons to purchase their ticket in advance on Eventbrite. Shows are likely to sell out\, so do not wait to purchase at the box office before the show. The box office only accepts cash or check\, and tickets are subject to higher charges at the door as opposed to online. There is no pod seating or reserved seating\, it is general admission. Every other seat inside the theatre will be designated for no seating. WCSU students can reserve their free ticket at the box office before the show begins by showing their student I.D. \nOne of Shakespeare’s most popular and acclaimed comedies\, “A Midsummer Night’s Dream” tells the tale of love and marriage\, order and disorder\, and perception and reality. The play consists of four interconnecting plots\, connected by a celebration of the wedding of Duke Theseus of Athens and the Amazon queen\, Hippolyta\, which are set simultaneously in the woodland and in the realm of Fairyland\, under the light of the moon. Join us for this one-of-a-kind live production of one of Shakespeare’s finest plays! \nGet tickets at www.eventbrite.com/e/a-midsummer-nights-dream-tickets-166170034045.
URL:https://www.wcsu.edu/events/calendar/a-midsummer-nights-dream-2/2021-08-29/
LOCATION:MainStage Theatre\, VPAC\, 43 Lake Ave. Extension\, Danbury\, CT
CATEGORIES:Theatre,Visual & Performing Arts
ATTACH;FMTTYPE=image/jpeg:https://www.wcsu.edu/events/wp-content/uploads/sites/181/2021/08/MSND_Horizontal.jpg
END:VEVENT
BEGIN:VEVENT
DTSTART;TZID=UTC:20210828T190000
DTEND;TZID=UTC:20210828T203000
DTSTAMP:20260422T183618
CREATED:20210817T214438Z
LAST-MODIFIED:20210817T223538Z
UID:10060422-1630177200-1630182600@www.wcsu.edu
SUMMARY:A Midsummer Night's Dream
DESCRIPTION:A MIDSUMMER NIGHT’S DREAM: The WCSU Department of Theatre Arts will present William Shakespeare’s “A Midsummer Night’s Dream\,” directed by Pam McDaniel\, in the MainStage Theatre in the Visual and Performing Arts Center on the Westside campus. This production was originally presented virtually as part of our Spring Virtual Production Series\, and will be adapted for the stage and presented as our first live event since March 2020. Please note that audience members must be masked at all times inside the Visual and Performing Arts Center without exception. In addition\, we will enforce three-foot social distancing\, and as such\, seating inside the theatre is limited to every other seat. Because of the reduced capacity of the theatre\, we ask all patrons to purchase their ticket in advance on Eventbrite. Shows are likely to sell out\, so do not wait to purchase at the box office before the show. The box office only accepts cash or check\, and tickets are subject to higher charges at the door as opposed to online. There is no pod seating or reserved seating\, it is general admission. Every other seat inside the theatre will be designated for no seating. WCSU students can reserve their free ticket at the box office before the show begins by showing their student I.D. \nOne of Shakespeare’s most popular and acclaimed comedies\, “A Midsummer Night’s Dream” tells the tale of love and marriage\, order and disorder\, and perception and reality. The play consists of four interconnecting plots\, connected by a celebration of the wedding of Duke Theseus of Athens and the Amazon queen\, Hippolyta\, which are set simultaneously in the woodland and in the realm of Fairyland\, under the light of the moon. Join us for this one-of-a-kind live production of one of Shakespeare’s finest plays! \nGet tickets at www.eventbrite.com/e/a-midsummer-nights-dream-tickets-166170034045.
URL:https://www.wcsu.edu/events/calendar/a-midsummer-nights-dream-2/2021-08-28/2/
LOCATION:MainStage Theatre\, VPAC\, 43 Lake Ave. Extension\, Danbury\, CT
CATEGORIES:Theatre,Visual & Performing Arts
ATTACH;FMTTYPE=image/jpeg:https://www.wcsu.edu/events/wp-content/uploads/sites/181/2021/08/MSND_Horizontal.jpg
END:VEVENT
BEGIN:VEVENT
DTSTART;TZID=UTC:20210828T140000
DTEND;TZID=UTC:20210828T153000
DTSTAMP:20260422T183618
CREATED:20210817T214438Z
LAST-MODIFIED:20210817T223538Z
UID:10060421-1630159200-1630164600@www.wcsu.edu
SUMMARY:A Midsummer Night's Dream
DESCRIPTION:A MIDSUMMER NIGHT’S DREAM: The WCSU Department of Theatre Arts will present William Shakespeare’s “A Midsummer Night’s Dream\,” directed by Pam McDaniel\, in the MainStage Theatre in the Visual and Performing Arts Center on the Westside campus. This production was originally presented virtually as part of our Spring Virtual Production Series\, and will be adapted for the stage and presented as our first live event since March 2020. Please note that audience members must be masked at all times inside the Visual and Performing Arts Center without exception. In addition\, we will enforce three-foot social distancing\, and as such\, seating inside the theatre is limited to every other seat. Because of the reduced capacity of the theatre\, we ask all patrons to purchase their ticket in advance on Eventbrite. Shows are likely to sell out\, so do not wait to purchase at the box office before the show. The box office only accepts cash or check\, and tickets are subject to higher charges at the door as opposed to online. There is no pod seating or reserved seating\, it is general admission. Every other seat inside the theatre will be designated for no seating. WCSU students can reserve their free ticket at the box office before the show begins by showing their student I.D. \nOne of Shakespeare’s most popular and acclaimed comedies\, “A Midsummer Night’s Dream” tells the tale of love and marriage\, order and disorder\, and perception and reality. The play consists of four interconnecting plots\, connected by a celebration of the wedding of Duke Theseus of Athens and the Amazon queen\, Hippolyta\, which are set simultaneously in the woodland and in the realm of Fairyland\, under the light of the moon. Join us for this one-of-a-kind live production of one of Shakespeare’s finest plays! \nGet tickets at www.eventbrite.com/e/a-midsummer-nights-dream-tickets-166170034045.
URL:https://www.wcsu.edu/events/calendar/a-midsummer-nights-dream-2/2021-08-28/1/
LOCATION:MainStage Theatre\, VPAC\, 43 Lake Ave. Extension\, Danbury\, CT
CATEGORIES:Theatre,Visual & Performing Arts
ATTACH;FMTTYPE=image/jpeg:https://www.wcsu.edu/events/wp-content/uploads/sites/181/2021/08/MSND_Horizontal.jpg
END:VEVENT
BEGIN:VEVENT
DTSTART;TZID=UTC:20210827T190000
DTEND;TZID=UTC:20210827T203000
DTSTAMP:20260422T183618
CREATED:20210817T214438Z
LAST-MODIFIED:20210817T223538Z
UID:10060420-1630090800-1630096200@www.wcsu.edu
SUMMARY:A Midsummer Night's Dream
DESCRIPTION:A MIDSUMMER NIGHT’S DREAM: The WCSU Department of Theatre Arts will present William Shakespeare’s “A Midsummer Night’s Dream\,” directed by Pam McDaniel\, in the MainStage Theatre in the Visual and Performing Arts Center on the Westside campus. This production was originally presented virtually as part of our Spring Virtual Production Series\, and will be adapted for the stage and presented as our first live event since March 2020. Please note that audience members must be masked at all times inside the Visual and Performing Arts Center without exception. In addition\, we will enforce three-foot social distancing\, and as such\, seating inside the theatre is limited to every other seat. Because of the reduced capacity of the theatre\, we ask all patrons to purchase their ticket in advance on Eventbrite. Shows are likely to sell out\, so do not wait to purchase at the box office before the show. The box office only accepts cash or check\, and tickets are subject to higher charges at the door as opposed to online. There is no pod seating or reserved seating\, it is general admission. Every other seat inside the theatre will be designated for no seating. WCSU students can reserve their free ticket at the box office before the show begins by showing their student I.D. \nOne of Shakespeare’s most popular and acclaimed comedies\, “A Midsummer Night’s Dream” tells the tale of love and marriage\, order and disorder\, and perception and reality. The play consists of four interconnecting plots\, connected by a celebration of the wedding of Duke Theseus of Athens and the Amazon queen\, Hippolyta\, which are set simultaneously in the woodland and in the realm of Fairyland\, under the light of the moon. Join us for this one-of-a-kind live production of one of Shakespeare’s finest plays! \nGet tickets at www.eventbrite.com/e/a-midsummer-nights-dream-tickets-166170034045.
URL:https://www.wcsu.edu/events/calendar/a-midsummer-nights-dream-2/2021-08-27/
LOCATION:MainStage Theatre\, VPAC\, 43 Lake Ave. Extension\, Danbury\, CT
CATEGORIES:Theatre,Visual & Performing Arts
ATTACH;FMTTYPE=image/jpeg:https://www.wcsu.edu/events/wp-content/uploads/sites/181/2021/08/MSND_Horizontal.jpg
END:VEVENT
END:VCALENDAR