BEGIN:VCALENDAR
VERSION:2.0
PRODID:-//WCSU Events - ECPv6.15.17.1//NONSGML v1.0//EN
CALSCALE:GREGORIAN
METHOD:PUBLISH
X-WR-CALNAME:WCSU Events
X-ORIGINAL-URL:https://www.wcsu.edu/events
X-WR-CALDESC:Events for WCSU Events
REFRESH-INTERVAL;VALUE=DURATION:PT1H
X-Robots-Tag:noindex
X-PUBLISHED-TTL:PT1H
BEGIN:VTIMEZONE
TZID:UTC
BEGIN:STANDARD
TZOFFSETFROM:+0000
TZOFFSETTO:+0000
TZNAME:UTC
DTSTART:20200101T000000
END:STANDARD
END:VTIMEZONE
BEGIN:VTIMEZONE
TZID:America/New_York
BEGIN:DAYLIGHT
TZOFFSETFROM:-0500
TZOFFSETTO:-0400
TZNAME:EDT
DTSTART:20200308T070000
END:DAYLIGHT
BEGIN:STANDARD
TZOFFSETFROM:-0400
TZOFFSETTO:-0500
TZNAME:EST
DTSTART:20201101T060000
END:STANDARD
BEGIN:DAYLIGHT
TZOFFSETFROM:-0500
TZOFFSETTO:-0400
TZNAME:EDT
DTSTART:20210314T070000
END:DAYLIGHT
BEGIN:STANDARD
TZOFFSETFROM:-0400
TZOFFSETTO:-0500
TZNAME:EST
DTSTART:20211107T060000
END:STANDARD
BEGIN:DAYLIGHT
TZOFFSETFROM:-0500
TZOFFSETTO:-0400
TZNAME:EDT
DTSTART:20220313T070000
END:DAYLIGHT
BEGIN:STANDARD
TZOFFSETFROM:-0400
TZOFFSETTO:-0500
TZNAME:EST
DTSTART:20221106T060000
END:STANDARD
END:VTIMEZONE
BEGIN:VEVENT
DTSTART;TZID=UTC:20211014T160000
DTEND;TZID=UTC:20211014T170000
DTSTAMP:20260423T034628
CREATED:20211115T192515Z
LAST-MODIFIED:20211115T192516Z
UID:10061609-1634227200-1634230800@www.wcsu.edu
SUMMARY:Weekly Support Group
DESCRIPTION:WEEKLY SUPPORT GROUP: Are you concerned about a friend\, family member or your own substance use? Come and learn about ways to decrease use\, how you could help a friend\, or just come and listen to how others are coping with the same issues. The confidential group from 4 to 5 p.m. in the Ruth Haas Library on the Midtown campus is open to all students.
URL:https://www.wcsu.edu/events/calendar/weekly-support-group/2021-10-14/
LOCATION:Ruth Haas Library\, 181 White St.\, Danbury\, CT
CATEGORIES:Health And Wellness,Wellness,WOW
ATTACH;FMTTYPE=image/png:https://www.wcsu.edu/events/wp-content/uploads/sites/181/2021/11/Georgias-Flyer.png
END:VEVENT
BEGIN:VEVENT
DTSTART;TZID=America/New_York:20211013T160000
DTEND;TZID=America/New_York:20211013T173000
DTSTAMP:20260423T034628
CREATED:20210916T171442Z
LAST-MODIFIED:20211105T203448Z
UID:10061306-1634140800-1634146200@www.wcsu.edu
SUMMARY:ADHD in the Classroom
DESCRIPTION:ADHD IN THE CLASSROOM: Attend this virtual discussion via Webex from 4 to 5:30 p.m. \nTopics:\n• What are the most common challenges for a college student with ADHD\n• Discussion on the various classroom and instructional strategies and how to identify the ones that work for your classroom (addressing memory deficits\, improving reading and writing skills\, fostering math skills\, homework\, and long term projects)\n• How ADHD impacts organizational skills and strategies to help students\n• How ADHD impacts time management skills and strategies to help students\n• How executive function deficits lead to emotional and behavioral challenges \nPresenter:\nDr. Michael Meinzer \nMichael Meinzer\, Ph.D.\, is an Assistant Professor at the University of Illinois Chicago (UIC) where he directs the Young Adult and Adolescent ADHD Services Lab. He also serves as the Director of UIC’s SUCCEEDS College ADHD Clinic. His research focuses on examining the outcomes of and explanations for ADHD and co-occurring psychopathology in adolescents and young adults. Further\, Dr. Meinzer works to develop and implement tailored services to address ADHD and co-occurring psychopathology in adolescents and young adults as well as to collaborate with community partners to increase access to evidence-based services for this population. His research has been supported by the National Institute for Mental Health and been published in top-tier journals. He was also awarded a Young Scientist Research Award by CHADD. Dr. Meinzer serves on the editorial board for Journal of Attention Disorders and is a Consulting Editor for the Journal of Consulting and Clinical Psychology and Clinical Research Digest. He is also the Chair of the ADHD Special Interest Group for the Association of Behavioral and Cognitive Therapies (ABCT). \nDiscussants and Q&A:\nDr. Ree Gunter-LeBlanc\, Director of Counseling Services\nMs. Elisabeth Werling-Morel\, Director of AccessAbility Services \n  \nEvent hosted by:\n– CHADD https://chadd.org/\n– CELT https://www.wcsu.edu/celt/\n– WCSU Counseling Services https://www.wcsu.edu/counseling/\n– WCSU AccessAbility Services https://www.wcsu.edu/accessability/
URL:https://www.wcsu.edu/events/calendar/adhd-in-the-classroom/
LOCATION:Virtual
CATEGORIES:Discussion,Diversity,Panel discussion,Speaker,Virtual event,Wellness
ATTACH;FMTTYPE=image/png:https://www.wcsu.edu/events/wp-content/uploads/sites/181/2021/09/CHADD-4.png
END:VEVENT
BEGIN:VEVENT
DTSTART;TZID=UTC:20211010T200000
DTEND;TZID=UTC:20211010T220000
DTSTAMP:20260423T034628
CREATED:20211006T222734Z
LAST-MODIFIED:20211006T222734Z
UID:10061404-1633896000-1633903200@www.wcsu.edu
SUMMARY:CH Stress Relief
DESCRIPTION:CH MIDTERM STRESS RELIEF: Centennial Hall residents are invited to join RA Allyson Sirard for a night of de-stressing. Don’t let midterm exams get you down! From 8 to 10 p.m. in Centennial Hall.
URL:https://www.wcsu.edu/events/calendar/ch-stress-relief/
LOCATION:Housing – Centennial Hall
CATEGORIES:Housing & Residence Life,Wellness,WOW
ATTACH;FMTTYPE=image/jpeg:https://www.wcsu.edu/events/wp-content/uploads/sites/181/2020/09/Centennial-2.jpg
END:VEVENT
BEGIN:VEVENT
DTSTART;TZID=UTC:20211007T160000
DTEND;TZID=UTC:20211007T170000
DTSTAMP:20260423T034628
CREATED:20211115T192515Z
LAST-MODIFIED:20211115T192516Z
UID:10061608-1633622400-1633626000@www.wcsu.edu
SUMMARY:Weekly Support Group
DESCRIPTION:WEEKLY SUPPORT GROUP: Are you concerned about a friend\, family member or your own substance use? Come and learn about ways to decrease use\, how you could help a friend\, or just come and listen to how others are coping with the same issues. The confidential group from 4 to 5 p.m. in the Ruth Haas Library on the Midtown campus is open to all students.
URL:https://www.wcsu.edu/events/calendar/weekly-support-group/2021-10-07/
LOCATION:Ruth Haas Library\, 181 White St.\, Danbury\, CT
CATEGORIES:Health And Wellness,Wellness,WOW
ATTACH;FMTTYPE=image/png:https://www.wcsu.edu/events/wp-content/uploads/sites/181/2021/11/Georgias-Flyer.png
END:VEVENT
BEGIN:VEVENT
DTSTART;TZID=UTC:20211006T220000
DTEND;TZID=UTC:20211006T230000
DTSTAMP:20260423T034628
CREATED:20211006T223004Z
LAST-MODIFIED:20211006T223004Z
UID:10061406-1633557600-1633561200@www.wcsu.edu
SUMMARY:CH Bubbles
DESCRIPTION:CH EASE YOUR STRUGGLES\, BLOW SOME BUBBLES: Centennial Hall residents are invited to join RA Brenna Wrinn to blow bubbles and focus on self-care from 10 to 11 p.m. Think you’ve got what it takes to be the next Spongebob Squarepants? Find out! 
URL:https://www.wcsu.edu/events/calendar/ch-bubbles/
LOCATION:Housing – Centennial Hall
CATEGORIES:Housing & Residence Life,Wellness,WOW
ATTACH;FMTTYPE=image/jpeg:https://www.wcsu.edu/events/wp-content/uploads/sites/181/2020/09/Centennial-2.jpg
END:VEVENT
BEGIN:VEVENT
DTSTART;TZID=UTC:20211004T113000
DTEND;TZID=UTC:20211004T133000
DTSTAMP:20260423T034628
CREATED:20210804T165650Z
LAST-MODIFIED:20210804T174443Z
UID:10060396-1633347000-1633354200@www.wcsu.edu
SUMMARY:Silent Witness Exhibit
DESCRIPTION:SILENT WITNESS EXHIBIT: The Women’s Center will host the Silent Witness Exhibit\, honoring Connecticut lives lost due to acts of domestic violence. Students can read the stories of Connecticut residents on red and silver statues that represent community members and college students who have died due to domestic and dating violence. Counselors will be available at the event\, which will be from 11:30 a.m. to 1:30 p.m. in the Westside Campus Center lobby.
URL:https://www.wcsu.edu/events/calendar/silent-witness-exhibit/
LOCATION:Westside Campus Center\, 43 Lake Ave. Extension\, Danbury\, CT
CATEGORIES:Health And Wellness,Wellness
ATTACH;FMTTYPE=image/jpeg:https://www.wcsu.edu/events/wp-content/uploads/sites/181/2021/08/silent-witness.jpg
END:VEVENT
BEGIN:VEVENT
DTSTART;TZID=UTC:20211001T160000
DTEND;TZID=UTC:20211001T200000
DTSTAMP:20260423T034628
CREATED:20210922T225753Z
LAST-MODIFIED:20210922T225753Z
UID:10061340-1633104000-1633118400@www.wcsu.edu
SUMMARY:Flag Football Tournament
DESCRIPTION:FLAG FOOTBALL TOURNAMENT: This is a Dating Abuse Awareness Event in Honor of Alyssiah Wiley. Grab a group of WestConn friends and let’s play some football! This is a 7 V 7 flag football tournament – the number of teams that register will dictate the number of games played. First round of games set to start at 4 p.m. on the westside recreation field. Please follow the link to register: \nhttps://nam11.safelinks.protection.outlook.com/?url=https%3A%2F%2Fdocs.google.com%2Fforms%2Fd%2Fe%2F1FAIpQLSfCm9gfAcjmOKcJVU0pJ6H0nyWD9jttr0lA6C-0pw0638y1Mg%2Fviewform&data=04%7C01%7Cshanksa%40wcsu.edu%7C36fa1861233f4e90a64a08d97d14e09a%7Ce1622dbc94ba48ad87bba7f28074ee3d%7C0%7C0%7C637678351587564858%7CUnknown%7CTWFpbGZsb3d8eyJWIjoiMC4wLjAwMDAiLCJQIjoiV2luMzIiLCJBTiI6Ik1haWwiLCJXVCI6Mn0%3D%7C2000&sdata=iZLpY6LJEtx2cONvKfTEftlFTP0eBszOCptTa7QjevU%3D&reserved=0 \nEnter as a team\, or as a free agent! Reach out to Amy Shanks at shanksa@wcsu.edu with any questions!
URL:https://www.wcsu.edu/events/calendar/flag-football-tournament/
LOCATION:Westside REC Field
CATEGORIES:Recreation,Wellness
END:VEVENT
BEGIN:VEVENT
DTSTART;TZID=UTC:20210930T160000
DTEND;TZID=UTC:20210930T170000
DTSTAMP:20260423T034628
CREATED:20211115T192515Z
LAST-MODIFIED:20211115T192516Z
UID:10061607-1633017600-1633021200@www.wcsu.edu
SUMMARY:Weekly Support Group
DESCRIPTION:WEEKLY SUPPORT GROUP: Are you concerned about a friend\, family member or your own substance use? Come and learn about ways to decrease use\, how you could help a friend\, or just come and listen to how others are coping with the same issues. The confidential group from 4 to 5 p.m. in the Ruth Haas Library on the Midtown campus is open to all students.
URL:https://www.wcsu.edu/events/calendar/weekly-support-group/2021-09-30/
LOCATION:Ruth Haas Library\, 181 White St.\, Danbury\, CT
CATEGORIES:Health And Wellness,Wellness,WOW
ATTACH;FMTTYPE=image/png:https://www.wcsu.edu/events/wp-content/uploads/sites/181/2021/11/Georgias-Flyer.png
END:VEVENT
BEGIN:VEVENT
DTSTART;TZID=UTC:20210929T100000
DTEND;TZID=UTC:20210929T140000
DTSTAMP:20260423T034628
CREATED:20210927T215400Z
LAST-MODIFIED:20210927T221040Z
UID:10061366-1632909600-1632924000@www.wcsu.edu
SUMMARY:FRESH CHECK DAY
DESCRIPTION:FRESH CHECK DAY: The 7th annual “Fresh-Check Day” will be held from 10 a.m. to 2 p.m. on the WCSU Midtown campus QUAD. Students will enjoy participating in engaging activities by visiting all the interactive booths – while learning about ways to improve mental health and reduce stresses. Campus and community resources will be readily available. Come and learn about wellness on WCSU and enjoy the prizes\, free food and giveaways. FCD also serves as a reminder that WCSU cares about its students and their well-being. The event is open to WCSU students only. For more information\, visit www.freshcheckday.com. \nCheckin’ -in with college students.\nA Mental Health Check-in with Interactive Booths\, Free Food\, Prizes and more!! \nLocation: Midtown Quad \n#freshcheckdaywcsu\nfreshcheckday.com/wcsu \nSponsored by the Division of Student Affairs \n*should you require accommodations contact Sharon Lawler at (203) 837-8899 or lawlers@wcsu.edu
URL:https://www.wcsu.edu/events/calendar/fresh-check-day-5/
LOCATION:Midtown Campus Quad\, 181 White Street\, Danbury\, CT
CATEGORIES:Health And Wellness,Wellness,WOW
ATTACH;FMTTYPE=image/jpeg:https://www.wcsu.edu/events/wp-content/uploads/sites/181/2021/09/FreshCheckDay.jpg
END:VEVENT
BEGIN:VEVENT
DTSTART;TZID=UTC:20210928T100000
DTEND;TZID=UTC:20210928T140000
DTSTAMP:20260423T034628
CREATED:20210923T225235Z
LAST-MODIFIED:20210927T221100Z
UID:10061359-1632823200-1632837600@www.wcsu.edu
SUMMARY:POSTPONED: Fresh Check Day
DESCRIPTION:POSTPONED: FRESH CHECK DAY: The 7th annual “Fresh-Check Day” will be held from 10 a.m. to 2 p.m. on Wednesday\, September 29\, the WCSU Midtown campus QUAD. Students will enjoy participating in engaging activities by visiting all the interactive booths – while learning about ways to improve mental health and reduce stresses. Campus and community resources will be readily available. Come and learn about wellness on WCSU and enjoy the prizes\, free food and giveaways. FCD also serves as a reminder that WCSU cares about its students and their well-being. The event is open to WCSU students only. For more information\, visit www.freshcheckday.com. \nCheckin’ -in with college students.\nA Mental Health Check-in with Interactive Booths\, Free Food\, Prizes and more!! \nLocation: Midtown Quad \n#freshcheckdaywcsu\nfreshcheckday.com/wcsu \nSponsored by the Division of Student Affairs \n*should you require accommodations contact Sharon Lawler at (203) 837-8899 or lawlers@wcsu.edu
URL:https://www.wcsu.edu/events/calendar/fresh-check-day-4/
LOCATION:Midtown Campus Quad\, 181 White Street\, Danbury\, CT
CATEGORIES:Health And Wellness,Social Event,Wellness
ORGANIZER;CN="Student Affairs":MAILTO:diazv@wcsu.edu
END:VEVENT
BEGIN:VEVENT
DTSTART;TZID=America/New_York:20210922T160000
DTEND;TZID=America/New_York:20210922T173000
DTSTAMP:20260423T034628
CREATED:20210907T191857Z
LAST-MODIFIED:20210907T191857Z
UID:10059205-1632326400-1632331800@www.wcsu.edu
SUMMARY:ADHD Awareness
DESCRIPTION:ADHD AWARENESS: Join this virtual conversation from 4 to 5:30 p.m. with L. Eugene Arnold. M.D. M.Ed.\, professor emeritus of Psychiatry\, Ohio State University\, Nisonger Center and resident expert for CHADD \nTopics Addressed:\n• What is ADHD?\n• How prevalent is ADHD?\n• Types of ADHD (inattention or hyperactivity-impulsivity) and corresponding symptoms\n• Causes of ADHD\n• How differences in brain development and executive function deficits impact learning and behavior\n• How ADHD affects the academic performance of college students \nRegister at https://wcsu.webex.com/wcsu/j.php?MTID=m3e1e1ad5cea81b93692bdb7a4e2dc019. The public is invited.
URL:https://www.wcsu.edu/events/calendar/adhd-awareness/
LOCATION:Virtual event
CATEGORIES:Discussion,Diversity,Health And Wellness,Lectures,Panel discussion,Speaker,Study Tips,Virtual event,Wellness
ATTACH;FMTTYPE=image/png:https://www.wcsu.edu/events/wp-content/uploads/sites/181/2021/09/CHADD-4.png
END:VEVENT
BEGIN:VEVENT
DTSTART;TZID=UTC:20210922T100000
DTEND;TZID=UTC:20210922T140000
DTSTAMP:20260423T034628
CREATED:20210915T194642Z
LAST-MODIFIED:20210923T225326Z
UID:10061174-1632304800-1632319200@www.wcsu.edu
SUMMARY:POSTPONED: Fresh-Check Day
DESCRIPTION:POSTPONED: FRESH-CHECK DAY (WCSU campus community only):\nThe 7th annual “Fresh-Check Day” will be held from 10 a.m. to 2 p.m. on the WCSU Midtown campus QUAD. Students will enjoy participating in engaging activities by visiting all the interactive booths – while learning about ways to improve mental health and reduce stresses. Campus and community resources will be readily available. Come and learn about wellness on WCSU and enjoy the prizes\, free food and giveaways. FCD also serves as a reminder that WCSU cares about its students and their well-being. The event is open to WCSU students only. For more information\, visit www.freshcheckday.com.
URL:https://www.wcsu.edu/events/calendar/fresh-check-day-3/
LOCATION:Midtown Campus Quad\, 181 White Street\, Danbury\, CT
CATEGORIES:Health And Wellness,Wellness
ATTACH;FMTTYPE=image/jpeg:https://www.wcsu.edu/events/wp-content/uploads/sites/181/2021/09/FCD-Horizontal_FLYER.jpg
END:VEVENT
BEGIN:VEVENT
DTSTART;TZID=UTC:20210922T100000
DTEND;TZID=UTC:20210922T110000
DTSTAMP:20260423T034628
CREATED:20210901T203030Z
LAST-MODIFIED:20210914T210117Z
UID:10060474-1632304800-1632308400@www.wcsu.edu
SUMMARY:Mindful Movement and Stress Management
DESCRIPTION:MINDFUL MOVEMENT AND STRESS MANAGEMENT: Stress finds a home in our bodies as well as our minds\, and the result is physical\, mental and emotional tension. Mindful movements — focusing on the breath as we stretch — helps to release this trapped tension. Stretch\, breathe and experience the benefits of this gentle release — relaxation\, more focus and a renewed sense of well being. Learn other easy to use tips and techniques for defusing stress in the moment to better manage your stressors so they do not manage you. From 10 to 11 a.m. on the first floor of Warner Hall on the Midtown campus. Open to the WCSU campus community only. 
URL:https://www.wcsu.edu/events/calendar/mindful-movements-and-stress-management/
LOCATION:CT
CATEGORIES:Health And Wellness,Wellness
ATTACH;FMTTYPE=image/jpeg:https://www.wcsu.edu/events/wp-content/uploads/sites/181/2021/09/MINDFUL-MOVEMENTS-9.22.21-FLYER.jpg
END:VEVENT
BEGIN:VEVENT
DTSTART;TZID=UTC:20210908T120000
DTEND;TZID=UTC:20210908T140000
DTSTAMP:20260423T034628
CREATED:20210830T224214Z
LAST-MODIFIED:20210901T194525Z
UID:10060472-1631102400-1631109600@www.wcsu.edu
SUMMARY:Empty Your Cup!
DESCRIPTION:BE KIND TO YOURSELF & EMPTY YOUR CUP: Meet the staff of Counseling Services & learn ways to manage stress. Stop by the Midtown Litchfield Hall entrance near the overpass from noon to 2 p.m..
URL:https://www.wcsu.edu/events/calendar/empty-your-cup-2021-09-08/
LOCATION:Litchfield Hall Entrance
CATEGORIES:Open House,Wellness,WOW
ATTACH;FMTTYPE=image/png:https://www.wcsu.edu/events/wp-content/uploads/sites/181/2021/08/Empty-Your-Cup-Instagram-WOW.png
END:VEVENT
BEGIN:VEVENT
DTSTART;TZID=UTC:20210907T120000
DTEND;TZID=UTC:20210907T140000
DTSTAMP:20260423T034628
CREATED:20210830T224214Z
LAST-MODIFIED:20210901T194323Z
UID:10060445-1631016000-1631023200@www.wcsu.edu
SUMMARY:Empty Your Cup!
DESCRIPTION:BE KIND TO YOURSELF & EMPTY YOUR CUP: Meet the staff of Counseling Services & learn ways to manage stress. Stop by the Westside Campus Center North Plaza from noon to 2 p.m..
URL:https://www.wcsu.edu/events/calendar/empty-your-cup/2021-09-07/
LOCATION:Westside Campus Center North Plaza\, 43 Lake Ave. Extension\, Danbury\, CT
CATEGORIES:Open House,Wellness,WOW
ATTACH;FMTTYPE=image/png:https://www.wcsu.edu/events/wp-content/uploads/sites/181/2021/08/Empty-Your-Cup-Instagram-WOW.png
END:VEVENT
END:VCALENDAR