BEGIN:VCALENDAR
VERSION:2.0
PRODID:-//WCSU Events - ECPv6.15.17.1//NONSGML v1.0//EN
CALSCALE:GREGORIAN
METHOD:PUBLISH
X-WR-CALNAME:WCSU Events
X-ORIGINAL-URL:https://www.wcsu.edu/events
X-WR-CALDESC:Events for WCSU Events
REFRESH-INTERVAL;VALUE=DURATION:PT1H
X-Robots-Tag:noindex
X-PUBLISHED-TTL:PT1H
BEGIN:VTIMEZONE
TZID:America/New_York
BEGIN:DAYLIGHT
TZOFFSETFROM:-0500
TZOFFSETTO:-0400
TZNAME:EDT
DTSTART:20250309T070000
END:DAYLIGHT
BEGIN:STANDARD
TZOFFSETFROM:-0400
TZOFFSETTO:-0500
TZNAME:EST
DTSTART:20251102T060000
END:STANDARD
BEGIN:DAYLIGHT
TZOFFSETFROM:-0500
TZOFFSETTO:-0400
TZNAME:EDT
DTSTART:20260308T070000
END:DAYLIGHT
BEGIN:STANDARD
TZOFFSETFROM:-0400
TZOFFSETTO:-0500
TZNAME:EST
DTSTART:20261101T060000
END:STANDARD
BEGIN:DAYLIGHT
TZOFFSETFROM:-0500
TZOFFSETTO:-0400
TZNAME:EDT
DTSTART:20270314T070000
END:DAYLIGHT
BEGIN:STANDARD
TZOFFSETFROM:-0400
TZOFFSETTO:-0500
TZNAME:EST
DTSTART:20271107T060000
END:STANDARD
END:VTIMEZONE
BEGIN:VEVENT
DTSTART;TZID=America/New_York:20260303T110000
DTEND;TZID=America/New_York:20260303T130000
DTSTAMP:20260419T140805
CREATED:20260203T213916Z
LAST-MODIFIED:20260203T213916Z
UID:10074350-1772535600-1772542800@www.wcsu.edu
SUMMARY:Safe Zone Training (In-Person) - Students
DESCRIPTION:SAFE ZONE TRAINING (IN-PERSON) – STUDENTS: Safe Zone Trainings are opportunities to learn about LGBTQ+ identities\, pronouns\, gender\, and sexuality\, and examine prejudice\, assumptions\, and privilege. From 11 a.m. to 1 p.m. at the WCSU Pride Center in Room 218 of the Midtown Student Center. \nRSVP by emailing Scott Towers\, Pride Center Coordinator at towerss@wcsu.edu.
URL:https://www.wcsu.edu/events/calendar/safe-zone-training-in-person-students/
LOCATION:WCSU Pride Center
CATEGORIES:Workshops
ATTACH;FMTTYPE=image/png:https://www.wcsu.edu/events/wp-content/uploads/sites/181/2023/10/11_9-Budgeting-for-Better-Health.png
END:VEVENT
BEGIN:VEVENT
DTSTART;TZID=America/New_York:20260307T100000
DTEND;TZID=America/New_York:20260307T150000
DTSTAMP:20260419T140805
CREATED:20260218T144621Z
LAST-MODIFIED:20260218T144709Z
UID:10074380-1772877600-1772895600@www.wcsu.edu
SUMMARY:Gelli Print Workshop
DESCRIPTION:GELLI PRINT WORKSHOP:\nSaturday\, March 7\, 10 a.m.–3 p.m.\nInstructor: Catherine Vanaria\, Professor Emerita\, WCSU \nVisual & Performing Arts Center\, Room 145\n43 Lake Ave. Extension\, Danbury \nLearn to create unique monotypes without using a press in this one-day workshop. Our workshop will cover multiple subjects including paints\, papers\, using textures\, magazine transfers\, laser print image transfers and layering multiple colors. No prior art experience is required! \nSupply List: WCSU’s Department of Art will supply all Art materials needed for this workshop\, but students should bring the following: \n• Magazines: bring 2-3 with you. These will be torn up. The best ones for image transfer are high-quality magazines with heavier paper stock and a thicker ink load\n(Examples: Vogue\, Harpers Bazaar\, Elle\, Vanity Fair\, Esquire\, Cosmopolitan\, National Geographic\, Architectural Digest)\n• Your own Digital photographs: Please bring a selection (up to 5 images). You can bring them on a thumb drive or they can be on your phone or laptop\n• BYO bagged lunch (Coffee & Tea will be available throughout the day.) \nRegister at www.eventbrite.com/e/gelli-print-workshop-tickets-1982899106606
URL:https://www.wcsu.edu/events/calendar/gelli-print-workshop/
LOCATION:VPAC Room 145\, 43 Lake Ave. Extension\, Danbury\, CT
CATEGORIES:Art,Painting,Visual & Performing Arts,Workshops
ATTACH;FMTTYPE=image/jpeg:https://www.wcsu.edu/events/wp-content/uploads/sites/181/2026/02/Art-Department_500x300.jpg
END:VEVENT
BEGIN:VEVENT
DTSTART;TZID=America/New_York:20260310T140000
DTEND;TZID=America/New_York:20260310T160000
DTSTAMP:20260419T140805
CREATED:20260218T191143Z
LAST-MODIFIED:20260218T191143Z
UID:10074399-1773151200-1773158400@www.wcsu.edu
SUMMARY:Civic Life in Hat City: Place-Based Approaches to Civic Engagement
DESCRIPTION:CIVIC LIFE IN HAT CITY – PLACE-BASED APPROACHES TO CIVIC ENGAGEMENT: Please join us for a two-part workshop for faculty and students entitled “Civic Life in Hat City: Place-Based Approaches to Civic Engagement.” Supported with a grant from Project Pericles\, these interactive workshops will explore how Danbury’s history as “Hat City” can be used to strengthen interdisciplinary\, place-based civic learning at WCSU. \nTogether\, we will examine labor\, collective action\, and environmental justice through local history and work collaboratively to imagine a flexible “Hatters” learning module that can be adapted across disciplines. \nThe workshops will be held on Tuesday\, March 10\, and Tuesday April 21\, at 2 p.m. in Haas 508\, the CELT Collaboration Space in the Ruth Haas Library on the Midtown campus. Snacks and coffee will be provided. \nFaculty and students from all disciplines are welcome. No prior background in local history is required — just an interest in civic learning\, experiential pedagogy\, and interdisciplinary teaching. \n  \nWorkshop One\, March 10: This multidisciplinary workshop introduces faculty and selected students to civics education through Danbury’s history as the “Hat City.” We will begin with a candid SWOT analysis of interdisciplinary teaching and learning at WCSU\, asking what an engaged\, experiential\, interdisciplinary curriculum could look like — particularly for first-year students — and what obstacles currently stand in the way. After establishing opportunities and challenges\, we will explore the rise of the hatting industry\, the development of labor unions\, and the role of collective action in addressing economic and political conflict. Together\, the sessions use local industrial history to examine democratic participation\, power\, and civic responsibility\, and make a case for incorporating local history and community into the first-year experience. \nWorkshop Two\, April 21: Building on the first workshop\, this session examines the environmental and social consequences of Danbury’s hatting industry and their relevance for the community today. We begin by discussing industrial pollution\, environmental degradation\, and the ways marginalized communities have challenged ecological harm and advocated for more sustainable futures. We then shift to curriculum design\, asking what a “Hatters” learning module might look like and how place-based lessons drawn from local history can be made accessible and meaningful for WCSU students. The workshop emphasizes translating historical insight and humanistic inquiry into civic learning\, conflict resolution\, and political efficacy. \nWorkshop outcomes:\n1. Articulate a clear model for place-based civic education\n2. Apply historical case studies to contemporary civic engagement\n3. Produce draft curriculum materials grounded in our local context\n4. Identify actionable strategies for interdisciplinary implementation at WCSU \nRegister to attend here \n 
URL:https://www.wcsu.edu/events/calendar/civic-life-in-hat-city-place-based-approaches-to-civic-engagement-2/
LOCATION:Ruth Haas Library\, 181 White St.\, Danbury\, CT
CATEGORIES:Workshops
ATTACH;FMTTYPE=image/jpeg:https://www.wcsu.edu/events/wp-content/uploads/sites/181/2023/02/Ruth-Hass-Library.jpg
END:VEVENT
BEGIN:VEVENT
DTSTART;TZID=America/New_York:20260311T110000
DTEND;TZID=America/New_York:20260311T120000
DTSTAMP:20260419T140805
CREATED:20260129T223325Z
LAST-MODIFIED:20260129T223325Z
UID:10074163-1773226800-1773230400@www.wcsu.edu
SUMMARY:Virtual Handshake Information Session
DESCRIPTION:VIRTUAL HANDSHAKE INFORMATION SESSION: The Career Success Center will host a virtual Handshake Information Session for students. Learn about Handshake and how it is the most effective way to find jobs\, internships and career-related events. **The Workshop is free and open to ALL WCSU students and alumni. Register for this event through Handshake at https://wcsu.joinhandshake.com/login to acquire the meeting login link. Questions? Call (203) 837-8263 or email careersuccess@wcsu.edu \nSessions are scheduled for: \nTuesday\, Feb. 17\, at noon \nWednesday\, March 11\, at 11 a.m. \nThursday\, April 9\, at 2 p.m. \nTuesday\, May 5\, at 1 p.m. \n 
URL:https://www.wcsu.edu/events/calendar/virtual-handshake-information-session-3/2026-03-11/
LOCATION:Virtual
CATEGORIES:Career search,Virtual event,Workshops
ATTACH;FMTTYPE=image/jpeg:https://www.wcsu.edu/events/wp-content/uploads/sites/181/2026/01/Spring-2026-Handshake-Information-Sessions-WOW.jpg
END:VEVENT
BEGIN:VEVENT
DTSTART;TZID=America/New_York:20260325T120000
DTEND;TZID=America/New_York:20260325T140000
DTSTAMP:20260419T140805
CREATED:20260203T214126Z
LAST-MODIFIED:20260203T214126Z
UID:10074351-1774440000-1774447200@www.wcsu.edu
SUMMARY:Safe Zone Training (In-Person) - Faculty/Administrative Faculty
DESCRIPTION:SAFE ZONE TRAINING (IN-PERSON) – FACULTY/ADMINISTRATIVE FACULTY: Safe Zone Trainings are opportunities to learn about LGBTQ+ identities\, pronouns\, gender\, and sexuality\, and examine prejudice\, assumptions\, and privilege. From noon to 2 p.m. at the WCSU Pride Center in Room 218 of the Midtown Student Center. \nRSVP by emailing Scott Towers\, Pride Center Coordinator at towerss@wcsu.edu.
URL:https://www.wcsu.edu/events/calendar/safe-zone-training-in-person-faculty-administrative-faculty/
LOCATION:WCSU Pride Center
CATEGORIES:Workshops
ATTACH;FMTTYPE=image/png:https://www.wcsu.edu/events/wp-content/uploads/sites/181/2023/10/11_9-Budgeting-for-Better-Health.png
END:VEVENT
END:VCALENDAR