BEGIN:VCALENDAR
VERSION:2.0
PRODID:-//WCSU Events - ECPv6.15.17.1//NONSGML v1.0//EN
CALSCALE:GREGORIAN
METHOD:PUBLISH
X-WR-CALNAME:WCSU Events
X-ORIGINAL-URL:https://www.wcsu.edu/events
X-WR-CALDESC:Events for WCSU Events
REFRESH-INTERVAL;VALUE=DURATION:PT1H
X-Robots-Tag:noindex
X-PUBLISHED-TTL:PT1H
BEGIN:VTIMEZONE
TZID:America/New_York
BEGIN:DAYLIGHT
TZOFFSETFROM:-0500
TZOFFSETTO:-0400
TZNAME:EDT
DTSTART:20230312T070000
END:DAYLIGHT
BEGIN:STANDARD
TZOFFSETFROM:-0400
TZOFFSETTO:-0500
TZNAME:EST
DTSTART:20231105T060000
END:STANDARD
BEGIN:DAYLIGHT
TZOFFSETFROM:-0500
TZOFFSETTO:-0400
TZNAME:EDT
DTSTART:20240310T070000
END:DAYLIGHT
BEGIN:STANDARD
TZOFFSETFROM:-0400
TZOFFSETTO:-0500
TZNAME:EST
DTSTART:20241103T060000
END:STANDARD
BEGIN:DAYLIGHT
TZOFFSETFROM:-0500
TZOFFSETTO:-0400
TZNAME:EDT
DTSTART:20250309T070000
END:DAYLIGHT
BEGIN:STANDARD
TZOFFSETFROM:-0400
TZOFFSETTO:-0500
TZNAME:EST
DTSTART:20251102T060000
END:STANDARD
END:VTIMEZONE
BEGIN:VTIMEZONE
TZID:UTC
BEGIN:STANDARD
TZOFFSETFROM:+0000
TZOFFSETTO:+0000
TZNAME:UTC
DTSTART:20210101T000000
END:STANDARD
END:VTIMEZONE
BEGIN:VEVENT
DTSTART;TZID=America/New_York:20241113T120000
DTEND;TZID=America/New_York:20241113T133000
DTSTAMP:20260423T221918
CREATED:20241031T131508Z
LAST-MODIFIED:20241105T114921Z
UID:10070171-1731499200-1731504600@www.wcsu.edu
SUMMARY:Post Election Campus Community Safe Place
DESCRIPTION:POST ELECTION CAMPUS COMMUNITY SAFE PLACE: Join us in a supportive and welcoming space to process and reflect on the outcomes of the recent election. This event provides a safe environment where students\, faculty\, and staff can connect\, share thoughts\, and engage in open conversations about community\, resilience\, and unity. All are welcome to join as we build a compassionate and understanding community. From noon to 1:30 p.m. in the Haas Library on the Midtown campus. This event is sponsored by Racial Justice Coalition (RJC)
URL:https://www.wcsu.edu/events/calendar/post-election-campus-community-safe-place/
LOCATION:Ruth Haas Library\, 181 White St.\, Danbury\, CT
CATEGORIES:Social Event,Support Group
ATTACH;FMTTYPE=image/jpeg:https://www.wcsu.edu/events/wp-content/uploads/sites/181/2023/02/Ruth-Hass-Library.jpg
END:VEVENT
BEGIN:VEVENT
DTSTART;TZID=UTC:20221214T150000
DTEND;TZID=UTC:20221214T160000
DTSTAMP:20260423T221918
CREATED:20221004T002951Z
LAST-MODIFIED:20221005T210622Z
UID:10063055-1671030000-1671033600@www.wcsu.edu
SUMMARY:Ladies Lounge
DESCRIPTION:LADIES LOUNGE: Ladies Lounge is a time for women to get together\, make friends\, de-stress\, have discussions and have fun\, and support each other and other women. Held weekly from 3 to 4 p.m. in the Student Center game room – open to all wcsu students. Click here to register.
URL:https://www.wcsu.edu/events/calendar/ladies-lounge/2022-12-14/
LOCATION:Midtown Student Center Game Room\, 181 White St.\, Danbury\, CT
CATEGORIES:Support Group
ATTACH;FMTTYPE=image/jpeg:https://www.wcsu.edu/events/wp-content/uploads/sites/181/2022/10/Ladies-Lounge-🌸-e1665499891960.jpg
END:VEVENT
BEGIN:VEVENT
DTSTART;TZID=UTC:20221214T120000
DTEND;TZID=UTC:20221214T130000
DTSTAMP:20260423T221918
CREATED:20221005T000711Z
LAST-MODIFIED:20221005T000754Z
UID:10063063-1671019200-1671022800@www.wcsu.edu
SUMMARY:Young Peoples AA meeting
DESCRIPTION:YOUNG PEOPLES AA MEETING: Alcoholics Anonymous open meeting for any student who is looking to reduce or eliminate use of substances. From noon to 1 p.m. in the Midtown Student Center\, room 201A.
URL:https://www.wcsu.edu/events/calendar/young-peoples-aa-meeting/2022-12-14/
LOCATION:Midtown Student Center 201A
CATEGORIES:Health And Wellness,Meeting,Support Group
ATTACH;FMTTYPE=image/jpeg:https://www.wcsu.edu/events/wp-content/uploads/sites/181/2022/10/AA-Flyer-jpeg.jpg
END:VEVENT
BEGIN:VEVENT
DTSTART;TZID=UTC:20221207T150000
DTEND;TZID=UTC:20221207T160000
DTSTAMP:20260423T221918
CREATED:20221004T002951Z
LAST-MODIFIED:20221005T210622Z
UID:10063054-1670425200-1670428800@www.wcsu.edu
SUMMARY:Ladies Lounge
DESCRIPTION:LADIES LOUNGE: Ladies Lounge is a time for women to get together\, make friends\, de-stress\, have discussions and have fun\, and support each other and other women. Held weekly from 3 to 4 p.m. in the Student Center game room – open to all wcsu students. Click here to register.
URL:https://www.wcsu.edu/events/calendar/ladies-lounge/2022-12-07/
LOCATION:Midtown Student Center Game Room\, 181 White St.\, Danbury\, CT
CATEGORIES:Support Group
ATTACH;FMTTYPE=image/jpeg:https://www.wcsu.edu/events/wp-content/uploads/sites/181/2022/10/Ladies-Lounge-🌸-e1665499891960.jpg
END:VEVENT
BEGIN:VEVENT
DTSTART;TZID=UTC:20221207T120000
DTEND;TZID=UTC:20221207T130000
DTSTAMP:20260423T221918
CREATED:20221005T000711Z
LAST-MODIFIED:20221206T145233Z
UID:10063064-1670414400-1670418000@www.wcsu.edu
SUMMARY:Young Peoples AA meeting
DESCRIPTION:YOUNG PEOPLE’S AA MEETING: Alcoholics Anonymous open meeting for any student who is looking to reduce or eliminate use of substances. From noon to 1 p.m. in the Midtown Student Center\, room 201A.
URL:https://www.wcsu.edu/events/calendar/young-peoples-aa-meeting-2022-12-07/
LOCATION:Midtown Student Center 201A
CATEGORIES:Health And Wellness,Meeting,Support Group
ATTACH;FMTTYPE=image/jpeg:https://www.wcsu.edu/events/wp-content/uploads/sites/181/2022/10/AA-Flyer-jpeg.jpg
END:VEVENT
BEGIN:VEVENT
DTSTART;TZID=UTC:20221130T150000
DTEND;TZID=UTC:20221130T160000
DTSTAMP:20260423T221918
CREATED:20221004T002951Z
LAST-MODIFIED:20221005T210622Z
UID:10063053-1669820400-1669824000@www.wcsu.edu
SUMMARY:Ladies Lounge
DESCRIPTION:LADIES LOUNGE: Ladies Lounge is a time for women to get together\, make friends\, de-stress\, have discussions and have fun\, and support each other and other women. Held weekly from 3 to 4 p.m. in the Student Center game room – open to all wcsu students. Click here to register.
URL:https://www.wcsu.edu/events/calendar/ladies-lounge/2022-11-30/
LOCATION:Midtown Student Center Game Room\, 181 White St.\, Danbury\, CT
CATEGORIES:Support Group
ATTACH;FMTTYPE=image/jpeg:https://www.wcsu.edu/events/wp-content/uploads/sites/181/2022/10/Ladies-Lounge-🌸-e1665499891960.jpg
END:VEVENT
BEGIN:VEVENT
DTSTART;TZID=UTC:20221130T120000
DTEND;TZID=UTC:20221130T130000
DTSTAMP:20260423T221918
CREATED:20221005T000711Z
LAST-MODIFIED:20221005T000754Z
UID:10063062-1669809600-1669813200@www.wcsu.edu
SUMMARY:Young Peoples AA meeting
DESCRIPTION:YOUNG PEOPLES AA MEETING: Alcoholics Anonymous open meeting for any student who is looking to reduce or eliminate use of substances. From noon to 1 p.m. in the Midtown Student Center\, room 201A.
URL:https://www.wcsu.edu/events/calendar/young-peoples-aa-meeting/2022-11-30/
LOCATION:Midtown Student Center 201A
CATEGORIES:Health And Wellness,Meeting,Support Group
ATTACH;FMTTYPE=image/jpeg:https://www.wcsu.edu/events/wp-content/uploads/sites/181/2022/10/AA-Flyer-jpeg.jpg
END:VEVENT
BEGIN:VEVENT
DTSTART;TZID=UTC:20221116T150000
DTEND;TZID=UTC:20221116T160000
DTSTAMP:20260423T221918
CREATED:20221004T002951Z
LAST-MODIFIED:20221005T210622Z
UID:10063052-1668610800-1668614400@www.wcsu.edu
SUMMARY:Ladies Lounge
DESCRIPTION:LADIES LOUNGE: Ladies Lounge is a time for women to get together\, make friends\, de-stress\, have discussions and have fun\, and support each other and other women. Held weekly from 3 to 4 p.m. in the Student Center game room – open to all wcsu students. Click here to register.
URL:https://www.wcsu.edu/events/calendar/ladies-lounge/2022-11-16/
LOCATION:Midtown Student Center Game Room\, 181 White St.\, Danbury\, CT
CATEGORIES:Support Group
ATTACH;FMTTYPE=image/jpeg:https://www.wcsu.edu/events/wp-content/uploads/sites/181/2022/10/Ladies-Lounge-🌸-e1665499891960.jpg
END:VEVENT
BEGIN:VEVENT
DTSTART;TZID=UTC:20221116T120000
DTEND;TZID=UTC:20221116T130000
DTSTAMP:20260423T221918
CREATED:20221005T000711Z
LAST-MODIFIED:20221005T000754Z
UID:10063061-1668600000-1668603600@www.wcsu.edu
SUMMARY:Young Peoples AA meeting
DESCRIPTION:YOUNG PEOPLES AA MEETING: Alcoholics Anonymous open meeting for any student who is looking to reduce or eliminate use of substances. From noon to 1 p.m. in the Midtown Student Center\, room 201A.
URL:https://www.wcsu.edu/events/calendar/young-peoples-aa-meeting/2022-11-16/
LOCATION:Midtown Student Center 201A
CATEGORIES:Health And Wellness,Meeting,Support Group
ATTACH;FMTTYPE=image/jpeg:https://www.wcsu.edu/events/wp-content/uploads/sites/181/2022/10/AA-Flyer-jpeg.jpg
END:VEVENT
BEGIN:VEVENT
DTSTART;TZID=UTC:20221109T150000
DTEND;TZID=UTC:20221109T160000
DTSTAMP:20260423T221918
CREATED:20221004T002951Z
LAST-MODIFIED:20221005T210622Z
UID:10063051-1668006000-1668009600@www.wcsu.edu
SUMMARY:Ladies Lounge
DESCRIPTION:LADIES LOUNGE: Ladies Lounge is a time for women to get together\, make friends\, de-stress\, have discussions and have fun\, and support each other and other women. Held weekly from 3 to 4 p.m. in the Student Center game room – open to all wcsu students. Click here to register.
URL:https://www.wcsu.edu/events/calendar/ladies-lounge/2022-11-09/
LOCATION:Midtown Student Center Game Room\, 181 White St.\, Danbury\, CT
CATEGORIES:Support Group
ATTACH;FMTTYPE=image/jpeg:https://www.wcsu.edu/events/wp-content/uploads/sites/181/2022/10/Ladies-Lounge-🌸-e1665499891960.jpg
END:VEVENT
BEGIN:VEVENT
DTSTART;TZID=UTC:20221109T120000
DTEND;TZID=UTC:20221109T130000
DTSTAMP:20260423T221918
CREATED:20221005T000711Z
LAST-MODIFIED:20221005T000754Z
UID:10063060-1667995200-1667998800@www.wcsu.edu
SUMMARY:Young Peoples AA meeting
DESCRIPTION:YOUNG PEOPLES AA MEETING: Alcoholics Anonymous open meeting for any student who is looking to reduce or eliminate use of substances. From noon to 1 p.m. in the Midtown Student Center\, room 201A.
URL:https://www.wcsu.edu/events/calendar/young-peoples-aa-meeting/2022-11-09/
LOCATION:Midtown Student Center 201A
CATEGORIES:Health And Wellness,Meeting,Support Group
ATTACH;FMTTYPE=image/jpeg:https://www.wcsu.edu/events/wp-content/uploads/sites/181/2022/10/AA-Flyer-jpeg.jpg
END:VEVENT
BEGIN:VEVENT
DTSTART;TZID=UTC:20221102T150000
DTEND;TZID=UTC:20221102T160000
DTSTAMP:20260423T221918
CREATED:20221004T002951Z
LAST-MODIFIED:20221005T210622Z
UID:10063050-1667401200-1667404800@www.wcsu.edu
SUMMARY:Ladies Lounge
DESCRIPTION:LADIES LOUNGE: Ladies Lounge is a time for women to get together\, make friends\, de-stress\, have discussions and have fun\, and support each other and other women. Held weekly from 3 to 4 p.m. in the Student Center game room – open to all wcsu students. Click here to register.
URL:https://www.wcsu.edu/events/calendar/ladies-lounge/2022-11-02/
LOCATION:Midtown Student Center Game Room\, 181 White St.\, Danbury\, CT
CATEGORIES:Support Group
ATTACH;FMTTYPE=image/jpeg:https://www.wcsu.edu/events/wp-content/uploads/sites/181/2022/10/Ladies-Lounge-🌸-e1665499891960.jpg
END:VEVENT
BEGIN:VEVENT
DTSTART;TZID=UTC:20221102T120000
DTEND;TZID=UTC:20221102T130000
DTSTAMP:20260423T221918
CREATED:20221005T000711Z
LAST-MODIFIED:20221005T000754Z
UID:10063059-1667390400-1667394000@www.wcsu.edu
SUMMARY:Young Peoples AA meeting
DESCRIPTION:YOUNG PEOPLES AA MEETING: Alcoholics Anonymous open meeting for any student who is looking to reduce or eliminate use of substances. From noon to 1 p.m. in the Midtown Student Center\, room 201A.
URL:https://www.wcsu.edu/events/calendar/young-peoples-aa-meeting/2022-11-02/
LOCATION:Midtown Student Center 201A
CATEGORIES:Health And Wellness,Meeting,Support Group
ATTACH;FMTTYPE=image/jpeg:https://www.wcsu.edu/events/wp-content/uploads/sites/181/2022/10/AA-Flyer-jpeg.jpg
END:VEVENT
BEGIN:VEVENT
DTSTART;TZID=UTC:20221026T150000
DTEND;TZID=UTC:20221026T160000
DTSTAMP:20260423T221918
CREATED:20221004T002951Z
LAST-MODIFIED:20221005T210622Z
UID:10063049-1666796400-1666800000@www.wcsu.edu
SUMMARY:Ladies Lounge
DESCRIPTION:LADIES LOUNGE: Ladies Lounge is a time for women to get together\, make friends\, de-stress\, have discussions and have fun\, and support each other and other women. Held weekly from 3 to 4 p.m. in the Student Center game room – open to all wcsu students. Click here to register.
URL:https://www.wcsu.edu/events/calendar/ladies-lounge/2022-10-26/
LOCATION:Midtown Student Center Game Room\, 181 White St.\, Danbury\, CT
CATEGORIES:Support Group
ATTACH;FMTTYPE=image/jpeg:https://www.wcsu.edu/events/wp-content/uploads/sites/181/2022/10/Ladies-Lounge-🌸-e1665499891960.jpg
END:VEVENT
BEGIN:VEVENT
DTSTART;TZID=UTC:20221026T120000
DTEND;TZID=UTC:20221026T130000
DTSTAMP:20260423T221918
CREATED:20221005T000711Z
LAST-MODIFIED:20221005T000754Z
UID:10063058-1666785600-1666789200@www.wcsu.edu
SUMMARY:Young Peoples AA meeting
DESCRIPTION:YOUNG PEOPLES AA MEETING: Alcoholics Anonymous open meeting for any student who is looking to reduce or eliminate use of substances. From noon to 1 p.m. in the Midtown Student Center\, room 201A.
URL:https://www.wcsu.edu/events/calendar/young-peoples-aa-meeting/2022-10-26/
LOCATION:Midtown Student Center 201A
CATEGORIES:Health And Wellness,Meeting,Support Group
ATTACH;FMTTYPE=image/jpeg:https://www.wcsu.edu/events/wp-content/uploads/sites/181/2022/10/AA-Flyer-jpeg.jpg
END:VEVENT
BEGIN:VEVENT
DTSTART;TZID=UTC:20221019T150000
DTEND;TZID=UTC:20221019T160000
DTSTAMP:20260423T221918
CREATED:20221004T002951Z
LAST-MODIFIED:20221005T210622Z
UID:10063048-1666191600-1666195200@www.wcsu.edu
SUMMARY:Ladies Lounge
DESCRIPTION:LADIES LOUNGE: Ladies Lounge is a time for women to get together\, make friends\, de-stress\, have discussions and have fun\, and support each other and other women. Held weekly from 3 to 4 p.m. in the Student Center game room – open to all wcsu students. Click here to register.
URL:https://www.wcsu.edu/events/calendar/ladies-lounge/2022-10-19/
LOCATION:Midtown Student Center Game Room\, 181 White St.\, Danbury\, CT
CATEGORIES:Support Group
ATTACH;FMTTYPE=image/jpeg:https://www.wcsu.edu/events/wp-content/uploads/sites/181/2022/10/Ladies-Lounge-🌸-e1665499891960.jpg
END:VEVENT
BEGIN:VEVENT
DTSTART;TZID=UTC:20221019T120000
DTEND;TZID=UTC:20221019T130000
DTSTAMP:20260423T221918
CREATED:20221005T000711Z
LAST-MODIFIED:20221005T000754Z
UID:10063057-1666180800-1666184400@www.wcsu.edu
SUMMARY:Young Peoples AA meeting
DESCRIPTION:YOUNG PEOPLES AA MEETING: Alcoholics Anonymous open meeting for any student who is looking to reduce or eliminate use of substances. From noon to 1 p.m. in the Midtown Student Center\, room 201A.
URL:https://www.wcsu.edu/events/calendar/young-peoples-aa-meeting/2022-10-19/
LOCATION:Midtown Student Center 201A
CATEGORIES:Health And Wellness,Meeting,Support Group
ATTACH;FMTTYPE=image/jpeg:https://www.wcsu.edu/events/wp-content/uploads/sites/181/2022/10/AA-Flyer-jpeg.jpg
END:VEVENT
BEGIN:VEVENT
DTSTART;TZID=UTC:20221012T150000
DTEND;TZID=UTC:20221012T160000
DTSTAMP:20260423T221918
CREATED:20221004T002951Z
LAST-MODIFIED:20221005T210622Z
UID:10063047-1665586800-1665590400@www.wcsu.edu
SUMMARY:Ladies Lounge
DESCRIPTION:LADIES LOUNGE: Ladies Lounge is a time for women to get together\, make friends\, de-stress\, have discussions and have fun\, and support each other and other women. Held weekly from 3 to 4 p.m. in the Student Center game room – open to all wcsu students. Click here to register.
URL:https://www.wcsu.edu/events/calendar/ladies-lounge/2022-10-12/
LOCATION:Midtown Student Center Game Room\, 181 White St.\, Danbury\, CT
CATEGORIES:Support Group
ATTACH;FMTTYPE=image/jpeg:https://www.wcsu.edu/events/wp-content/uploads/sites/181/2022/10/Ladies-Lounge-🌸-e1665499891960.jpg
END:VEVENT
BEGIN:VEVENT
DTSTART;TZID=UTC:20221005T150000
DTEND;TZID=UTC:20221005T160000
DTSTAMP:20260423T221918
CREATED:20221004T002951Z
LAST-MODIFIED:20221005T210622Z
UID:10063046-1664982000-1664985600@www.wcsu.edu
SUMMARY:Ladies Lounge
DESCRIPTION:LADIES LOUNGE: Ladies Lounge is a time for women to get together\, make friends\, de-stress\, have discussions and have fun\, and support each other and other women. Held weekly from 3 to 4 p.m. in the Student Center game room – open to all wcsu students. Click here to register.
URL:https://www.wcsu.edu/events/calendar/ladies-lounge/2022-10-05/
LOCATION:Midtown Student Center Game Room\, 181 White St.\, Danbury\, CT
CATEGORIES:Support Group
ATTACH;FMTTYPE=image/jpeg:https://www.wcsu.edu/events/wp-content/uploads/sites/181/2022/10/Ladies-Lounge-🌸-e1665499891960.jpg
END:VEVENT
BEGIN:VEVENT
DTSTART;TZID=UTC:20220512T160000
DTEND;TZID=UTC:20220512T160000
DTSTAMP:20260423T221918
CREATED:20220330T173011Z
LAST-MODIFIED:20220405T235825Z
UID:10062216-1652371200-1652371200@www.wcsu.edu
SUMMARY:SMART CHOICES Meeting
DESCRIPTION:SMART CHOICES MEETING: Smart Choices is a peer support group to help change habits like drinking\, weed smoking\, vaping\, gambling or other “tough stuff” that is holding us back. A no-judgement zone where social support and practical tools can help you develop and maintain successful life changes. Build motivation\, learn new coping skills\, manage thoughts\, feelings and actions and learn to live a more balanced life. Meet at 4 p.m. in the C.H.O.I.C.E.S. office in the Midtown Student Center 211.
URL:https://www.wcsu.edu/events/calendar/smart-choices-meeting/2022-05-12/
LOCATION:Campus & Student Centers
CATEGORIES:Health And Wellness,Meeting,Support Group,Wellness
ATTACH;FMTTYPE=image/jpeg:https://www.wcsu.edu/events/wp-content/uploads/sites/181/2022/03/3-4-22-SMART-flyer-final.jpg
END:VEVENT
BEGIN:VEVENT
DTSTART;TZID=UTC:20220505T160000
DTEND;TZID=UTC:20220505T160000
DTSTAMP:20260423T221918
CREATED:20220330T173011Z
LAST-MODIFIED:20220405T235825Z
UID:10062215-1651766400-1651766400@www.wcsu.edu
SUMMARY:SMART CHOICES Meeting
DESCRIPTION:SMART CHOICES MEETING: Smart Choices is a peer support group to help change habits like drinking\, weed smoking\, vaping\, gambling or other “tough stuff” that is holding us back. A no-judgement zone where social support and practical tools can help you develop and maintain successful life changes. Build motivation\, learn new coping skills\, manage thoughts\, feelings and actions and learn to live a more balanced life. Meet at 4 p.m. in the C.H.O.I.C.E.S. office in the Midtown Student Center 211.
URL:https://www.wcsu.edu/events/calendar/smart-choices-meeting/2022-05-05/
LOCATION:Campus & Student Centers
CATEGORIES:Health And Wellness,Meeting,Support Group,Wellness
ATTACH;FMTTYPE=image/jpeg:https://www.wcsu.edu/events/wp-content/uploads/sites/181/2022/03/3-4-22-SMART-flyer-final.jpg
END:VEVENT
BEGIN:VEVENT
DTSTART;TZID=UTC:20220428T160000
DTEND;TZID=UTC:20220428T160000
DTSTAMP:20260423T221918
CREATED:20220330T173011Z
LAST-MODIFIED:20220405T235825Z
UID:10062214-1651161600-1651161600@www.wcsu.edu
SUMMARY:SMART CHOICES Meeting
DESCRIPTION:SMART CHOICES MEETING: Smart Choices is a peer support group to help change habits like drinking\, weed smoking\, vaping\, gambling or other “tough stuff” that is holding us back. A no-judgement zone where social support and practical tools can help you develop and maintain successful life changes. Build motivation\, learn new coping skills\, manage thoughts\, feelings and actions and learn to live a more balanced life. Meet at 4 p.m. in the C.H.O.I.C.E.S. office in the Midtown Student Center 211.
URL:https://www.wcsu.edu/events/calendar/smart-choices-meeting/2022-04-28/
LOCATION:Campus & Student Centers
CATEGORIES:Health And Wellness,Meeting,Support Group,Wellness
ATTACH;FMTTYPE=image/jpeg:https://www.wcsu.edu/events/wp-content/uploads/sites/181/2022/03/3-4-22-SMART-flyer-final.jpg
END:VEVENT
BEGIN:VEVENT
DTSTART;TZID=UTC:20220421T160000
DTEND;TZID=UTC:20220421T160000
DTSTAMP:20260423T221918
CREATED:20220330T173011Z
LAST-MODIFIED:20220405T235825Z
UID:10062213-1650556800-1650556800@www.wcsu.edu
SUMMARY:SMART CHOICES Meeting
DESCRIPTION:SMART CHOICES MEETING: Smart Choices is a peer support group to help change habits like drinking\, weed smoking\, vaping\, gambling or other “tough stuff” that is holding us back. A no-judgement zone where social support and practical tools can help you develop and maintain successful life changes. Build motivation\, learn new coping skills\, manage thoughts\, feelings and actions and learn to live a more balanced life. Meet at 4 p.m. in the C.H.O.I.C.E.S. office in the Midtown Student Center 211.
URL:https://www.wcsu.edu/events/calendar/smart-choices-meeting/2022-04-21/
LOCATION:Campus & Student Centers
CATEGORIES:Health And Wellness,Meeting,Support Group,Wellness
ATTACH;FMTTYPE=image/jpeg:https://www.wcsu.edu/events/wp-content/uploads/sites/181/2022/03/3-4-22-SMART-flyer-final.jpg
END:VEVENT
BEGIN:VEVENT
DTSTART;TZID=UTC:20220414T160000
DTEND;TZID=UTC:20220414T160000
DTSTAMP:20260423T221918
CREATED:20220330T173011Z
LAST-MODIFIED:20220405T235825Z
UID:10062212-1649952000-1649952000@www.wcsu.edu
SUMMARY:SMART CHOICES Meeting
DESCRIPTION:SMART CHOICES MEETING: Smart Choices is a peer support group to help change habits like drinking\, weed smoking\, vaping\, gambling or other “tough stuff” that is holding us back. A no-judgement zone where social support and practical tools can help you develop and maintain successful life changes. Build motivation\, learn new coping skills\, manage thoughts\, feelings and actions and learn to live a more balanced life. Meet at 4 p.m. in the C.H.O.I.C.E.S. office in the Midtown Student Center 211.
URL:https://www.wcsu.edu/events/calendar/smart-choices-meeting/2022-04-14/
LOCATION:Campus & Student Centers
CATEGORIES:Health And Wellness,Meeting,Support Group,Wellness
ATTACH;FMTTYPE=image/jpeg:https://www.wcsu.edu/events/wp-content/uploads/sites/181/2022/03/3-4-22-SMART-flyer-final.jpg
END:VEVENT
BEGIN:VEVENT
DTSTART;TZID=UTC:20220407T160000
DTEND;TZID=UTC:20220407T160000
DTSTAMP:20260423T221918
CREATED:20220330T173011Z
LAST-MODIFIED:20220405T235825Z
UID:10062211-1649347200-1649347200@www.wcsu.edu
SUMMARY:SMART CHOICES Meeting
DESCRIPTION:SMART CHOICES MEETING: Smart Choices is a peer support group to help change habits like drinking\, weed smoking\, vaping\, gambling or other “tough stuff” that is holding us back. A no-judgement zone where social support and practical tools can help you develop and maintain successful life changes. Build motivation\, learn new coping skills\, manage thoughts\, feelings and actions and learn to live a more balanced life. Meet at 4 p.m. in the C.H.O.I.C.E.S. office in the Midtown Student Center 211.
URL:https://www.wcsu.edu/events/calendar/smart-choices-meeting/2022-04-07/
LOCATION:Campus & Student Centers
CATEGORIES:Health And Wellness,Meeting,Support Group,Wellness
ATTACH;FMTTYPE=image/jpeg:https://www.wcsu.edu/events/wp-content/uploads/sites/181/2022/03/3-4-22-SMART-flyer-final.jpg
END:VEVENT
BEGIN:VEVENT
DTSTART;TZID=UTC:20220331T160000
DTEND;TZID=UTC:20220331T160000
DTSTAMP:20260423T221918
CREATED:20220330T173011Z
LAST-MODIFIED:20220405T235825Z
UID:10062210-1648742400-1648742400@www.wcsu.edu
SUMMARY:SMART CHOICES Meeting
DESCRIPTION:SMART CHOICES MEETING: Smart Choices is a peer support group to help change habits like drinking\, weed smoking\, vaping\, gambling or other “tough stuff” that is holding us back. A no-judgement zone where social support and practical tools can help you develop and maintain successful life changes. Build motivation\, learn new coping skills\, manage thoughts\, feelings and actions and learn to live a more balanced life. Meet at 4 p.m. in the C.H.O.I.C.E.S. office in the Midtown Student Center 211.
URL:https://www.wcsu.edu/events/calendar/smart-choices-meeting/2022-03-31/
LOCATION:Campus & Student Centers
CATEGORIES:Health And Wellness,Meeting,Support Group,Wellness
ATTACH;FMTTYPE=image/jpeg:https://www.wcsu.edu/events/wp-content/uploads/sites/181/2022/03/3-4-22-SMART-flyer-final.jpg
END:VEVENT
END:VCALENDAR