BEGIN:VCALENDAR
VERSION:2.0
PRODID:-//WCSU Events - ECPv6.15.17.1//NONSGML v1.0//EN
CALSCALE:GREGORIAN
METHOD:PUBLISH
X-WR-CALNAME:WCSU Events
X-ORIGINAL-URL:https://www.wcsu.edu/events
X-WR-CALDESC:Events for WCSU Events
REFRESH-INTERVAL;VALUE=DURATION:PT1H
X-Robots-Tag:noindex
X-PUBLISHED-TTL:PT1H
BEGIN:VTIMEZONE
TZID:America/New_York
BEGIN:DAYLIGHT
TZOFFSETFROM:-0500
TZOFFSETTO:-0400
TZNAME:EDT
DTSTART:20250309T070000
END:DAYLIGHT
BEGIN:STANDARD
TZOFFSETFROM:-0400
TZOFFSETTO:-0500
TZNAME:EST
DTSTART:20251102T060000
END:STANDARD
BEGIN:DAYLIGHT
TZOFFSETFROM:-0500
TZOFFSETTO:-0400
TZNAME:EDT
DTSTART:20260308T070000
END:DAYLIGHT
BEGIN:STANDARD
TZOFFSETFROM:-0400
TZOFFSETTO:-0500
TZNAME:EST
DTSTART:20261101T060000
END:STANDARD
BEGIN:DAYLIGHT
TZOFFSETFROM:-0500
TZOFFSETTO:-0400
TZNAME:EDT
DTSTART:20270314T070000
END:DAYLIGHT
BEGIN:STANDARD
TZOFFSETFROM:-0400
TZOFFSETTO:-0500
TZNAME:EST
DTSTART:20271107T060000
END:STANDARD
END:VTIMEZONE
BEGIN:VEVENT
DTSTART;TZID=America/New_York:20260422T080000
DTEND;TZID=America/New_York:20260422T170000
DTSTAMP:20260419T143838
CREATED:20251211T140641Z
LAST-MODIFIED:20251211T140642Z
UID:10072096-1776844800-1776877200@www.wcsu.edu
SUMMARY:WestConn Wednesdays
DESCRIPTION:WESTCONN WEDNESDAYS: Starting Wednesday\, Oct. 1\, we’re launching WestConn Wednesdays — a new weekly tradition to show our Wolves pride and strengthen our community by wearing gear weekly\, enjoy a discounted lunch the first Wednesday of each month. \nThis isn’t just a spirit day. It’s a chance for faculty\, staff\, and students to come together\, celebrate what makes us distinctively WestConn\, and build the connections that make our campuses feel like home. \nWestConn Wednesdays continue all year long — just wear your WestConn blue and orange to show your Wolves pride. Show off your gear on social media and tag #WestConnWednesday to be eligible for one of several prizes each week. \nWestConn Wednesdays are about more than gear — they’re about belonging. By coming together weekly\, we can weave stronger connections across campus and celebrate our university spirit.
URL:https://www.wcsu.edu/events/calendar/westconn-wednesdays-3/2026-04-22/
LOCATION:CT
CATEGORIES:Social Event,WOW
ATTACH;FMTTYPE=image/jpeg:https://www.wcsu.edu/events/wp-content/uploads/sites/181/2025/09/WestConnWednesday_500x300.jpg
END:VEVENT
BEGIN:VEVENT
DTSTART;TZID=America/New_York:20260423T120000
DTEND;TZID=America/New_York:20260423T140000
DTSTAMP:20260419T143838
CREATED:20260402T124333Z
LAST-MODIFIED:20260402T124333Z
UID:10074497-1776945600-1776952800@www.wcsu.edu
SUMMARY:Howls of Hope: Joy As An Act of Resistance
DESCRIPTION:HOWLS OF HOPE – JOY AS AN ACT OF RESISTANCE: Performances By: Centerstage\, The Fourth Wall\, ENCORE\, & the Writing Department \n“Wolves Walk” around the perimeter of Midtown campus \nFood and refreshments will be provided! \nFrom noon to 2 p.m. in Berkshire Hall on the Midtown campus. \nIf you need any accommodations for this event\, please contact the Racial Justice Coalition at rjc@wcsu.edu
URL:https://www.wcsu.edu/events/calendar/howls-of-hope-joy-as-an-act-of-resistance/
LOCATION:Berkshire Hall\, 181 White St.\, Danbury\, CT
CATEGORIES:Diversity,Leadership,Music,Social Event
ATTACH;FMTTYPE=image/jpeg:https://www.wcsu.edu/events/wp-content/uploads/sites/181/2023/10/Berkshire-10-18-23.jpg
END:VEVENT
BEGIN:VEVENT
DTSTART;TZID=America/New_York:20260425T180000
DTEND;TZID=America/New_York:20260425T210000
DTSTAMP:20260419T143838
CREATED:20260417T194104Z
LAST-MODIFIED:20260417T194104Z
UID:10074575-1777140000-1777150800@www.wcsu.edu
SUMMARY:WestFest Kickoff and WestDaze Music Festival
DESCRIPTION:WESTFEST KICKOFF AND WESTDAZE MUSIC FESTIVAL: Join PAC in collaboration with HRL for WestFest Kickoff & WestDaze Music Festival from 6-9 p.m. on the Midtown Quad! There will be live music\, raffles\, free food\, free t-shirts\, novelties\, club tabling\, and more! \nRain location: O’Neill Center\, Westside campus
URL:https://www.wcsu.edu/events/calendar/westfest-kickoff-and-westdaze-music-festival/
LOCATION:Midtown Campus Quad\, 181 White Street\, Danbury\, CT
CATEGORIES:Festival,Housing & Residence Life,Music,PAC,Social Event
ATTACH;FMTTYPE=image/jpeg:https://www.wcsu.edu/events/wp-content/uploads/sites/181/2022/10/Warner-Library-Quad-e1677177865274.jpg
ORGANIZER;CN="Program Activities Council (PAC)":MAILTO:quirkm@wcsu.edu
END:VEVENT
BEGIN:VEVENT
DTSTART;TZID=America/New_York:20260427T200000
DTEND;TZID=America/New_York:20260427T213000
DTSTAMP:20260419T143838
CREATED:20260417T163229Z
LAST-MODIFIED:20260417T163313Z
UID:10074576-1777320000-1777325400@www.wcsu.edu
SUMMARY:WestFest Bingo
DESCRIPTION:WESTFEST BINGO: Join PAC for our retro-style WestFest Bingo at 8 p.m. in the Westside Campus Center Ballroom. Have the chance to win a Wii\, Bluetooth Jukebox\, Air Hockey Table\, and more!
URL:https://www.wcsu.edu/events/calendar/westfest-bingo-2/
LOCATION:Westside Campus Center Ballroom\, 43 Lake Ave. Extension\, Danbury\, CT
CATEGORIES:PAC,Social Event
ATTACH;FMTTYPE=image/jpeg:https://www.wcsu.edu/events/wp-content/uploads/sites/181/2022/12/PAC.jpg
ORGANIZER;CN="Program Activities Council (PAC)":MAILTO:quirkm@wcsu.edu
END:VEVENT
BEGIN:VEVENT
DTSTART;TZID=America/New_York:20260429T080000
DTEND;TZID=America/New_York:20260429T170000
DTSTAMP:20260419T143838
CREATED:20251211T140641Z
LAST-MODIFIED:20251211T140642Z
UID:10072097-1777449600-1777482000@www.wcsu.edu
SUMMARY:WestConn Wednesdays
DESCRIPTION:WESTCONN WEDNESDAYS: Starting Wednesday\, Oct. 1\, we’re launching WestConn Wednesdays — a new weekly tradition to show our Wolves pride and strengthen our community by wearing gear weekly\, enjoy a discounted lunch the first Wednesday of each month. \nThis isn’t just a spirit day. It’s a chance for faculty\, staff\, and students to come together\, celebrate what makes us distinctively WestConn\, and build the connections that make our campuses feel like home. \nWestConn Wednesdays continue all year long — just wear your WestConn blue and orange to show your Wolves pride. Show off your gear on social media and tag #WestConnWednesday to be eligible for one of several prizes each week. \nWestConn Wednesdays are about more than gear — they’re about belonging. By coming together weekly\, we can weave stronger connections across campus and celebrate our university spirit.
URL:https://www.wcsu.edu/events/calendar/westconn-wednesdays-3/2026-04-29/
LOCATION:CT
CATEGORIES:Social Event,WOW
ATTACH;FMTTYPE=image/jpeg:https://www.wcsu.edu/events/wp-content/uploads/sites/181/2025/09/WestConnWednesday_500x300.jpg
END:VEVENT
BEGIN:VEVENT
DTSTART;TZID=America/New_York:20260429T113000
DTEND;TZID=America/New_York:20260429T160000
DTSTAMP:20260419T143838
CREATED:20260312T163903Z
LAST-MODIFIED:20260416T194444Z
UID:10074460-1777462200-1777478400@www.wcsu.edu
SUMMARY:WestConn Cultural Food Truck Fest
DESCRIPTION:WESTCONN CULTURAL FOOD TRUCK FEST: The WestConn Cultural Food Truck Fest from 11:30 a.m. to 4 p.m. on the Midtown Rec Field near the Science Building will be a celebration of culture\, community\, and amazing food. \nFood trucks from El Taco Loco\, Don Empanadas\, Wild Sips\, and Wheel of Fortune will be parked adjacent to the Rec Field. Students who show up and register will receive a food voucher for use at one of the trucks — vouchers are limited. \nThere will be crafts\, games\, activities and more. This is a great opportunity to share culture\, connect with the campus community\, and make the event unforgettable
URL:https://www.wcsu.edu/events/calendar/westconn-cultural-food-truck-fest/
LOCATION:Midtown REC Field\, 181 White St.\, Danbury\, CT
CATEGORIES:Diversity,Food,Outdoor,Social Event,WOW
ATTACH;FMTTYPE=image/jpeg:https://www.wcsu.edu/events/wp-content/uploads/sites/181/2022/08/SB-REC-Field.jpg
END:VEVENT
BEGIN:VEVENT
DTSTART;TZID=America/New_York:20260429T190000
DTEND;TZID=America/New_York:20260429T210000
DTSTAMP:20260419T143838
CREATED:20260408T125825Z
LAST-MODIFIED:20260408T125825Z
UID:10074510-1777489200-1777496400@www.wcsu.edu
SUMMARY:Drag Show
DESCRIPTION:DRAG SHOW: Join PAC and the WCSU Pride Center for our Drag Show during WestFest Kickoff! Get the chance to see amazing Queens perform along with Rosé from RuPaul’s Drag Race at 7 p.m. in the Westside Campus Center Ballroom.
URL:https://www.wcsu.edu/events/calendar/drag-show-3/
LOCATION:Westside Campus Center Ballroom\, 43 Lake Ave. Extension\, Danbury\, CT
CATEGORIES:Entertainment,PAC,Social Event
ATTACH;FMTTYPE=image/jpeg:https://www.wcsu.edu/events/wp-content/uploads/sites/181/2023/02/Westside-Campus-Center2.jpg
ORGANIZER;CN="Program Activities Council (PAC)":MAILTO:quirkm@wcsu.edu
END:VEVENT
END:VCALENDAR