BEGIN:VCALENDAR
VERSION:2.0
PRODID:-//WCSU Events - ECPv6.15.17.1//NONSGML v1.0//EN
CALSCALE:GREGORIAN
METHOD:PUBLISH
X-WR-CALNAME:WCSU Events
X-ORIGINAL-URL:https://www.wcsu.edu/events
X-WR-CALDESC:Events for WCSU Events
REFRESH-INTERVAL;VALUE=DURATION:PT1H
X-Robots-Tag:noindex
X-PUBLISHED-TTL:PT1H
BEGIN:VTIMEZONE
TZID:UTC
BEGIN:STANDARD
TZOFFSETFROM:+0000
TZOFFSETTO:+0000
TZNAME:UTC
DTSTART:20200101T000000
END:STANDARD
END:VTIMEZONE
BEGIN:VEVENT
DTSTART;TZID=UTC:20211119T183000
DTEND;TZID=UTC:20211119T183000
DTSTAMP:20260420T201027
CREATED:20211103T221924Z
LAST-MODIFIED:20211110T215214Z
UID:10059655-1637346600-1637346600@www.wcsu.edu
SUMMARY:Fashion Show
DESCRIPTION:ACSA FASHION SHOW: African Caribbean Student Association Fashion Show\, ‘AfroGaza’ at 6:30 p.m. (doors open at 6 p.m.) in Ives Concert Hall in White Hall on the Midtown campus. Open to the WCSU campus community only.
URL:https://www.wcsu.edu/events/calendar/fashion-show-2/
LOCATION:Ives Concert Hall\, 181 White St.\, Danbury\, CT
CATEGORIES:Entertainment
ATTACH;FMTTYPE=image/jpeg:https://www.wcsu.edu/events/wp-content/uploads/sites/181/2021/11/Afrogaza-fashion-show-poster-landscape.jpg
END:VEVENT
END:VCALENDAR