BEGIN:VCALENDAR
VERSION:2.0
PRODID:-//WCSU Events - ECPv6.15.17.1//NONSGML v1.0//EN
CALSCALE:GREGORIAN
METHOD:PUBLISH
X-WR-CALNAME:WCSU Events
X-ORIGINAL-URL:https://www.wcsu.edu/events
X-WR-CALDESC:Events for WCSU Events
REFRESH-INTERVAL;VALUE=DURATION:PT1H
X-Robots-Tag:noindex
X-PUBLISHED-TTL:PT1H
BEGIN:VTIMEZONE
TZID:America/New_York
BEGIN:DAYLIGHT
TZOFFSETFROM:-0500
TZOFFSETTO:-0400
TZNAME:EDT
DTSTART:20230312T070000
END:DAYLIGHT
BEGIN:STANDARD
TZOFFSETFROM:-0400
TZOFFSETTO:-0500
TZNAME:EST
DTSTART:20231105T060000
END:STANDARD
BEGIN:DAYLIGHT
TZOFFSETFROM:-0500
TZOFFSETTO:-0400
TZNAME:EDT
DTSTART:20240310T070000
END:DAYLIGHT
BEGIN:STANDARD
TZOFFSETFROM:-0400
TZOFFSETTO:-0500
TZNAME:EST
DTSTART:20241103T060000
END:STANDARD
BEGIN:DAYLIGHT
TZOFFSETFROM:-0500
TZOFFSETTO:-0400
TZNAME:EDT
DTSTART:20250309T070000
END:DAYLIGHT
BEGIN:STANDARD
TZOFFSETFROM:-0400
TZOFFSETTO:-0500
TZNAME:EST
DTSTART:20251102T060000
END:STANDARD
END:VTIMEZONE
BEGIN:VEVENT
DTSTART;TZID=America/New_York:20240306T123000
DTEND;TZID=America/New_York:20240306T150000
DTSTAMP:20260425T161016
CREATED:20240304T190450Z
LAST-MODIFIED:20240304T202655Z
UID:10065716-1709728200-1709737200@www.wcsu.edu
SUMMARY:Midweek Art Jam
DESCRIPTION:MIDWEEK ART JAM: Join us every Wednesday as we create art together in our fun\, inviting space here on the WCSU Midtown campus. No experience or talent required! We are looking to discover together the power of art\, community\, and creativity through rotating art projects that work to tackle stress\, manage our chaotic lives\, and tame our wandering minds. Art can be a mindful and calming exercise in creative thinking\, but it can also be extraordinarily freeing\, allowing us to let go of perfection and embrace our own unique voice. We will be offering two sessions from 12:30-1:30 p.m. and 2-3 p.m. in the IHHS center (WH 114). And did we mention … there’s free tea! **Note\, we will be skipping March 13 due to Spring Break.
URL:https://www.wcsu.edu/events/calendar/midweek-art-jam-4/
LOCATION:IHHS Center for Wellbeing\, Room 114 White Hall\, 181 White St.\, Danbury
CATEGORIES:Health And Wellness
ATTACH;FMTTYPE=image/png:https://www.wcsu.edu/events/wp-content/uploads/sites/181/2024/03/Art-Jam-WoW-2.png
ORGANIZER;CN="Institute for Holistic Health Studies (IHHS)":MAILTO:autuoric@wcsu.edu
END:VEVENT
BEGIN:VEVENT
DTSTART;TZID=America/New_York:20240320T110000
DTEND;TZID=America/New_York:20240320T150000
DTSTAMP:20260425T161016
CREATED:20240319T142407Z
LAST-MODIFIED:20240319T142407Z
UID:10065835-1710932400-1710946800@www.wcsu.edu
SUMMARY:DIY Henna
DESCRIPTION:DIY HENNA: Do your own Henna from 11 a.m. to 3 p.m. in Berkshire Hall.
URL:https://www.wcsu.edu/events/calendar/diy-henna/
LOCATION:Berkshire Hall\, 181 White St.\, Danbury\, CT
CATEGORIES:Art,Diversity,Social Event
ORGANIZER;CN="Muslim Student Association (MSA)":MAILTO:bande001@wcsu.edu
END:VEVENT
BEGIN:VEVENT
DTSTART;TZID=America/New_York:20240320T123000
DTEND;TZID=America/New_York:20240320T150000
DTSTAMP:20260425T161016
CREATED:20240304T190408Z
LAST-MODIFIED:20240304T202718Z
UID:10065778-1710937800-1710946800@www.wcsu.edu
SUMMARY:Midweek Art Jam
DESCRIPTION:MIDWEEK ART JAM: Join us every Wednesday as we create art together in our fun\, inviting space here on the WCSU Midtown campus. No experience or talent required! We are looking to discover together the power of art\, community\, and creativity through rotating art projects that work to tackle stress\, manage our chaotic lives\, and tame our wandering minds. Art can be a mindful and calming exercise in creative thinking\, but it can also be extraordinarily freeing\, allowing us to let go of perfection and embrace our own unique voice. We will be offering two sessions from 12:30-1:30 p.m. and 2-3 p.m. in the IHHS center (WH 114). And did we mention … there’s free tea! **Note\, we will be skipping March 13 due to Spring Break.
URL:https://www.wcsu.edu/events/calendar/midweek-art-jam-2/
LOCATION:IHHS Center for Wellbeing\, Room 114 White Hall\, 181 White St.\, Danbury
CATEGORIES:Health And Wellness
ATTACH;FMTTYPE=image/png:https://www.wcsu.edu/events/wp-content/uploads/sites/181/2024/03/Art-Jam-WoW-2.png
ORGANIZER;CN="Institute for Holistic Health Studies (IHHS)":MAILTO:autuoric@wcsu.edu
END:VEVENT
BEGIN:VEVENT
DTSTART;TZID=America/New_York:20240321T180000
DTEND;TZID=America/New_York:20240321T200000
DTSTAMP:20260425T161016
CREATED:20240306T205833Z
LAST-MODIFIED:20240306T205944Z
UID:10065800-1711044000-1711051200@www.wcsu.edu
SUMMARY:MFA Thesis Exhibition Opening Reception & Alumni Night
DESCRIPTION:2024 M.F.A. THESIS EXHIBITION OPENING RECEPTION & ALUMNI NIGHT:  \n2024 MFA Thesis Exhibition\nOpening Reception & Alumni Night\nThursday\, March 21\, from 6 to 8 p.m.\nco-sponsored by the Department of Art and the Alumni Association \nThe Master of Fine Arts is the terminal degree for practicing\, professional artists. The M.F.A. Thesis Exhibition is the capstone experience of the graduate program\, demonstrating a personal direction and mastery in the work of the artists. Six graduate students will present their thesis work this year: Amy Caco\, Lucy Gallagher\, Taylor Green\, Andrew Mark\, William J Parrott III\, and Denise Rosa. \nThe exhibition will run from March 21 through April 7. The gallery will be open for viewing from noon to 4 pm Tuesday through Friday\, and from 1 to 4 pm on Saturday and Sunday. \nReserve a spot at the Opening Reception here.
URL:https://www.wcsu.edu/events/calendar/mfa-thesis-exhibition-opening-reception-alumni-night/
LOCATION:Art Gallery\, VPAC\, 43 Lake Ave. Extension\, Danbury\, CT
CATEGORIES:Alumni,Art,Exhibition,Reception,Visual & Performing Arts
ATTACH;FMTTYPE=image/jpeg:https://www.wcsu.edu/events/wp-content/uploads/sites/181/2024/03/MFA-24-PR-500-x-300px.jpg
END:VEVENT
BEGIN:VEVENT
DTSTART;TZID=America/New_York:20240327T123000
DTEND;TZID=America/New_York:20240327T150000
DTSTAMP:20260425T161016
CREATED:20240304T190428Z
LAST-MODIFIED:20240304T202750Z
UID:10065787-1711542600-1711551600@www.wcsu.edu
SUMMARY:Midweek Art Jam
DESCRIPTION:MIDWEEK ART JAM: Join us every Wednesday as we create art together in our fun\, inviting space here on the WCSU Midtown campus. No experience or talent required! We are looking to discover together the power of art\, community\, and creativity through rotating art projects that work to tackle stress\, manage our chaotic lives\, and tame our wandering minds. Art can be a mindful and calming exercise in creative thinking\, but it can also be extraordinarily freeing\, allowing us to let go of perfection and embrace our own unique voice. We will be offering two sessions from 12:30-1:30 p.m. and 2-3 p.m. in the IHHS center (WH 114). And did we mention … there’s free tea! **Note\, we will be skipping March 13 due to Spring Break.
URL:https://www.wcsu.edu/events/calendar/midweek-art-jam-3/
LOCATION:IHHS Center for Wellbeing\, Room 114 White Hall\, 181 White St.\, Danbury
CATEGORIES:Health And Wellness
ATTACH;FMTTYPE=image/png:https://www.wcsu.edu/events/wp-content/uploads/sites/181/2024/03/Art-Jam-WoW-2.png
ORGANIZER;CN="Institute for Holistic Health Studies (IHHS)":MAILTO:autuoric@wcsu.edu
END:VEVENT
END:VCALENDAR