BEGIN:VCALENDAR
VERSION:2.0
PRODID:-//WCSU Events - ECPv6.15.17.1//NONSGML v1.0//EN
CALSCALE:GREGORIAN
METHOD:PUBLISH
X-WR-CALNAME:WCSU Events
X-ORIGINAL-URL:https://www.wcsu.edu/events
X-WR-CALDESC:Events for WCSU Events
REFRESH-INTERVAL;VALUE=DURATION:PT1H
X-Robots-Tag:noindex
X-PUBLISHED-TTL:PT1H
BEGIN:VTIMEZONE
TZID:America/New_York
BEGIN:DAYLIGHT
TZOFFSETFROM:-0500
TZOFFSETTO:-0400
TZNAME:EDT
DTSTART:20230312T070000
END:DAYLIGHT
BEGIN:STANDARD
TZOFFSETFROM:-0400
TZOFFSETTO:-0500
TZNAME:EST
DTSTART:20231105T060000
END:STANDARD
BEGIN:DAYLIGHT
TZOFFSETFROM:-0500
TZOFFSETTO:-0400
TZNAME:EDT
DTSTART:20240310T070000
END:DAYLIGHT
BEGIN:STANDARD
TZOFFSETFROM:-0400
TZOFFSETTO:-0500
TZNAME:EST
DTSTART:20241103T060000
END:STANDARD
BEGIN:DAYLIGHT
TZOFFSETFROM:-0500
TZOFFSETTO:-0400
TZNAME:EDT
DTSTART:20250309T070000
END:DAYLIGHT
BEGIN:STANDARD
TZOFFSETFROM:-0400
TZOFFSETTO:-0500
TZNAME:EST
DTSTART:20251102T060000
END:STANDARD
END:VTIMEZONE
BEGIN:VEVENT
DTSTART;TZID=America/New_York:20240906T153000
DTEND;TZID=America/New_York:20240906T173000
DTSTAMP:20260421T213432
CREATED:20240814T162316Z
LAST-MODIFIED:20240814T165818Z
UID:10067691-1725636600-1725643800@www.wcsu.edu
SUMMARY:Women's Tennis vs. University of Saint Joseph
DESCRIPTION:WESTCONN WOMEN’S TENNIS VS. UNIVERSITY OF SAINT JOSEPH: The Wolves will face the University of Saint Joseph at 3:30 p.m. at the Westside Courts. For more information\, visit https://westconnathletics.com/.
URL:https://www.wcsu.edu/events/calendar/womens-tennis-vs-university-of-saint-joseph-2/
LOCATION:Westside Tennis Courts\, 43 Lake Ave. Extension\, Danbury\, CT
CATEGORIES:Athletics
ATTACH;FMTTYPE=image/jpeg:https://www.wcsu.edu/events/wp-content/uploads/sites/181/2024/08/Womens-Tennis_500x300.jpg
END:VEVENT
BEGIN:VEVENT
DTSTART;TZID=America/New_York:20240906T190000
DTEND;TZID=America/New_York:20240906T210000
DTSTAMP:20260421T213432
CREATED:20240814T162649Z
LAST-MODIFIED:20240814T162732Z
UID:10067692-1725649200-1725656400@www.wcsu.edu
SUMMARY:Women's Soccer vs. U.S. Merchant Marine Academy
DESCRIPTION:WESTCONN WOMEN’S SOCCER VS. U.S. MERCHANT MARINE ACADEMY: The Wolves will face the United States Merchant Marine Academy at 7  p.m. at the Westside Athletic Complex. For more information\, visit https://westconnathletics.com/.
URL:https://www.wcsu.edu/events/calendar/womens-soccer-vs-u-s-merchant-marine-academy/
LOCATION:Westside Athletic Complex\, 43 Lake Ave. Extension\, Danbury\, CT
CATEGORIES:Athletics
ATTACH;FMTTYPE=image/png:https://www.wcsu.edu/events/wp-content/uploads/sites/181/2023/05/WS.png
END:VEVENT
BEGIN:VEVENT
DTSTART;TZID=America/New_York:20240907T130000
DTEND;TZID=America/New_York:20240907T150000
DTSTAMP:20260421T213432
CREATED:20240814T161731Z
LAST-MODIFIED:20240814T165900Z
UID:10067689-1725714000-1725721200@www.wcsu.edu
SUMMARY:Women's Tennis vs. University of Southern Maine
DESCRIPTION:WESTCONN WOMEN’S TENNIS VS. UNIVERSITY OF SOUTHERN MAINE: The Wolves will face the University of Southern Maine at 1 p.m. at the Westside Courts. For more information\, visit https://westconnathletics.com/.
URL:https://www.wcsu.edu/events/calendar/womens-tennis-vs-university-of-saint-joseph/
LOCATION:Westside Tennis Courts\, 43 Lake Ave. Extension\, Danbury\, CT
CATEGORIES:Athletics
ATTACH;FMTTYPE=image/jpeg:https://www.wcsu.edu/events/wp-content/uploads/sites/181/2024/08/Womens-Tennis_500x300.jpg
END:VEVENT
BEGIN:VEVENT
DTSTART;TZID=America/New_York:20240907T130000
DTEND;TZID=America/New_York:20240907T150000
DTSTAMP:20260421T213432
CREATED:20240814T163538Z
LAST-MODIFIED:20240814T164410Z
UID:10067696-1725714000-1725721200@www.wcsu.edu
SUMMARY:Men's Soccer vs. Nichols College
DESCRIPTION:WESTCONN MEN’S SOCCER VS. NICHOLS COLLEGE: The Wolves will face Nichols College at 1 p.m. at the Westside Athletic Complex. For more information\, visit https://westconnathletics.com/.
URL:https://www.wcsu.edu/events/calendar/mens-soccer-vs-nichols-college/
LOCATION:Westside Athletic Complex\, 43 Lake Ave. Extension\, Danbury\, CT
CATEGORIES:Athletics
ATTACH;FMTTYPE=image/png:https://www.wcsu.edu/events/wp-content/uploads/sites/181/2023/05/MS.png
END:VEVENT
BEGIN:VEVENT
DTSTART;TZID=America/New_York:20240907T160000
DTEND;TZID=America/New_York:20240907T180000
DTSTAMP:20260421T213432
CREATED:20240814T181904Z
LAST-MODIFIED:20240814T183023Z
UID:10067701-1725724800-1725732000@www.wcsu.edu
SUMMARY:Field Hockey vs. Springfield College
DESCRIPTION:WESTCONN FIELD HOCKEY VS. SPRINGFIELD COLLEGE: The Wolves will face Springfield College at 4 p.m. at the Westside Athletic Complex. For more information\, visit https://westconnathletics.com/.
URL:https://www.wcsu.edu/events/calendar/field-hockey-vs-springfield-college/
LOCATION:Westside Athletic Complex\, 43 Lake Ave. Extension\, Danbury\, CT
CATEGORIES:Athletics
ATTACH;FMTTYPE=image/jpeg:https://www.wcsu.edu/events/wp-content/uploads/sites/181/2024/08/Field-Hockey_500x300.jpg
END:VEVENT
BEGIN:VEVENT
DTSTART;TZID=America/New_York:20240911T160000
DTEND;TZID=America/New_York:20240911T180000
DTSTAMP:20260421T213432
CREATED:20240814T181953Z
LAST-MODIFIED:20240814T183059Z
UID:10067702-1726070400-1726077600@www.wcsu.edu
SUMMARY:Field Hockey vs. Manhattanville University
DESCRIPTION:WESTCONN FIELD HOCKEY VS. MANHATTANVILLE UNIVERSITY: The Wolves will face Manhattanville University at 4 p.m. at the Westside Athletic Complex. For more information\, visit https://westconnathletics.com/.
URL:https://www.wcsu.edu/events/calendar/field-hockey-vs-manhattanville-university/
LOCATION:Westside Athletic Complex\, 43 Lake Ave. Extension\, Danbury\, CT
CATEGORIES:Athletics
ATTACH;FMTTYPE=image/jpeg:https://www.wcsu.edu/events/wp-content/uploads/sites/181/2024/08/Field-Hockey_500x300.jpg
END:VEVENT
BEGIN:VEVENT
DTSTART;TZID=America/New_York:20240911T190000
DTEND;TZID=America/New_York:20240911T210000
DTSTAMP:20260421T213432
CREATED:20240814T163647Z
LAST-MODIFIED:20240814T164446Z
UID:10067697-1726081200-1726088400@www.wcsu.edu
SUMMARY:Men's Soccer vs. Ramapo College
DESCRIPTION:WESTCONN MEN’S SOCCER VS. RAMAPO COLLEGE: The Wolves will face Ramapo College at 7 p.m. at the Westside Athletic Complex. For more information\, visit https://westconnathletics.com/.
URL:https://www.wcsu.edu/events/calendar/mens-soccer-vs-ramapo-college/
LOCATION:Westside Athletic Complex\, 43 Lake Ave. Extension\, Danbury\, CT
CATEGORIES:Athletics
ATTACH;FMTTYPE=image/png:https://www.wcsu.edu/events/wp-content/uploads/sites/181/2023/05/MS.png
END:VEVENT
BEGIN:VEVENT
DTSTART;TZID=America/New_York:20240917T180000
DTEND;TZID=America/New_York:20240917T190000
DTSTAMP:20260421T213432
CREATED:20240814T162851Z
LAST-MODIFIED:20240814T162902Z
UID:10067693-1726596000-1726599600@www.wcsu.edu
SUMMARY:Women's Soccer vs. Russell Sage College
DESCRIPTION:WESTCONN WOMEN’S SOCCER VS. RUSSELL SAGE COLLEGE: The Wolves will face Russell Sage College at 6 p.m. at the Westside Athletic Complex. For more information\, visit https://westconnathletics.com/.
URL:https://www.wcsu.edu/events/calendar/womens-soccer-vs-russell-sage-college/
LOCATION:Westside Athletic Complex\, 43 Lake Ave. Extension\, Danbury\, CT
CATEGORIES:Athletics
ATTACH;FMTTYPE=image/png:https://www.wcsu.edu/events/wp-content/uploads/sites/181/2023/05/WS.png
END:VEVENT
BEGIN:VEVENT
DTSTART;TZID=America/New_York:20240918T180000
DTEND;TZID=America/New_York:20240918T200000
DTSTAMP:20260421T213432
CREATED:20240814T182102Z
LAST-MODIFIED:20240815T135700Z
UID:10067703-1726682400-1726689600@www.wcsu.edu
SUMMARY:Field Hockey vs. William Paterson University
DESCRIPTION:WESTCONN FIELD HOCKEY VS. WILLIAM PATERSON UNIVERSITY: The Wolves will face William Paterson University at 6 p.m. at the Westside Athletic Complex. For more information\, visit https://westconnathletics.com/.
URL:https://www.wcsu.edu/events/calendar/field-hockey-vs-william-patterson-university/
LOCATION:Westside Athletic Complex\, 43 Lake Ave. Extension\, Danbury\, CT
CATEGORIES:Athletics
ATTACH;FMTTYPE=image/jpeg:https://www.wcsu.edu/events/wp-content/uploads/sites/181/2024/08/Field-Hockey_500x300.jpg
END:VEVENT
BEGIN:VEVENT
DTSTART;TZID=America/New_York:20240918T190000
DTEND;TZID=America/New_York:20240918T210000
DTSTAMP:20260421T213432
CREATED:20240814T190352Z
LAST-MODIFIED:20240814T190352Z
UID:10067705-1726686000-1726693200@www.wcsu.edu
SUMMARY:Volleyball vs. Farmingdale State
DESCRIPTION:WESTCONN VOLLEYBALL VS. FARMINGDALE STATE: The Wolves will face Farmingdale State College at 7 p.m. in the Feldman Arena of the O’Neill Center on the Westside campus. For more information\, visit https://westconnathletics.com/.
URL:https://www.wcsu.edu/events/calendar/volleyball-vs-farmingdale-state/
LOCATION:O’Neill Center\, 43 Lake Ave. Extension\, Danbury\, CT
CATEGORIES:Athletics
ATTACH;FMTTYPE=image/jpeg:https://www.wcsu.edu/events/wp-content/uploads/sites/181/2024/08/Volleyball_500x300.jpg
END:VEVENT
BEGIN:VEVENT
DTSTART;TZID=America/New_York:20240921T120000
DTEND;TZID=America/New_York:20240921T140000
DTSTAMP:20260421T213432
CREATED:20240814T182217Z
LAST-MODIFIED:20240815T135755Z
UID:10067704-1726920000-1726927200@www.wcsu.edu
SUMMARY:Field Hockey vs. Marywood University
DESCRIPTION:WESTCONN FIELD HOCKEY VS. MARYWOOD UNIVERSITY: The Wolves will face Marywood University at noon at the Westside Athletic Complex. For more information\, visit https://westconnathletics.com/.
URL:https://www.wcsu.edu/events/calendar/field-hockey-vs-marywood-university/
LOCATION:Westside Athletic Complex\, 43 Lake Ave. Extension\, Danbury\, CT
CATEGORIES:Athletics
ATTACH;FMTTYPE=image/jpeg:https://www.wcsu.edu/events/wp-content/uploads/sites/181/2024/08/Field-Hockey_500x300.jpg
END:VEVENT
BEGIN:VEVENT
DTSTART;TZID=America/New_York:20240921T120000
DTEND;TZID=America/New_York:20240921T140000
DTSTAMP:20260421T213432
CREATED:20240814T191200Z
LAST-MODIFIED:20240814T191200Z
UID:10067706-1726920000-1726927200@www.wcsu.edu
SUMMARY:Volleyball vs. Worcester Polytech
DESCRIPTION:WESTCONN VOLLEYBALL VS. WORCESTER POLYTECHNIC INSTITUTE: The Wolves will face Worcester Polytechnic Institute at noon in the Feldman Arena of the O’Neill Center on the Westside campus. For more information\, visit https://westconnathletics.com/.
URL:https://www.wcsu.edu/events/calendar/volleyball-vs-worcester-polytech/
LOCATION:O’Neill Center\, 43 Lake Ave. Extension\, Danbury\, CT
CATEGORIES:Athletics
ATTACH;FMTTYPE=image/jpeg:https://www.wcsu.edu/events/wp-content/uploads/sites/181/2024/08/Volleyball_500x300.jpg
END:VEVENT
BEGIN:VEVENT
DTSTART;TZID=America/New_York:20240921T150000
DTEND;TZID=America/New_York:20240921T170000
DTSTAMP:20260421T213432
CREATED:20240814T163013Z
LAST-MODIFIED:20240814T163013Z
UID:10067694-1726930800-1726938000@www.wcsu.edu
SUMMARY:Women's Soccer vs. Keene State
DESCRIPTION:WESTCONN WOMEN’S SOCCER VS. KEENE STATE: The Wolves will face Keene State at 3 p.m. at the Westside Athletic Complex. For more information\, visit https://westconnathletics.com/.
URL:https://www.wcsu.edu/events/calendar/womens-soccer-vs-keene-state/
LOCATION:Westside Athletic Complex\, 43 Lake Ave. Extension\, Danbury\, CT
CATEGORIES:Athletics
ATTACH;FMTTYPE=image/png:https://www.wcsu.edu/events/wp-content/uploads/sites/181/2023/05/WS.png
END:VEVENT
BEGIN:VEVENT
DTSTART;TZID=America/New_York:20240922T140000
DTEND;TZID=America/New_York:20240922T160000
DTSTAMP:20260421T213432
CREATED:20240814T163754Z
LAST-MODIFIED:20240814T164532Z
UID:10067698-1727013600-1727020800@www.wcsu.edu
SUMMARY:Men's Soccer vs. Williams College
DESCRIPTION:WESTCONN MEN’S SOCCER VS. WILLIAMS COLLEGE: The Wolves will face Williams College at 2 p.m. at the Westside Athletic Complex. For more information\, visit https://westconnathletics.com/.
URL:https://www.wcsu.edu/events/calendar/mens-soccer-vs-williams-college/
LOCATION:Westside Athletic Complex\, 43 Lake Ave. Extension\, Danbury\, CT
CATEGORIES:Athletics
ATTACH;FMTTYPE=image/png:https://www.wcsu.edu/events/wp-content/uploads/sites/181/2023/05/MS.png
END:VEVENT
BEGIN:VEVENT
DTSTART;TZID=America/New_York:20240924T153000
DTEND;TZID=America/New_York:20240924T173000
DTSTAMP:20260421T213432
CREATED:20240814T162059Z
LAST-MODIFIED:20240814T170004Z
UID:10067690-1727191800-1727199000@www.wcsu.edu
SUMMARY:Women's Tennis vs. Bridgewater State University
DESCRIPTION:WESTCONN WOMEN’S TENNIS VS. BRIDGEWATER STATE UNIVERSITY: The Wolves will face the Bridgewater State University at 3:30 p.m. at the Westside Courts. For more information\, visit https://westconnathletics.com/.
URL:https://www.wcsu.edu/events/calendar/womens-tennis-vs-bridgewater-state-university/
LOCATION:Westside Tennis Courts\, 43 Lake Ave. Extension\, Danbury\, CT
CATEGORIES:Athletics
ATTACH;FMTTYPE=image/jpeg:https://www.wcsu.edu/events/wp-content/uploads/sites/181/2024/08/Womens-Tennis_500x300.jpg
END:VEVENT
BEGIN:VEVENT
DTSTART;TZID=America/New_York:20240925T160000
DTEND;TZID=America/New_York:20240925T180000
DTSTAMP:20260421T213432
CREATED:20240814T163215Z
LAST-MODIFIED:20240814T163215Z
UID:10067695-1727280000-1727287200@www.wcsu.edu
SUMMARY:Women's Soccer vs. Wesleyan University
DESCRIPTION:WESTCONN WOMEN’S SOCCER VS. WESLEYAN UNIVERSITY: The Wolves will face Wesleyan University at 4 p.m. at the Westside Athletic Complex. For more information\, visit https://westconnathletics.com/.
URL:https://www.wcsu.edu/events/calendar/womens-soccer-vs-wesleyan-university/
LOCATION:Westside Athletic Complex\, 43 Lake Ave. Extension\, Danbury\, CT
CATEGORIES:Athletics
ATTACH;FMTTYPE=image/png:https://www.wcsu.edu/events/wp-content/uploads/sites/181/2023/05/WS.png
END:VEVENT
BEGIN:VEVENT
DTSTART;TZID=America/New_York:20240925T190000
DTEND;TZID=America/New_York:20240925T210000
DTSTAMP:20260421T213432
CREATED:20240814T163902Z
LAST-MODIFIED:20240814T164614Z
UID:10067699-1727290800-1727298000@www.wcsu.edu
SUMMARY:Men's Soccer vs. John Jay College
DESCRIPTION:WESTCONN MEN’S SOCCER VS. JOHN JAY COLLEGE: The Wolves will face John Jay College at 7 p.m. at the Westside Athletic Complex. For more information\, visit https://westconnathletics.com/.
URL:https://www.wcsu.edu/events/calendar/mens-soccer-vs-john-jay-college/
LOCATION:Westside Athletic Complex\, 43 Lake Ave. Extension\, Danbury\, CT
CATEGORIES:Athletics
ATTACH;FMTTYPE=image/png:https://www.wcsu.edu/events/wp-content/uploads/sites/181/2023/05/MS.png
END:VEVENT
BEGIN:VEVENT
DTSTART;TZID=America/New_York:20240925T190000
DTEND;TZID=America/New_York:20240925T210000
DTSTAMP:20260421T213432
CREATED:20240814T191318Z
LAST-MODIFIED:20240814T191318Z
UID:10067707-1727290800-1727298000@www.wcsu.edu
SUMMARY:Volleyball vs. St. Joseph's Long Island
DESCRIPTION:WESTCONN VOLLEYBALL VS. ST. JOSEPH’S UNIVERSITY LONG ISLAND: The Wolves will face St. Joseph’s University Long Island at 7 p.m. in the Feldman Arena of the O’Neill Center on the Westside campus. For more information\, visit https://westconnathletics.com/.
URL:https://www.wcsu.edu/events/calendar/volleyball-vs-st-josephs-long-island/
LOCATION:O’Neill Center\, 43 Lake Ave. Extension\, Danbury\, CT
CATEGORIES:Athletics
ATTACH;FMTTYPE=image/jpeg:https://www.wcsu.edu/events/wp-content/uploads/sites/181/2024/08/Volleyball_500x300.jpg
END:VEVENT
BEGIN:VEVENT
DTSTART;TZID=America/New_York:20240926T110000
DTEND;TZID=America/New_York:20240926T150000
DTSTAMP:20260421T213432
CREATED:20240828T203033Z
LAST-MODIFIED:20240912T142426Z
UID:10067791-1727348400-1727362800@www.wcsu.edu
SUMMARY:Marrow Donor Registry Drive
DESCRIPTION:MARROW DONOR REGISTRY DRIVE: WCSU Athletics\, Health Services and the National Marrow Donor Program (NMDP- formerly Be the Match) have teamed up to save lives! Please join us from 11 a.m. to 3 p.m. in Berkshire Hall on the Midtown campus. The public is invited. \nAbout NMDP: For the thousands of people diagnosed every year with life-threatening blood cancers like leukemia and lymphoma\, a cure exists. Over the past 35 years NMDP has managed the most diverse marrow registry in the world. We work every day to save lives through transplant. \nThis event is to recruit members to the donor registry to one day be called to save a life!
URL:https://www.wcsu.edu/events/calendar/marrow-donor-registry-drive/
LOCATION:Berkshire Hall\, 181 White St.\, Danbury\, CT
CATEGORIES:Health And Wellness,WOW
ATTACH;FMTTYPE=image/jpeg:https://www.wcsu.edu/events/wp-content/uploads/sites/181/2024/08/Be-the-Match_500x300.jpg
END:VEVENT
BEGIN:VEVENT
DTSTART;TZID=America/New_York:20240928T120000
DTEND;TZID=America/New_York:20240928T140000
DTSTAMP:20260421T213432
CREATED:20240814T191425Z
LAST-MODIFIED:20240814T191425Z
UID:10067708-1727524800-1727532000@www.wcsu.edu
SUMMARY:Volleyball vs. Keene State
DESCRIPTION:WESTCONN VOLLEYBALL VS. KEENE STATE: The Wolves will face Keene State at noon in the Feldman Arena of the O’Neill Center on the Westside campus. For more information\, visit https://westconnathletics.com/.
URL:https://www.wcsu.edu/events/calendar/volleyball-vs-keene-state/
LOCATION:O’Neill Center\, 43 Lake Ave. Extension\, Danbury\, CT
CATEGORIES:Athletics
ATTACH;FMTTYPE=image/jpeg:https://www.wcsu.edu/events/wp-content/uploads/sites/181/2024/08/Volleyball_500x300.jpg
END:VEVENT
BEGIN:VEVENT
DTSTART;TZID=America/New_York:20240928T130000
DTEND;TZID=America/New_York:20240928T150000
DTSTAMP:20260421T213432
CREATED:20240814T164048Z
LAST-MODIFIED:20240814T164048Z
UID:10067700-1727528400-1727535600@www.wcsu.edu
SUMMARY:Men's Soccer vs. Castleton University
DESCRIPTION:WESTCONN MEN’S SOCCER VS. CASTLETON UNIVERSITY: The Wolves will face Castleton University at 1 p.m. at the Westside Athletic Complex. For more information\, visit https://westconnathletics.com/.
URL:https://www.wcsu.edu/events/calendar/mens-soccer-vs-castleton-university/
LOCATION:Westside Athletic Complex\, 43 Lake Ave. Extension\, Danbury\, CT
CATEGORIES:Athletics
ATTACH;FMTTYPE=image/png:https://www.wcsu.edu/events/wp-content/uploads/sites/181/2023/05/MS.png
END:VEVENT
BEGIN:VEVENT
DTSTART;TZID=America/New_York:20240928T160000
DTEND;TZID=America/New_York:20240928T180000
DTSTAMP:20260421T213432
CREATED:20240814T191532Z
LAST-MODIFIED:20240814T191532Z
UID:10067709-1727539200-1727546400@www.wcsu.edu
SUMMARY:Volleyball vs. Trinity College
DESCRIPTION:WESTCONN VOLLEYBALL VS. TRINITY COLLEGE: The Wolves will face Trinity College at 4 p.m. in the Feldman Arena of the O’Neill Center on the Westside campus. For more information\, visit https://westconnathletics.com/.
URL:https://www.wcsu.edu/events/calendar/volleyball-vs-trinity-college/
LOCATION:O’Neill Center\, 43 Lake Ave. Extension\, Danbury\, CT
CATEGORIES:Athletics
ATTACH;FMTTYPE=image/jpeg:https://www.wcsu.edu/events/wp-content/uploads/sites/181/2024/08/Volleyball_500x300.jpg
END:VEVENT
BEGIN:VEVENT
DTSTART;TZID=America/New_York:20240928T170000
DTEND;TZID=America/New_York:20240928T190000
DTSTAMP:20260421T213432
CREATED:20230509T185346Z
LAST-MODIFIED:20240814T191738Z
UID:10063689-1727542800-1727550000@www.wcsu.edu
SUMMARY:Football vs. Fitchburg State College
DESCRIPTION:WESTCONN FOOTBALL VS. FITCHBURG STATE COLLEGE: The Wolves will face Fitchburg State College at 5 p.m. at the Westside Athletic Complex. Tickets are $10 for adults\, $5 for senior citizens and children 12-under; WCSU students are free with ID. For more information\, visit https://westconnathletics.com/.
URL:https://www.wcsu.edu/events/calendar/football-vs-mass-maritime/
LOCATION:Westside Athletic Complex\, 43 Lake Ave. Extension\, Danbury\, CT
CATEGORIES:Athletics
ATTACH;FMTTYPE=image/png:https://www.wcsu.edu/events/wp-content/uploads/sites/181/2023/05/1.png
END:VEVENT
END:VCALENDAR