BEGIN:VCALENDAR
VERSION:2.0
PRODID:-//WCSU Events - ECPv6.15.17.1//NONSGML v1.0//EN
CALSCALE:GREGORIAN
METHOD:PUBLISH
X-WR-CALNAME:WCSU Events
X-ORIGINAL-URL:https://www.wcsu.edu/events
X-WR-CALDESC:Events for WCSU Events
REFRESH-INTERVAL;VALUE=DURATION:PT1H
X-Robots-Tag:noindex
X-PUBLISHED-TTL:PT1H
BEGIN:VTIMEZONE
TZID:America/New_York
BEGIN:DAYLIGHT
TZOFFSETFROM:-0500
TZOFFSETTO:-0400
TZNAME:EDT
DTSTART:20220313T070000
END:DAYLIGHT
BEGIN:STANDARD
TZOFFSETFROM:-0400
TZOFFSETTO:-0500
TZNAME:EST
DTSTART:20221106T060000
END:STANDARD
BEGIN:DAYLIGHT
TZOFFSETFROM:-0500
TZOFFSETTO:-0400
TZNAME:EDT
DTSTART:20230312T070000
END:DAYLIGHT
BEGIN:STANDARD
TZOFFSETFROM:-0400
TZOFFSETTO:-0500
TZNAME:EST
DTSTART:20231105T060000
END:STANDARD
BEGIN:DAYLIGHT
TZOFFSETFROM:-0500
TZOFFSETTO:-0400
TZNAME:EDT
DTSTART:20240310T070000
END:DAYLIGHT
BEGIN:STANDARD
TZOFFSETFROM:-0400
TZOFFSETTO:-0500
TZNAME:EST
DTSTART:20241103T060000
END:STANDARD
END:VTIMEZONE
BEGIN:VEVENT
DTSTART;TZID=America/New_York:20230401T120000
DTEND;TZID=America/New_York:20230401T190000
DTSTAMP:20260419T172929
CREATED:20230118T214852Z
LAST-MODIFIED:20230330T185813Z
UID:10063279-1680350400-1680375600@www.wcsu.edu
SUMMARY:POSTPONED: Baseball
DESCRIPTION:POSTPONED: BASEBALL DOUBLEHEADER: The WestConn Wolves will take on UMass Boston at 11 a.m. and 3 p.m. in this twinbill at the Westside Baseball Field. Please check the WCSU Athletics website for additional information. \nThe new date is most likely April 4 either at home or at Trinity College. Please check back for more details.
URL:https://www.wcsu.edu/events/calendar/baseball-doubleheader-4/
LOCATION:Westside Baseball Field
CATEGORIES:Athletics,WOW
ATTACH;FMTTYPE=image/jpeg:https://www.wcsu.edu/events/wp-content/uploads/sites/181/2023/01/Baseball.jpg
ORGANIZER;CN="Athletics":MAILTO:amess@wcsu.edu
END:VEVENT
BEGIN:VEVENT
DTSTART;TZID=America/New_York:20230411T153000
DTEND;TZID=America/New_York:20230411T190000
DTSTAMP:20260419T172929
CREATED:20230118T215058Z
LAST-MODIFIED:20230224T211716Z
UID:10063280-1681227000-1681239600@www.wcsu.edu
SUMMARY:Baseball
DESCRIPTION:BASEBALL Game: The WestConn Wolves will take on Eastern Connecticut State University in this LEC single game at 3:30 p.m. at the Westside Baseball Field. Please check the WCSU Athletics website for additional information. \n 
URL:https://www.wcsu.edu/events/calendar/baseball-game-5/
LOCATION:Westside Athletic Complex\, 43 Lake Ave. Extension\, Danbury\, CT
CATEGORIES:Athletics,WOW
ATTACH;FMTTYPE=image/jpeg:https://www.wcsu.edu/events/wp-content/uploads/sites/181/2023/01/Baseball.jpg
ORGANIZER;CN="Athletics":MAILTO:amess@wcsu.edu
END:VEVENT
BEGIN:VEVENT
DTSTART;TZID=America/New_York:20230412T160000
DTEND;TZID=America/New_York:20230412T190000
DTSTAMP:20260419T172929
CREATED:20230118T215225Z
LAST-MODIFIED:20230224T211735Z
UID:10063281-1681315200-1681326000@www.wcsu.edu
SUMMARY:Baseball
DESCRIPTION:BASEBALL Game: The WestConn Wolves will take on Purchase University in this non-conference single game at 4 p.m. at the Westside Baseball Field. Please check the WCSU Athletics website for additional information.
URL:https://www.wcsu.edu/events/calendar/baseball-game-6/
LOCATION:Westside Athletic Complex\, 43 Lake Ave. Extension\, Danbury\, CT
CATEGORIES:Athletics,WOW
ATTACH;FMTTYPE=image/jpeg:https://www.wcsu.edu/events/wp-content/uploads/sites/181/2023/01/Baseball.jpg
ORGANIZER;CN="Athletics":MAILTO:amess@wcsu.edu
END:VEVENT
BEGIN:VEVENT
DTSTART;TZID=America/New_York:20230418T153000
DTEND;TZID=America/New_York:20230418T190000
DTSTAMP:20260419T172929
CREATED:20230118T215340Z
LAST-MODIFIED:20230224T212003Z
UID:10063282-1681831800-1681844400@www.wcsu.edu
SUMMARY:Baseball
DESCRIPTION:BASEBALL Game: The WestConn Wolves will take on Rhode Island College in this LEC single game at 3:30 p.m. at the Westside Baseball Field. Please check the WCSU Athletics website for additional information
URL:https://www.wcsu.edu/events/calendar/baseball-game-7/
LOCATION:Westside Athletic Complex\, 43 Lake Ave. Extension\, Danbury\, CT
CATEGORIES:Athletics,WOW
ATTACH;FMTTYPE=image/jpeg:https://www.wcsu.edu/events/wp-content/uploads/sites/181/2023/01/Baseball.jpg
ORGANIZER;CN="Athletics":MAILTO:amess@wcsu.edu
END:VEVENT
BEGIN:VEVENT
DTSTART;TZID=America/New_York:20230422T120000
DTEND;TZID=America/New_York:20230422T190000
DTSTAMP:20260419T172929
CREATED:20230119T191940Z
LAST-MODIFIED:20230224T211854Z
UID:10063283-1682164800-1682190000@www.wcsu.edu
SUMMARY:Baseball
DESCRIPTION:BASEBALL DOUBLEHEADER: The WestConn Wolves will take on Keene State College for a LEC twinbill at noon and 3 p.m. at the Westside Baseball Field. Please check the WCSU Athletics website for additional information.
URL:https://www.wcsu.edu/events/calendar/baseball-doubleheader-5/
LOCATION:Westside Athletic Complex\, 43 Lake Ave. Extension\, Danbury\, CT
CATEGORIES:Athletics
ATTACH;FMTTYPE=image/jpeg:https://www.wcsu.edu/events/wp-content/uploads/sites/181/2023/01/Baseball.jpg
ORGANIZER;CN="Athletics":MAILTO:amess@wcsu.edu
END:VEVENT
END:VCALENDAR