BEGIN:VCALENDAR
VERSION:2.0
PRODID:-//WCSU Events - ECPv6.15.17.1//NONSGML v1.0//EN
CALSCALE:GREGORIAN
METHOD:PUBLISH
X-ORIGINAL-URL:https://www.wcsu.edu/events
X-WR-CALDESC:Events for WCSU Events
REFRESH-INTERVAL;VALUE=DURATION:PT1H
X-Robots-Tag:noindex
X-PUBLISHED-TTL:PT1H
BEGIN:VTIMEZONE
TZID:America/New_York
BEGIN:DAYLIGHT
TZOFFSETFROM:-0500
TZOFFSETTO:-0400
TZNAME:EDT
DTSTART:20230312T070000
END:DAYLIGHT
BEGIN:STANDARD
TZOFFSETFROM:-0400
TZOFFSETTO:-0500
TZNAME:EST
DTSTART:20231105T060000
END:STANDARD
BEGIN:DAYLIGHT
TZOFFSETFROM:-0500
TZOFFSETTO:-0400
TZNAME:EDT
DTSTART:20240310T070000
END:DAYLIGHT
BEGIN:STANDARD
TZOFFSETFROM:-0400
TZOFFSETTO:-0500
TZNAME:EST
DTSTART:20241103T060000
END:STANDARD
BEGIN:DAYLIGHT
TZOFFSETFROM:-0500
TZOFFSETTO:-0400
TZNAME:EDT
DTSTART:20250309T070000
END:DAYLIGHT
BEGIN:STANDARD
TZOFFSETFROM:-0400
TZOFFSETTO:-0500
TZNAME:EST
DTSTART:20251102T060000
END:STANDARD
END:VTIMEZONE
BEGIN:VEVENT
DTSTART;TZID=America/New_York:20240307T120000
DTEND;TZID=America/New_York:20240307T200000
DTSTAMP:20260420T190300
CREATED:20240307T185049Z
LAST-MODIFIED:20240307T185049Z
UID:10065808-1709812800-1709841600@www.wcsu.edu
SUMMARY:Women's History Month - Shrimp Gumbo
DESCRIPTION:WOMEN’S HISTORY MONTH SHRIMP GUMBO: This month is Women’s History Month. On Wednesday\, March 20\, at the Action Station in the dining hall on both campuses\, we will honor Leah Chase with Shrimp Gumbo. It is a Creole cuisine that she specializes in\, which is a testament to her legacy in elevating Creole cuisine. Come enjoy this one day treat in her honor. From noon to 8 p.m. in Berkshire Hall and the Westside Campus Center.
URL:https://www.wcsu.edu/events/calendar/womens-history-month-shrimp-gumbo/
LOCATION:Berkshire Hall and Westside Campus Center Dining\, Danbury\, CT
CATEGORIES:Food
ORGANIZER;CN="Sodexo":MAILTO:Donald.Grayson@Sodexo.com
END:VEVENT
BEGIN:VEVENT
DTSTART;TZID=America/New_York:20240308T110000
DTEND;TZID=America/New_York:20240308T110000
DTSTAMP:20260420T190300
CREATED:20240307T172140Z
LAST-MODIFIED:20240307T172140Z
UID:10065806-1709895600-1709895600@www.wcsu.edu
SUMMARY:Meet Chef Rose Forrest from Sodexo
DESCRIPTION:MEET CHEF ROSE FORREST FROM SODEXO: Join us on Midtown at 11 a.m. in the Berkshire Dining Hall to meet Chef Rose Forrest. The Chef will be making Buckwheat Noodle Miso and Coconut Soup. She has been a chef for Sodexo for 15 years. Rose has a passion for sustainability and teaching culinarians how to prepare plant-based foods.
URL:https://www.wcsu.edu/events/calendar/meet-chef-rose-forrest-from-sodexo/
LOCATION:Berkshire Hall\, 181 White St.\, Danbury\, CT
CATEGORIES:Food
ORGANIZER;CN="Sodexo":MAILTO:Donald.Grayson@Sodexo.com
END:VEVENT
BEGIN:VEVENT
DTSTART;TZID=America/New_York:20240318T120000
DTEND;TZID=America/New_York:20240318T120000
DTSTAMP:20260420T190300
CREATED:20240307T191316Z
LAST-MODIFIED:20240312T192003Z
UID:10065812-1710763200-1710763200@www.wcsu.edu
SUMMARY:St. Patrick’s Day
DESCRIPTION:ST. PATRICK’S DAY: On March 18\, join us at the Berkshire Dining Hall and Westside Dining Hall to celebrate St. Patrick’s Day. At the Action Station there will be Corned Beef\, Cabbage\, Boiled Red Potatoes\, Carrots\, and Irish Soda Bread. At Berkshire Dining Hall (Midtown)\, food will start at noon; on Westside food will start at 4 p.m.
URL:https://www.wcsu.edu/events/calendar/st-patricks-day/
LOCATION:Berkshire Hall and Westside Campus Center Dining\, Danbury\, CT
CATEGORIES:Food
ATTACH;FMTTYPE=image/jpeg:https://www.wcsu.edu/events/wp-content/uploads/sites/181/2023/10/Berkshire-10-18-23.jpg
ORGANIZER;CN="Sodexo":MAILTO:Donald.Grayson@Sodexo.com
END:VEVENT
BEGIN:VEVENT
DTSTART;VALUE=DATE:20240319
DTEND;VALUE=DATE:20240320
DTSTAMP:20260420T190300
CREATED:20240307T171918Z
LAST-MODIFIED:20240312T184050Z
UID:10065805-1710806400-1710892799@www.wcsu.edu
SUMMARY:National Chocolate Caramel Day
DESCRIPTION:NATIONAL CHOCOLATE CARAMEL DAY: On March 19\, the Fireside Lobby Cafe in Berkshire Hall on the Midtown campus and the Daily Grind in the Westside Campus Center will have a drink for National Chocolate Caramel Day: Chocolate Caramel Frappuccino. Come enjoy to satisfy your sweet cravings. Don’t miss out on this one-day special.
URL:https://www.wcsu.edu/events/calendar/national-chocolate-caramel-day/
LOCATION:Berkshire Hall and Westside Campus Center Dining\, Danbury\, CT
CATEGORIES:Food
ATTACH;FMTTYPE=image/jpeg:https://www.wcsu.edu/events/wp-content/uploads/sites/181/2023/10/Berkshire-10-18-23.jpg
ORGANIZER;CN="Sodexo":MAILTO:Donald.Grayson@Sodexo.com
END:VEVENT
BEGIN:VEVENT
DTSTART;TZID=America/New_York:20240320T110000
DTEND;TZID=America/New_York:20240320T110000
DTSTAMP:20260420T190300
CREATED:20240318T190122Z
LAST-MODIFIED:20240318T190122Z
UID:10065832-1710932400-1710932400@www.wcsu.edu
SUMMARY:Women's History Month
DESCRIPTION:WOMEN’S HISTORY MONTH – LEAH CHASE: Join us at 11 a.m. on Wednesday\, March 20\, in Berkshire Dining Hall on the Midtown campus and the Westside Campus Center Restaurant to celebrate Leah Chase during Women’s History Month. March is Women’s History Month and the Action Station will be serving Shrimp Gumbo\, a Creole Cuisine. Her Shrimp Gumbo is a testament to her legacy in elevating Creole Cuisine.
URL:https://www.wcsu.edu/events/calendar/womens-history-month/
LOCATION:Berkshire Hall and Westside Campus Center Dining\, Danbury\, CT
CATEGORIES:Food
ATTACH;FMTTYPE=image/jpeg:https://www.wcsu.edu/events/wp-content/uploads/sites/181/2023/10/Berkshire-10-18-23.jpg
ORGANIZER;CN="Sodexo":MAILTO:Donald.Grayson@Sodexo.com
END:VEVENT
BEGIN:VEVENT
DTSTART;TZID=America/New_York:20240325T120000
DTEND;TZID=America/New_York:20240325T120000
DTSTAMP:20260420T190300
CREATED:20240307T190817Z
LAST-MODIFIED:20240312T184416Z
UID:10065811-1711368000-1711368000@www.wcsu.edu
SUMMARY:Women’s History Month – Chicken Shawarma
DESCRIPTION:WOMEN’S HISTORY MONTH – CHICKEN SHAWARMA: March is Women’s History Month and to celebrate Nadiya Hussain we are having Chicken Shawarma at the Action Station. It is a British-Bangladeshi Cuisine and her Chicken Shawarma is an easy to make recipe that brings a taste of Middle Eastern flavors to the table. At noon in Berkshire Hall on the Midtown campus and the Westside Campus Center.
URL:https://www.wcsu.edu/events/calendar/womens-history-month-chicken-shawarma/
LOCATION:Berkshire Hall and Westside Campus Center Dining\, Danbury\, CT
CATEGORIES:Food
ATTACH;FMTTYPE=image/jpeg:https://www.wcsu.edu/events/wp-content/uploads/sites/181/2023/10/Berkshire-10-18-23.jpg
ORGANIZER;CN="Sodexo":MAILTO:Donald.Grayson@Sodexo.com
END:VEVENT
BEGIN:VEVENT
DTSTART;TZID=America/New_York:20240326T113000
DTEND;TZID=America/New_York:20240326T113000
DTSTAMP:20260420T190300
CREATED:20240322T151214Z
LAST-MODIFIED:20240322T151214Z
UID:10065910-1711452600-1711452600@www.wcsu.edu
SUMMARY:Campus Cornhole Contest
DESCRIPTION:CAMPUS CORNHOLE CONTEST: Cornhole contest set up outside Berkshire Hall where students can compete against fellow classmates for prizes such as $10 gift cards. Students can also enter into a raffle giving away $25\, $50\, and $100 gift cards by answering a short survey regarding the current campus smoking and vaping policy. At 11:30 a.m. at Berkshire Hall on the Midtown campus.
URL:https://www.wcsu.edu/events/calendar/campus-cornhole-contest/
LOCATION:Berkshire Hall\, 181 White St.\, Danbury\, CT
CATEGORIES:Entertainment,Outdoor
END:VEVENT
BEGIN:VEVENT
DTSTART;TZID=America/New_York:20240326T160000
DTEND;TZID=America/New_York:20240326T200000
DTSTAMP:20260420T190300
CREATED:20240321T183904Z
LAST-MODIFIED:20240321T183904Z
UID:10065903-1711468800-1711483200@www.wcsu.edu
SUMMARY:Wingin' It
DESCRIPTION:WINGIN’ IT: Join us at the Berkshire Dining Hall from 4 to 8 p.m. to introduce “Wingin’ It” by Flavor Seekers (a Sodexo special) at the Action Station. There will be a bunch of different flavors of wings including Buffalo Sauce\, Honey BBQ\, General Tso/Teriyaki\, Korean BBQ/Sweet N’ Chili\, and Cauliflower Wings (Vegetarian). There will also be options for sides along with sauces. For those who are attending or getting wings\, they will receive a free goodie bag.
URL:https://www.wcsu.edu/events/calendar/wingin-it/
LOCATION:Berkshire Hall\, 181 White St.\, Danbury\, CT
CATEGORIES:Food
ATTACH;FMTTYPE=image/jpeg:https://www.wcsu.edu/events/wp-content/uploads/sites/181/2023/10/Berkshire-10-18-23.jpg
ORGANIZER;CN="Sodexo":MAILTO:Donald.Grayson@Sodexo.com
END:VEVENT
BEGIN:VEVENT
DTSTART;TZID=America/New_York:20240327T120000
DTEND;TZID=America/New_York:20240327T120000
DTSTAMP:20260420T190300
CREATED:20240307T191529Z
LAST-MODIFIED:20240312T184527Z
UID:10065813-1711540800-1711540800@www.wcsu.edu
SUMMARY:Women's History Month - Arroz con Pollo
DESCRIPTION:WOMEN’S HISTORY MONTH – ARROZ CON POLLO: March is Women’s History Month and to celebrate at the dining halls we are holding special food events on certain days to honor women. On Wednesday\, March 27\, we will honor Maricel Presilla with Arroz con Pollo. Maricel Presilla is a Cuban-American chef and expert in Latin America Cuisine. At noon in Berkshire Hall and the Westside Campus Center.
URL:https://www.wcsu.edu/events/calendar/womens-history-month-arroz-con-pollo/
LOCATION:Berkshire Hall and Westside Campus Center Dining\, Danbury\, CT
CATEGORIES:Food
ATTACH;FMTTYPE=image/jpeg:https://www.wcsu.edu/events/wp-content/uploads/sites/181/2023/10/Berkshire-10-18-23.jpg
ORGANIZER;CN="Sodexo":MAILTO:Donald.Grayson@Sodexo.com
END:VEVENT
END:VCALENDAR