BEGIN:VCALENDAR
VERSION:2.0
PRODID:-//WCSU Events - ECPv6.15.17.1//NONSGML v1.0//EN
CALSCALE:GREGORIAN
METHOD:PUBLISH
X-ORIGINAL-URL:https://www.wcsu.edu/events
X-WR-CALDESC:Events for WCSU Events
REFRESH-INTERVAL;VALUE=DURATION:PT1H
X-Robots-Tag:noindex
X-PUBLISHED-TTL:PT1H
BEGIN:VTIMEZONE
TZID:America/New_York
BEGIN:DAYLIGHT
TZOFFSETFROM:-0500
TZOFFSETTO:-0400
TZNAME:EDT
DTSTART:20230312T070000
END:DAYLIGHT
BEGIN:STANDARD
TZOFFSETFROM:-0400
TZOFFSETTO:-0500
TZNAME:EST
DTSTART:20231105T060000
END:STANDARD
BEGIN:DAYLIGHT
TZOFFSETFROM:-0500
TZOFFSETTO:-0400
TZNAME:EDT
DTSTART:20240310T070000
END:DAYLIGHT
BEGIN:STANDARD
TZOFFSETFROM:-0400
TZOFFSETTO:-0500
TZNAME:EST
DTSTART:20241103T060000
END:STANDARD
BEGIN:DAYLIGHT
TZOFFSETFROM:-0500
TZOFFSETTO:-0400
TZNAME:EDT
DTSTART:20250309T070000
END:DAYLIGHT
BEGIN:STANDARD
TZOFFSETFROM:-0400
TZOFFSETTO:-0500
TZNAME:EST
DTSTART:20251102T060000
END:STANDARD
END:VTIMEZONE
BEGIN:VEVENT
DTSTART;TZID=America/New_York:20240403T110000
DTEND;TZID=America/New_York:20240403T200000
DTSTAMP:20260419T201103
CREATED:20240318T193635Z
LAST-MODIFIED:20240318T193635Z
UID:10065829-1712142000-1712174400@www.wcsu.edu
SUMMARY:Global Street Foods - Austin\, Texas
DESCRIPTION:GLOBAL STREET FOODS – AUSTIN\, TEXAS: Join us from 11 a.m. to 8 p.m. in both dining halls (Berkshire Dining Hall at Midtown and Westside Campus Center) to enjoy a taste of Austin\, Texas. The Action Station will be serving BBQ Beef Brisket and Mixed Berry Apple Crisp at the dessert station. Food will start being served during lunch hours until closing.
URL:https://www.wcsu.edu/events/calendar/global-street-foods-austin-texas/
LOCATION:Berkshire Hall and Westside Campus Center Dining\, Danbury\, CT
CATEGORIES:Food
ATTACH;FMTTYPE=image/jpeg:https://www.wcsu.edu/events/wp-content/uploads/sites/181/2023/10/Berkshire-10-18-23.jpg
ORGANIZER;CN="Sodexo":MAILTO:Donald.Grayson@Sodexo.com
END:VEVENT
BEGIN:VEVENT
DTSTART;TZID=America/New_York:20240408T110000
DTEND;TZID=America/New_York:20240408T200000
DTSTAMP:20260419T201103
CREATED:20240401T134043Z
LAST-MODIFIED:20240401T164133Z
UID:10065924-1712574000-1712606400@www.wcsu.edu
SUMMARY:National Empanada Day
DESCRIPTION:NATIONAL EMPANADA DAY: Join us at both dining halls from 11 a.m. to 8 p.m. to celebrate National Empanada Day. At the Action Station\, we will be serving chicken and beef empanadas along with a side of Spanish rice. For dessert there will be raspberry brie and honey goat cheese. Join us for this one day special.
URL:https://www.wcsu.edu/events/calendar/national-empanada-day/
LOCATION:Berkshire Hall and Westside Campus Center Dining\, Danbury\, CT
CATEGORIES:Food
ATTACH;FMTTYPE=image/jpeg:https://www.wcsu.edu/events/wp-content/uploads/sites/181/2023/10/Berkshire-10-18-23.jpg
ORGANIZER;CN="Sodexo":MAILTO:Donald.Grayson@Sodexo.com
END:VEVENT
BEGIN:VEVENT
DTSTART;TZID=America/New_York:20240410T110000
DTEND;TZID=America/New_York:20240410T200000
DTSTAMP:20260419T201103
CREATED:20240318T193507Z
LAST-MODIFIED:20240318T193507Z
UID:10065830-1712746800-1712779200@www.wcsu.edu
SUMMARY:Global Street Foods - San Francisco\, California
DESCRIPTION:GLOBAL STREET FOODS – SAN FRANCISCO\, CALIFORNIA: Join us from 11 a.m. to 8 p.m. in both dining halls (Berkshire Hall at Midtown and Westside Campus Center) to enjoy a taste of San Francisco\, California.. At the Action Station\, we will be serving Beef Pho Noodle Soup and at the dessert station there will be Mochalicious Cupcakes. The food will start being served during lunch hours until closing.
URL:https://www.wcsu.edu/events/calendar/global-street-foods-san-francisco-california/
LOCATION:Berkshire Hall and Westside Campus Center Dining\, Danbury\, CT
CATEGORIES:Food
ATTACH;FMTTYPE=image/jpeg:https://www.wcsu.edu/events/wp-content/uploads/sites/181/2023/10/Berkshire-10-18-23.jpg
ORGANIZER;CN="Sodexo":MAILTO:Donald.Grayson@Sodexo.com
END:VEVENT
BEGIN:VEVENT
DTSTART;TZID=America/New_York:20240415T163000
DTEND;TZID=America/New_York:20240415T190000
DTSTAMP:20260419T201103
CREATED:20240415T181347Z
LAST-MODIFIED:20240415T181347Z
UID:10065951-1713198600-1713207600@www.wcsu.edu
SUMMARY:Campus Cuisine
DESCRIPTION:AFICIAO CAMPUS CUISINE: Join us at Berkshire Dining Hall from 4:30-7 p.m. for an elite dinner called Campus Cuisine\, Aficiao. The cost is a meal swipe plus $5 dollars. Some of the starters range from Salmon Ceviche to Chimi Sliders to Yucca Fries. Some of the entrees range from Grilled Stuffed Swordfish\, Pan Seared Salmon\, and New England Pot Roast. For dessert there will be Caramel Macchiato Creme Brule\, Chocolate Cheesecake\, and Strawberry Triffle (Vegan).
URL:https://www.wcsu.edu/events/calendar/campus-cuisine/
LOCATION:Berkshire Hall\, 181 White St.\, Danbury\, CT
CATEGORIES:Food
ORGANIZER;CN="Sodexo":MAILTO:Donald.Grayson@Sodexo.com
END:VEVENT
BEGIN:VEVENT
DTSTART;TZID=America/New_York:20240417T110000
DTEND;TZID=America/New_York:20240417T200000
DTSTAMP:20260419T201103
CREATED:20240318T193322Z
LAST-MODIFIED:20240318T193322Z
UID:10065831-1713351600-1713384000@www.wcsu.edu
SUMMARY:Global Street Foods - Seattle\, Washington
DESCRIPTION:GLOBAL STREET FOODS – SEATTLE\, WASHINGTON: Join us from 11 a.m. to 8 p.m. in both dining halls (Berkshire Hall at Midtown\, and Westside Campus Center) to enjoy a taste of Seattle\, Washington.. At the Action Station\, we will be serving Vegetable and Noodle Stir Fry and Soy Glazed Salmon. Food will start being served during the lunch hours to closing.
URL:https://www.wcsu.edu/events/calendar/global-street-foods-seattle-washington/
LOCATION:Berkshire Hall and Westside Campus Center Dining\, Danbury\, CT
CATEGORIES:Food
ATTACH;FMTTYPE=image/jpeg:https://www.wcsu.edu/events/wp-content/uploads/sites/181/2023/10/Berkshire-10-18-23.jpg
ORGANIZER;CN="Sodexo":MAILTO:Donald.Grayson@Sodexo.com
END:VEVENT
BEGIN:VEVENT
DTSTART;TZID=America/New_York:20240417T113000
DTEND;TZID=America/New_York:20240417T153000
DTSTAMP:20260419T201103
CREATED:20240412T201644Z
LAST-MODIFIED:20240412T201644Z
UID:10065948-1713353400-1713367800@www.wcsu.edu
SUMMARY:Sigma Chi Bake Sale
DESCRIPTION:SIGMA CHI BAKE SALE: Come grab some delicious baked goods from 11:30 a.m. to 3:30 p.m. in Berkshire Hall on the Midtown campus! All desserts are prepared by the brothers of Sigma Chi! Proceeds will aid Sigma Chi and the Huntsman Cancer Foundation.
URL:https://www.wcsu.edu/events/calendar/sigma-chi-bake-sale/
LOCATION:Berkshire Hall\, 181 White St.\, Danbury\, CT
CATEGORIES:Charity/Fundraising,Food,Greek life
ORGANIZER;CN="Sigma Chi":MAILTO:amorando007@wcsu.edu
END:VEVENT
BEGIN:VEVENT
DTSTART;TZID=America/New_York:20240422T110000
DTEND;TZID=America/New_York:20240422T200000
DTSTAMP:20260419T201103
CREATED:20240418T140147Z
LAST-MODIFIED:20240418T143208Z
UID:10065953-1713783600-1713816000@www.wcsu.edu
SUMMARY:Earth Week Dining
DESCRIPTION:EARTH WEEK DINING: During Earth Week\, the dining hall will serve a meal/food item that resembles Earth Week. From 11 a.m. to 8 p.m.\, the Simply 3 Station will be serving Monkfish Provincia\, Garlic Herb Quinoa\, and Grilled Balsamic Zucchini. The Fish will be from Red’s Best where “We aggregate catches\, networking small boats with proprietary technology to form a large market presence\, leveling the global playing field. We sustain the livelihoods of American fishermen while sustaining fisheries for harvest. Red’s Best connects you to your fishermen and tells the story of every catch.”
URL:https://www.wcsu.edu/events/calendar/earth-week-dining/
LOCATION:Berkshire Hall and Westside Campus Center Dining\, Danbury\, CT
CATEGORIES:Food
ATTACH;FMTTYPE=image/jpeg:https://www.wcsu.edu/events/wp-content/uploads/sites/181/2023/10/Berkshire-10-18-23.jpg
ORGANIZER;CN="Sodexo":MAILTO:Donald.Grayson@Sodexo.com
END:VEVENT
BEGIN:VEVENT
DTSTART;TZID=America/New_York:20240422T123000
DTEND;TZID=America/New_York:20240422T150000
DTSTAMP:20260419T201103
CREATED:20240415T181547Z
LAST-MODIFIED:20240418T131928Z
UID:10065952-1713789000-1713798000@www.wcsu.edu
SUMMARY:Earth Day: Make Your Own Garden Cup
DESCRIPTION:EARTH DAY – MAKE YOUR OWN GARDEN CUP: Join us at Berkshire Dining Hall Lobby to “Make Your Own Garden Cup” food edition\, in honor of Earth Day. From 12:30-3 p.m. you can come celebrate Earth Day with us by making your own Garden Cup. Some of the treats will be Pudding\, Gummy Worms\, Candy Flowers\, Strawberry Decorated Carrots\, Crushed Oreos\, and more! The event will be free.
URL:https://www.wcsu.edu/events/calendar/earth-day-make-your-own-garden-cup/
LOCATION:Berkshire Hall\, 181 White St.\, Danbury\, CT
CATEGORIES:Food
ATTACH;FMTTYPE=image/png:https://www.wcsu.edu/events/wp-content/uploads/sites/181/2024/03/EARTH-DAY-EVENT_-How-we-will-survive-on-a-warming-planet.png
ORGANIZER;CN="Sodexo":MAILTO:Donald.Grayson@Sodexo.com
END:VEVENT
BEGIN:VEVENT
DTSTART;TZID=America/New_York:20240423T110000
DTEND;TZID=America/New_York:20240423T200000
DTSTAMP:20260419T201103
CREATED:20240404T131434Z
LAST-MODIFIED:20240404T131434Z
UID:10065934-1713870000-1713902400@www.wcsu.edu
SUMMARY:Global Street Foods: Memphis\, Tennessee
DESCRIPTION:GLOBAL STREET FOODS – MEMPHIS\, TENNESSEE: Join us from 11 a.m. – 8 p.m. in both dining halls to enjoy a taste of Memphis\, Tennessee. The Action Station will be serving Southern Style Fried Chicken\, Dirty Mashed Potatoes\, Southern BBQ Green Beans\, and Sweet Tea. Food will be served during lunch hours until closing.
URL:https://www.wcsu.edu/events/calendar/global-street-foods-memphis-tennessee/
LOCATION:Berkshire Hall and Westside Campus Center Dining\, Danbury\, CT
CATEGORIES:Food
ATTACH;FMTTYPE=image/jpeg:https://www.wcsu.edu/events/wp-content/uploads/sites/181/2023/10/Berkshire-10-18-23.jpg
ORGANIZER;CN="Sodexo":MAILTO:Donald.Grayson@Sodexo.com
END:VEVENT
BEGIN:VEVENT
DTSTART;TZID=America/New_York:20240424T110000
DTEND;TZID=America/New_York:20240424T200000
DTSTAMP:20260419T201103
CREATED:20240418T140016Z
LAST-MODIFIED:20240418T143247Z
UID:10065954-1713956400-1713988800@www.wcsu.edu
SUMMARY:Earth Week Dining
DESCRIPTION:EARTH WEEK DINING: During Earth Week\, the Dining Halls will serve meals/food items related to Earth Week. From 11 a.m. to 8 p.m.\, the Deli Station will be serving Avocado\, Hummus\, and Kale on Ciabatta Roll.
URL:https://www.wcsu.edu/events/calendar/earth-week/
LOCATION:Berkshire Hall and Westside Campus Center Dining\, Danbury\, CT
CATEGORIES:Food
ATTACH;FMTTYPE=image/jpeg:https://www.wcsu.edu/events/wp-content/uploads/sites/181/2023/10/Berkshire-10-18-23.jpg
ORGANIZER;CN="Sodexo":MAILTO:Donald.Grayson@Sodexo.com
END:VEVENT
BEGIN:VEVENT
DTSTART;TZID=America/New_York:20240424T123000
DTEND;TZID=America/New_York:20240424T160000
DTSTAMP:20260419T201103
CREATED:20240418T180155Z
LAST-MODIFIED:20240418T180155Z
UID:10065969-1713961800-1713974400@www.wcsu.edu
SUMMARY:Boba Blast Floats Pop-Up
DESCRIPTION:BOBA BLAST FLOATS POP-UP: Join us for a Boba Blast Floats Pop-Up Event. We will have different flavors of milk tea like strawberry\, mango and taro\, and tapioca flavors like mango\, strawberry and brown sugar. All options are vegan and come with an option of having ice cream. This event will be on both campuses in the dining halls: Berkshire from 12:30-3:30 p.m. and Westside Campus Center from 1-4 p.m.
URL:https://www.wcsu.edu/events/calendar/boba-blast-floats-pop-up/
LOCATION:Berkshire Hall and Westside Campus Center Dining\, Danbury\, CT
CATEGORIES:Food
ATTACH;FMTTYPE=image/jpeg:https://www.wcsu.edu/events/wp-content/uploads/sites/181/2023/10/Berkshire-10-18-23.jpg
ORGANIZER;CN="Sodexo":MAILTO:Donald.Grayson@Sodexo.com
END:VEVENT
BEGIN:VEVENT
DTSTART;TZID=America/New_York:20240425T110000
DTEND;TZID=America/New_York:20240425T200000
DTSTAMP:20260419T201103
CREATED:20240418T143415Z
LAST-MODIFIED:20240418T143415Z
UID:10065955-1714042800-1714075200@www.wcsu.edu
SUMMARY:Earth Week Dining
DESCRIPTION:EARTH WEEK DINING: During Earth Week\, the Dining Halls will serve meals/food items that resemble Earth Week. From 11 a.m. to 8 p.m.\, the Action Station will be serving PB & Jelly French Toast Sandwiches.
URL:https://www.wcsu.edu/events/calendar/earth-week-dining-2/
LOCATION:Berkshire Hall and Westside Campus Center Dining\, Danbury\, CT
CATEGORIES:Food
ATTACH;FMTTYPE=image/jpeg:https://www.wcsu.edu/events/wp-content/uploads/sites/181/2023/10/Berkshire-10-18-23.jpg
ORGANIZER;CN="Sodexo":MAILTO:Donald.Grayson@Sodexo.com
END:VEVENT
BEGIN:VEVENT
DTSTART;TZID=America/New_York:20240426T110000
DTEND;TZID=America/New_York:20240426T200000
DTSTAMP:20260419T201103
CREATED:20240418T143541Z
LAST-MODIFIED:20240418T143541Z
UID:10065956-1714129200-1714161600@www.wcsu.edu
SUMMARY:Earth Week Dining
DESCRIPTION:EARTH WEEK DINING: During Earth Week\, the Dining Halls will be serving meals/food items that resemble Earth Week. From 11 a.m. to 8 p.m.\, the Salad Station will be having Maple Crumble Yogurt Parfait.
URL:https://www.wcsu.edu/events/calendar/earth-week-dining-3/
LOCATION:Berkshire Hall and Westside Campus Center Dining\, Danbury\, CT
CATEGORIES:Food
ATTACH;FMTTYPE=image/jpeg:https://www.wcsu.edu/events/wp-content/uploads/sites/181/2023/10/Berkshire-10-18-23.jpg
ORGANIZER;CN="Sodexo":MAILTO:Donald.Grayson@Sodexo.com
END:VEVENT
BEGIN:VEVENT
DTSTART;TZID=America/New_York:20240430T200000
DTEND;TZID=America/New_York:20240430T230000
DTSTAMP:20260419T201103
CREATED:20240415T182309Z
LAST-MODIFIED:20240418T132344Z
UID:10065958-1714507200-1714518000@www.wcsu.edu
SUMMARY:Cram Jam
DESCRIPTION:CRAM JAM: At Daily Grind in the Westside Campus Center\, at 8 p.m. Sodexo will host Cram Jam\, with Snow Cones\, Coloring\, Tie Dye\, and Board Games. To enter\, all you need to do is follow (@wcsudining) on Instagram and (@wcsudining) on TikTok. Come and join at Daily Grind to have some late night fun on campus!
URL:https://www.wcsu.edu/events/calendar/cram-jam/
LOCATION:Berkshire Hall and Westside Campus Center Dining\, Danbury\, CT
CATEGORIES:Food
ATTACH;FMTTYPE=image/jpeg:https://www.wcsu.edu/events/wp-content/uploads/sites/181/2023/11/11_29-President-Town-Hall.jpg
ORGANIZER;CN="Sodexo":MAILTO:Donald.Grayson@Sodexo.com
END:VEVENT
END:VCALENDAR