BEGIN:VCALENDAR
VERSION:2.0
PRODID:-//WCSU Events - ECPv6.15.17.1//NONSGML v1.0//EN
CALSCALE:GREGORIAN
METHOD:PUBLISH
X-WR-CALNAME:WCSU Events
X-ORIGINAL-URL:https://www.wcsu.edu/events
X-WR-CALDESC:Events for WCSU Events
REFRESH-INTERVAL;VALUE=DURATION:PT1H
X-Robots-Tag:noindex
X-PUBLISHED-TTL:PT1H
BEGIN:VTIMEZONE
TZID:America/New_York
BEGIN:DAYLIGHT
TZOFFSETFROM:-0500
TZOFFSETTO:-0400
TZNAME:EDT
DTSTART:20230312T070000
END:DAYLIGHT
BEGIN:STANDARD
TZOFFSETFROM:-0400
TZOFFSETTO:-0500
TZNAME:EST
DTSTART:20231105T060000
END:STANDARD
BEGIN:DAYLIGHT
TZOFFSETFROM:-0500
TZOFFSETTO:-0400
TZNAME:EDT
DTSTART:20240310T070000
END:DAYLIGHT
BEGIN:STANDARD
TZOFFSETFROM:-0400
TZOFFSETTO:-0500
TZNAME:EST
DTSTART:20241103T060000
END:STANDARD
BEGIN:DAYLIGHT
TZOFFSETFROM:-0500
TZOFFSETTO:-0400
TZNAME:EDT
DTSTART:20250309T070000
END:DAYLIGHT
BEGIN:STANDARD
TZOFFSETFROM:-0400
TZOFFSETTO:-0500
TZNAME:EST
DTSTART:20251102T060000
END:STANDARD
END:VTIMEZONE
BEGIN:VEVENT
DTSTART;TZID=America/New_York:20240326T113000
DTEND;TZID=America/New_York:20240326T113000
DTSTAMP:20260420T182616
CREATED:20240322T151214Z
LAST-MODIFIED:20240322T151214Z
UID:10065910-1711452600-1711452600@www.wcsu.edu
SUMMARY:Campus Cornhole Contest
DESCRIPTION:CAMPUS CORNHOLE CONTEST: Cornhole contest set up outside Berkshire Hall where students can compete against fellow classmates for prizes such as $10 gift cards. Students can also enter into a raffle giving away $25\, $50\, and $100 gift cards by answering a short survey regarding the current campus smoking and vaping policy. At 11:30 a.m. at Berkshire Hall on the Midtown campus.
URL:https://www.wcsu.edu/events/calendar/campus-cornhole-contest/
LOCATION:Berkshire Hall\, 181 White St.\, Danbury\, CT
CATEGORIES:Entertainment,Outdoor
END:VEVENT
BEGIN:VEVENT
DTSTART;TZID=America/New_York:20240326T160000
DTEND;TZID=America/New_York:20240326T200000
DTSTAMP:20260420T182616
CREATED:20240321T183904Z
LAST-MODIFIED:20240321T183904Z
UID:10065903-1711468800-1711483200@www.wcsu.edu
SUMMARY:Wingin' It
DESCRIPTION:WINGIN’ IT: Join us at the Berkshire Dining Hall from 4 to 8 p.m. to introduce “Wingin’ It” by Flavor Seekers (a Sodexo special) at the Action Station. There will be a bunch of different flavors of wings including Buffalo Sauce\, Honey BBQ\, General Tso/Teriyaki\, Korean BBQ/Sweet N’ Chili\, and Cauliflower Wings (Vegetarian). There will also be options for sides along with sauces. For those who are attending or getting wings\, they will receive a free goodie bag.
URL:https://www.wcsu.edu/events/calendar/wingin-it/
LOCATION:Berkshire Hall\, 181 White St.\, Danbury\, CT
CATEGORIES:Food
ATTACH;FMTTYPE=image/jpeg:https://www.wcsu.edu/events/wp-content/uploads/sites/181/2023/10/Berkshire-10-18-23.jpg
ORGANIZER;CN="Sodexo":MAILTO:Donald.Grayson@Sodexo.com
END:VEVENT
END:VCALENDAR