BEGIN:VCALENDAR
VERSION:2.0
PRODID:-//WCSU Events - ECPv6.15.17.1//NONSGML v1.0//EN
CALSCALE:GREGORIAN
METHOD:PUBLISH
X-WR-CALNAME:WCSU Events
X-ORIGINAL-URL:https://www.wcsu.edu/events
X-WR-CALDESC:Events for WCSU Events
REFRESH-INTERVAL;VALUE=DURATION:PT1H
X-Robots-Tag:noindex
X-PUBLISHED-TTL:PT1H
BEGIN:VTIMEZONE
TZID:America/New_York
BEGIN:DAYLIGHT
TZOFFSETFROM:-0500
TZOFFSETTO:-0400
TZNAME:EDT
DTSTART:20230312T070000
END:DAYLIGHT
BEGIN:STANDARD
TZOFFSETFROM:-0400
TZOFFSETTO:-0500
TZNAME:EST
DTSTART:20231105T060000
END:STANDARD
BEGIN:DAYLIGHT
TZOFFSETFROM:-0500
TZOFFSETTO:-0400
TZNAME:EDT
DTSTART:20240310T070000
END:DAYLIGHT
BEGIN:STANDARD
TZOFFSETFROM:-0400
TZOFFSETTO:-0500
TZNAME:EST
DTSTART:20241103T060000
END:STANDARD
BEGIN:DAYLIGHT
TZOFFSETFROM:-0500
TZOFFSETTO:-0400
TZNAME:EDT
DTSTART:20250309T070000
END:DAYLIGHT
BEGIN:STANDARD
TZOFFSETFROM:-0400
TZOFFSETTO:-0500
TZNAME:EST
DTSTART:20251102T060000
END:STANDARD
END:VTIMEZONE
BEGIN:VEVENT
DTSTART;TZID=America/New_York:20240403T110000
DTEND;TZID=America/New_York:20240403T200000
DTSTAMP:20260420T175546
CREATED:20240318T193635Z
LAST-MODIFIED:20240318T193635Z
UID:10065829-1712142000-1712174400@www.wcsu.edu
SUMMARY:Global Street Foods - Austin\, Texas
DESCRIPTION:GLOBAL STREET FOODS – AUSTIN\, TEXAS: Join us from 11 a.m. to 8 p.m. in both dining halls (Berkshire Dining Hall at Midtown and Westside Campus Center) to enjoy a taste of Austin\, Texas. The Action Station will be serving BBQ Beef Brisket and Mixed Berry Apple Crisp at the dessert station. Food will start being served during lunch hours until closing.
URL:https://www.wcsu.edu/events/calendar/global-street-foods-austin-texas/
LOCATION:Berkshire Hall and Westside Campus Center Dining\, Danbury\, CT
CATEGORIES:Food
ATTACH;FMTTYPE=image/jpeg:https://www.wcsu.edu/events/wp-content/uploads/sites/181/2023/10/Berkshire-10-18-23.jpg
ORGANIZER;CN="Sodexo":MAILTO:Donald.Grayson@Sodexo.com
END:VEVENT
END:VCALENDAR