BEGIN:VCALENDAR
VERSION:2.0
PRODID:-//WCSU Events - ECPv6.15.17.1//NONSGML v1.0//EN
CALSCALE:GREGORIAN
METHOD:PUBLISH
X-WR-CALNAME:WCSU Events
X-ORIGINAL-URL:https://www.wcsu.edu/events
X-WR-CALDESC:Events for WCSU Events
REFRESH-INTERVAL;VALUE=DURATION:PT1H
X-Robots-Tag:noindex
X-PUBLISHED-TTL:PT1H
BEGIN:VTIMEZONE
TZID:America/New_York
BEGIN:DAYLIGHT
TZOFFSETFROM:-0500
TZOFFSETTO:-0400
TZNAME:EDT
DTSTART:20240310T070000
END:DAYLIGHT
BEGIN:STANDARD
TZOFFSETFROM:-0400
TZOFFSETTO:-0500
TZNAME:EST
DTSTART:20241103T060000
END:STANDARD
BEGIN:DAYLIGHT
TZOFFSETFROM:-0500
TZOFFSETTO:-0400
TZNAME:EDT
DTSTART:20250309T070000
END:DAYLIGHT
BEGIN:STANDARD
TZOFFSETFROM:-0400
TZOFFSETTO:-0500
TZNAME:EST
DTSTART:20251102T060000
END:STANDARD
BEGIN:DAYLIGHT
TZOFFSETFROM:-0500
TZOFFSETTO:-0400
TZNAME:EDT
DTSTART:20260308T070000
END:DAYLIGHT
BEGIN:STANDARD
TZOFFSETFROM:-0400
TZOFFSETTO:-0500
TZNAME:EST
DTSTART:20261101T060000
END:STANDARD
END:VTIMEZONE
BEGIN:VEVENT
DTSTART;TZID=America/New_York:20250918T110000
DTEND;TZID=America/New_York:20250918T150000
DTSTAMP:20260421T012050
CREATED:20250721T145258Z
LAST-MODIFIED:20250721T145258Z
UID:10071367-1758193200-1758207600@www.wcsu.edu
SUMMARY:Bone Marrow Donor Registry Drive
DESCRIPTION:BONE MARROW DONOR REGISTRY DRIVE: Come to the Berkshire Hall lawn on the Midtown campus between 11 a.m. and 3 p.m. to donate peripheral blood stem cells. You can help change the life of someone with blood cancer or another blood disorder. Learn more about the process and the impact you could have as a donor at https://college.bethematch.org/get-in-the-game/. (Rain location: inside Berkshire Hall)
URL:https://www.wcsu.edu/events/calendar/bone-marrow-donor-registry-drive/
LOCATION:Berkshire Hall Lawn\, 181 White St.\, Danbury\, CT
CATEGORIES:Health And Wellness
ATTACH;FMTTYPE=image/jpeg:https://www.wcsu.edu/events/wp-content/uploads/sites/181/2023/10/Berkshire-10-18-23.jpg
ORGANIZER;CN="Athletics":MAILTO:amess@wcsu.edu
END:VEVENT
END:VCALENDAR