BEGIN:VCALENDAR
VERSION:2.0
PRODID:-//WCSU Events - ECPv6.15.17.1//NONSGML v1.0//EN
CALSCALE:GREGORIAN
METHOD:PUBLISH
X-ORIGINAL-URL:https://www.wcsu.edu/events
X-WR-CALDESC:Events for WCSU Events
REFRESH-INTERVAL;VALUE=DURATION:PT1H
X-Robots-Tag:noindex
X-PUBLISHED-TTL:PT1H
BEGIN:VTIMEZONE
TZID:UTC
BEGIN:STANDARD
TZOFFSETFROM:+0000
TZOFFSETTO:+0000
TZNAME:UTC
DTSTART:20210101T000000
END:STANDARD
END:VTIMEZONE
BEGIN:VEVENT
DTSTART;TZID=UTC:20221028T180000
DTEND;TZID=UTC:20221028T200000
DTSTAMP:20260420T191321
CREATED:20221026T202804Z
LAST-MODIFIED:20221026T225454Z
UID:10063133-1666980000-1666987200@www.wcsu.edu
SUMMARY:Bowling Night!
DESCRIPTION:BOWLING NIGHT: The Black Social Work Association and the Social Work Club will be collaborating on a bowling night at Strikers of Brookfield! First 40 students will bowl for free! There will be *limited* transportation provided\, but carpooling is recommended. A small van will be leaving the Midtown Shuttle Stop at 5:30 p.m. Free food will also be provided!
URL:https://www.wcsu.edu/events/calendar/bowling-night/
LOCATION:Strikers of Brookfield\, 840 Federal Road\, Brookfield\, Connecticut\, 06804
CATEGORIES:Social Event
ATTACH;FMTTYPE=image/jpeg:https://www.wcsu.edu/events/wp-content/uploads/sites/181/2022/10/bowling-revised.jpeg
END:VEVENT
END:VCALENDAR