BEGIN:VCALENDAR
VERSION:2.0
PRODID:-//WCSU Events - ECPv6.15.17.1//NONSGML v1.0//EN
CALSCALE:GREGORIAN
METHOD:PUBLISH
X-WR-CALNAME:WCSU Events
X-ORIGINAL-URL:https://www.wcsu.edu/events
X-WR-CALDESC:Events for WCSU Events
REFRESH-INTERVAL;VALUE=DURATION:PT1H
X-Robots-Tag:noindex
X-PUBLISHED-TTL:PT1H
BEGIN:VTIMEZONE
TZID:America/New_York
BEGIN:DAYLIGHT
TZOFFSETFROM:-0500
TZOFFSETTO:-0400
TZNAME:EDT
DTSTART:20240310T070000
END:DAYLIGHT
BEGIN:STANDARD
TZOFFSETFROM:-0400
TZOFFSETTO:-0500
TZNAME:EST
DTSTART:20241103T060000
END:STANDARD
BEGIN:DAYLIGHT
TZOFFSETFROM:-0500
TZOFFSETTO:-0400
TZNAME:EDT
DTSTART:20250309T070000
END:DAYLIGHT
BEGIN:STANDARD
TZOFFSETFROM:-0400
TZOFFSETTO:-0500
TZNAME:EST
DTSTART:20251102T060000
END:STANDARD
BEGIN:DAYLIGHT
TZOFFSETFROM:-0500
TZOFFSETTO:-0400
TZNAME:EDT
DTSTART:20260308T070000
END:DAYLIGHT
BEGIN:STANDARD
TZOFFSETFROM:-0400
TZOFFSETTO:-0500
TZNAME:EST
DTSTART:20261101T060000
END:STANDARD
END:VTIMEZONE
BEGIN:VEVENT
DTSTART;TZID=America/New_York:20250910T110000
DTEND;TZID=America/New_York:20250910T160000
DTSTAMP:20260420T071759
CREATED:20250723T190318Z
LAST-MODIFIED:20250723T190318Z
UID:10071378-1757502000-1757520000@www.wcsu.edu
SUMMARY:Clubs Carnival and Streetfest
DESCRIPTION:CLUBS CARNIVAL AND STREETFEST: Kick off the semester with our biggest Student Life event! All students are invited to explore the wide variety of clubs and organizations on campus — whether you’re looking to pursue a passion\, try something new\, or meet like-minded people\, there’s something for everyone. Stroll through vibrant booths\, connect with fellow students\, and get involved in what excites you. While you’re at it\, enjoy delicious bites from local food trucks and check out unique crafts and goods from local vendors. From 11 a.m. to 4 p.m. on the Science Building lawn\, Midtown campus.
URL:https://www.wcsu.edu/events/calendar/clubs-carnival-and-streetfest/
LOCATION:Rec Field – Science Building Lawn\, 181 White St.\, Danbury\, CT
CATEGORIES:Craft Fair,Food,Music,Outdoor
ATTACH;FMTTYPE=image/jpeg:https://www.wcsu.edu/events/wp-content/uploads/sites/181/2025/07/Streetfest-2024.jpg
ORGANIZER;CN="WCSU Dining":MAILTO:heidi.diaz@sodexo.com
END:VEVENT
BEGIN:VEVENT
DTSTART;TZID=America/New_York:20250919T190000
DTEND;TZID=America/New_York:20250919T203000
DTSTAMP:20260420T071759
CREATED:20250923T130815Z
LAST-MODIFIED:20250923T130815Z
UID:10072012-1758308400-1758313800@www.wcsu.edu
SUMMARY:WXCI General Staff Meeting
DESCRIPTION:WXCI GENERAL STAFF MEETING: Come join us for our FIRST GENERAL STAFF MEETING of the semester!! We’ll be discussing how to get involved with the station\, the road to becoming a DJ\, committees and more!!! From 7 to 8:30 p.m. in Room 202 of the Midtown Student Center.
URL:https://www.wcsu.edu/events/calendar/wxci-general-staff-meeting/2025-09-19/
LOCATION:Midtown Student Center 202\, 181 White St.\, Danbury\, CT
CATEGORIES:Meeting
ATTACH;FMTTYPE=image/jpeg:https://www.wcsu.edu/events/wp-content/uploads/sites/181/2024/10/WXCI_500x300.jpg
END:VEVENT
BEGIN:VEVENT
DTSTART;TZID=America/New_York:20250924T190000
DTEND;TZID=America/New_York:20250924T203000
DTSTAMP:20260420T071759
CREATED:20250923T130815Z
LAST-MODIFIED:20250923T130815Z
UID:10072023-1758740400-1758745800@www.wcsu.edu
SUMMARY:WXCI General Staff Meeting
DESCRIPTION:WXCI GENERAL STAFF MEETING: Come join us for our FIRST GENERAL STAFF MEETING of the semester!! We’ll be discussing how to get involved with the station\, the road to becoming a DJ\, committees and more!!! From 7 to 8:30 p.m. in Room 202 of the Midtown Student Center.
URL:https://www.wcsu.edu/events/calendar/wxci-general-staff-meeting/2025-09-24/
LOCATION:Midtown Student Center 202\, 181 White St.\, Danbury\, CT
CATEGORIES:Meeting
ATTACH;FMTTYPE=image/jpeg:https://www.wcsu.edu/events/wp-content/uploads/sites/181/2024/10/WXCI_500x300.jpg
END:VEVENT
END:VCALENDAR