BEGIN:VCALENDAR
VERSION:2.0
PRODID:-//WCSU Events - ECPv6.15.17.1//NONSGML v1.0//EN
CALSCALE:GREGORIAN
METHOD:PUBLISH
X-WR-CALNAME:WCSU Events
X-ORIGINAL-URL:https://www.wcsu.edu/events
X-WR-CALDESC:Events for WCSU Events
REFRESH-INTERVAL;VALUE=DURATION:PT1H
X-Robots-Tag:noindex
X-PUBLISHED-TTL:PT1H
BEGIN:VTIMEZONE
TZID:America/New_York
BEGIN:DAYLIGHT
TZOFFSETFROM:-0500
TZOFFSETTO:-0400
TZNAME:EDT
DTSTART:20240310T070000
END:DAYLIGHT
BEGIN:STANDARD
TZOFFSETFROM:-0400
TZOFFSETTO:-0500
TZNAME:EST
DTSTART:20241103T060000
END:STANDARD
BEGIN:DAYLIGHT
TZOFFSETFROM:-0500
TZOFFSETTO:-0400
TZNAME:EDT
DTSTART:20250309T070000
END:DAYLIGHT
BEGIN:STANDARD
TZOFFSETFROM:-0400
TZOFFSETTO:-0500
TZNAME:EST
DTSTART:20251102T060000
END:STANDARD
BEGIN:DAYLIGHT
TZOFFSETFROM:-0500
TZOFFSETTO:-0400
TZNAME:EDT
DTSTART:20260308T070000
END:DAYLIGHT
BEGIN:STANDARD
TZOFFSETFROM:-0400
TZOFFSETTO:-0500
TZNAME:EST
DTSTART:20261101T060000
END:STANDARD
END:VTIMEZONE
BEGIN:VEVENT
DTSTART;TZID=America/New_York:20250303T153000
DTEND;TZID=America/New_York:20250303T170000
DTSTAMP:20260423T075337
CREATED:20250128T172522Z
LAST-MODIFIED:20250128T172522Z
UID:10070854-1741015800-1741021200@www.wcsu.edu
SUMMARY:What's Right Right Now Panel Discussion
DESCRIPTION:WHAT’S RIGHT RIGHT NOW PANEL DISCUSSION: The Kathwari Spring Seminars will host four of WestConn’s faculty experts on ethics — Dr. Anna Malavisi (History\, Philosophy\, and World Perspectives)\, Dr. Robert Whittemore (Social Sciences)\, Dr. Mitch Wagener (Biology)\, and Dr. Averell Manes (Social Sciences) — as they discuss contemporary ethical quandaries from a variety of disciplinary perspectives in “What’s Right Right Now?” at 3:30 p.m. in Room 125 of the Science Building on the university’s Midtown campus. \nFree and open to the public.
URL:https://www.wcsu.edu/events/calendar/whats-right-right-now-panel-discussion/
LOCATION:Science Building 125\, 181 White St.\, Danbury\, CT
CATEGORIES:Discussion,Diversity,Panel discussion,WOW
ATTACH;FMTTYPE=image/png:https://www.wcsu.edu/events/wp-content/uploads/sites/181/2025/01/Kathwari-Spring-Seminars-2025.png
ORGANIZER;CN="Kathwari Honors Program":MAILTO:honors@wcsu.edu
END:VEVENT
BEGIN:VEVENT
DTSTART;TZID=America/New_York:20250304T080000
DTEND;TZID=America/New_York:20250304T170000
DTSTAMP:20260423T075337
CREATED:20250228T163645Z
LAST-MODIFIED:20250228T163645Z
UID:10071012-1741075200-1741107600@www.wcsu.edu
SUMMARY:Women's History Month Tabling with the ICA Office
DESCRIPTION:WOMEN’S HISTORY MONTH TABLING WITH THE ICA OFFICE: Celebrate Women’s History Month with the Intercultural Affairs Office! Stop by our table to learn about the remarkable contributions of women throughout history\, engage in interactive activities\, and discover ways to support and uplift women in our community. Grab some resources\, test your knowledge\, learn about upcoming events and win a prize. Everyone is welcome to participate! From noon to 2 p.m. in Berkshire Hall on the Midtown campus.
URL:https://www.wcsu.edu/events/calendar/womens-history-month-tabling-with-the-ica-office/2025-03-04/1/
LOCATION:Berkshire Hall\, 181 White St.\, Danbury\, CT
CATEGORIES:Diversity,Information Session,Social Event,WOW
ATTACH;FMTTYPE=image/jpeg:https://www.wcsu.edu/events/wp-content/uploads/sites/181/2025/02/Womens-History-Month_500x300.jpg
ORGANIZER;CN="Office of InterCultural Affairs":MAILTO:dennisd@wcsu.edu
END:VEVENT
BEGIN:VEVENT
DTSTART;TZID=America/New_York:20250304T120000
DTEND;TZID=America/New_York:20250304T140000
DTSTAMP:20260423T075337
CREATED:20250228T163645Z
LAST-MODIFIED:20250228T163645Z
UID:10071013-1741089600-1741096800@www.wcsu.edu
SUMMARY:Women's History Month Tabling with the ICA Office
DESCRIPTION:WOMEN’S HISTORY MONTH TABLING WITH THE ICA OFFICE: Celebrate Women’s History Month with the Intercultural Affairs Office! Stop by our table to learn about the remarkable contributions of women throughout history\, engage in interactive activities\, and discover ways to support and uplift women in our community. Grab some resources\, test your knowledge\, learn about upcoming events and win a prize. Everyone is welcome to participate! From noon to 2 p.m. in Berkshire Hall on the Midtown campus.
URL:https://www.wcsu.edu/events/calendar/womens-history-month-tabling-with-the-ica-office/2025-03-04/2/
LOCATION:Berkshire Hall\, 181 White St.\, Danbury\, CT
CATEGORIES:Diversity,Information Session,Social Event,WOW
ATTACH;FMTTYPE=image/jpeg:https://www.wcsu.edu/events/wp-content/uploads/sites/181/2025/02/Womens-History-Month_500x300.jpg
ORGANIZER;CN="Office of InterCultural Affairs":MAILTO:dennisd@wcsu.edu
END:VEVENT
BEGIN:VEVENT
DTSTART;TZID=America/New_York:20250304T160000
DTEND;TZID=America/New_York:20250304T180000
DTSTAMP:20260423T075337
CREATED:20250228T164044Z
LAST-MODIFIED:20250228T164515Z
UID:10071014-1741104000-1741111200@www.wcsu.edu
SUMMARY:Women's History Month Tabling with the ICA Office
DESCRIPTION:WOMEN’S HISTORY MONTH TABLING WITH THE ICA OFFICE: Celebrate Women’s History Month with the Intercultural Affairs Office! Stop by our table to learn about the remarkable contributions of women throughout history\, engage in interactive activities\, and discover ways to support and uplift women in our community. Grab some resources\, test your knowledge\, learn about upcoming events and win a prize. Everyone is welcome to participate! From 4 to 6 p.m. in the Westside Campus Center lower level lobby.
URL:https://www.wcsu.edu/events/calendar/womens-history-month-tabling-with-the-ica-office-2/
LOCATION:Westside Campus Center Lobby\, 43 Lake Ave. Extension\, Danbury\, CT
CATEGORIES:Diversity,Information Session,Social Event,WOW
ATTACH;FMTTYPE=image/jpeg:https://www.wcsu.edu/events/wp-content/uploads/sites/181/2025/02/Womens-History-Month_500x300.jpg
ORGANIZER;CN="Office of InterCultural Affairs":MAILTO:dennisd@wcsu.edu
END:VEVENT
BEGIN:VEVENT
DTSTART;TZID=America/New_York:20250305T100000
DTEND;TZID=America/New_York:20250305T120000
DTSTAMP:20260423T075337
CREATED:20250228T155953Z
LAST-MODIFIED:20250228T155953Z
UID:10071009-1741168800-1741176000@www.wcsu.edu
SUMMARY:Safe Zone Training (for Students)
DESCRIPTION:SAFE ZONE TRAINING FOR STUDENTS: Safe Zone Trainings are opportunities to learn about LGBTQ+ identities\, gender\, and sexuality and examine prejudice\, assumptions\, and privilege. This virtual training will be from 10 a.m. to noon. \nTo RSVP\, please email the Pride Center Coordinator at pridecenter@wcsu.edu
URL:https://www.wcsu.edu/events/calendar/safe-zone-training-for-students/
LOCATION:Virtual
CATEGORIES:Diversity,Training,Virtual event
ATTACH;FMTTYPE=image/jpeg:https://www.wcsu.edu/events/wp-content/uploads/sites/181/2024/05/Pride-flag_500x300.jpg
END:VEVENT
BEGIN:VEVENT
DTSTART;TZID=America/New_York:20250305T180000
DTEND;TZID=America/New_York:20250305T200000
DTSTAMP:20260423T075337
CREATED:20250107T140050Z
LAST-MODIFIED:20250303T131338Z
UID:10070752-1741197600-1741204800@www.wcsu.edu
SUMMARY:"A JOURNEY" Musical One-Woman Show by Kimberly Wilson
DESCRIPTION:“A JOURNEY” MUSICAL ONE-WOMAN SHOW BY KIMBERLY WILSON: “A JOURNEY” Musical One-Woman Show brings to life seven historical women\, seven pivotal generations\, who present to you their stories through song\, movement\, and dialogue and how ultimately their faith\, hope and calling help shape the America we know today. \nJoyful celebrations and painful reflections are rendered artistically to tell a story of persistence and courage and how womanhood\, not always intricately woven into the tapestry of American history\, is the thread that holds together the fabric of American life. Included in this journey are reflections from an African Queen\, Harriet Tubman\, Sojourner Truth\, Rosa Parks\, and more. \nAfter the performance\, we invite the audience to remain for a talk-back which extends the wealth of this theatrical experience. People are welcome opportunities to share their feedback and share their stories\, too. \nAs we celebrate these historical women’s stories and their journeys\, let us also celebrate our own journeys. We must tell our stories and be avid\, respectful listeners to the stories of others. We must live\, love and treasure each other\, for this is OUR JOURNEY. \n“A JOURNEY” Musical One-Woman Show\, is from 6 to 8 p.m. in Ives Concert Hall in White Hall on the Midtown campus \nRegister to attend at https://wcsutickets.regfox.com/ajourney-musical-one-woman-show-kimberly-wilson
URL:https://www.wcsu.edu/events/calendar/a-journey-a-musical-one-woman-show-by-kimberly-wilson/
LOCATION:Ives Concert Hall\, 181 White St.\, Danbury\, CT
CATEGORIES:Diversity,Entertainment,Public Events,Speaker,Theater,Theatre,WOW
ATTACH;FMTTYPE=image/jpeg:https://www.wcsu.edu/events/wp-content/uploads/sites/181/2025/01/A-JOURNEY-1-002.jpg
ORGANIZER;CN="Institute for Holistic Health Studies (IHHS)":MAILTO:autuoric@wcsu.edu
END:VEVENT
BEGIN:VEVENT
DTSTART;TZID=America/New_York:20250308T120000
DTEND;TZID=America/New_York:20250308T130000
DTSTAMP:20260423T075337
CREATED:20250303T195442Z
LAST-MODIFIED:20250303T195442Z
UID:10071023-1741435200-1741438800@www.wcsu.edu
SUMMARY:Frida Kahlo: Art and Legacy
DESCRIPTION:FRIDA KAHLO – ART AND LEGACY: The Office of Diversity\, Equity\, and Inclusion is promoting this virtual event entitled Frida Kahlo: Art & Legacy. \nCelebrate International Women’s Day with an exclusive virtual event exploring the life\, art\, and enduring legacy of Frida Kahlo (1907 to 1954). Join Sarah Powers\, curator at the Virginia Museum of Fine Arts (VMFA)\, for a deep dive into her research for the upcoming exhibition Frida: Beyond the Myth\, (April 5 to September 28\, 2025). \nPowers will offer insights into Kahlo’s artistry and life\, focusing on the pivotal role of the artist’s personal mythology in shaping our understanding of her as one of the 20th century’s most iconic artists. Following the presentation\, Powers will engage in a dynamic conversation with Laura Hoffman\, NMWA director of digital engagement. They will discuss NMWA’s collection of Kahlo’s personal letters and how digital innovation is transforming the way we connect with personal narratives in art. \nThis virtual event is from noon to 1 p.m. Register at https://nmwa.org/whats-on/calendar/frida-kahlo-art-legacy/
URL:https://www.wcsu.edu/events/calendar/frida-kahlo-art-and-legacy/
LOCATION:Virtual event
CATEGORIES:Diversity,Public Events,Virtual event,Webinar
ATTACH;FMTTYPE=image/jpeg:https://www.wcsu.edu/events/wp-content/uploads/sites/181/2025/02/Womens-History-Month_500x300.jpg
END:VEVENT
BEGIN:VEVENT
DTSTART;TZID=America/New_York:20250313T180000
DTEND;TZID=America/New_York:20250313T200000
DTSTAMP:20260423T075337
CREATED:20250303T195137Z
LAST-MODIFIED:20250310T151659Z
UID:10071025-1741888800-1741896000@www.wcsu.edu
SUMMARY:Women's History Month Trivia Night
DESCRIPTION:WOMEN’S HISTORY MONTH TRIVIA NIGHT WITH THE ICA OFFICE: Think you know your history? Put your knowledge to the test and join the Intercultural Affairs Office at our Women’s History Month Trivia Night! Join us for a fun and interactive evening celebrating the incredible achievements\, contributions\, and milestones of women throughout history. \nCompete for prizes\, learn fascinating facts\, and enjoy great company & good vibes. Gather your friends or come solo — either way\, you’re in for an exciting night of learning and friendly competition! From 6 to 8 p.m. in the InterCultural Affairs Office\, Room 207 of the Midtown Student Center. \nDon’t miss out! See you there!
URL:https://www.wcsu.edu/events/calendar/womens-history-month-trivia-night/
LOCATION:Midtown Student Center Room 207\, 181 White St.\, Danbury\, CT
CATEGORIES:Diversity,Social Event,WOW
ATTACH;FMTTYPE=image/jpeg:https://www.wcsu.edu/events/wp-content/uploads/sites/181/2025/02/Womens-History-Month_500x300.jpg
ORGANIZER;CN="Office of InterCultural Affairs":MAILTO:dennisd@wcsu.edu
END:VEVENT
BEGIN:VEVENT
DTSTART;TZID=America/New_York:20250314T120000
DTEND;TZID=America/New_York:20250314T130000
DTSTAMP:20260423T075337
CREATED:20250305T161030Z
LAST-MODIFIED:20250305T161030Z
UID:10071033-1741953600-1741957200@www.wcsu.edu
SUMMARY:Legacy Lecture - Elizabeth Packard: The Woman Who Would Not Be Silenced
DESCRIPTION:LEGACY LECTURE – ELIZABETH PACKARD\, THE WOMEN WHO WOULD NOT BE SILENCED: The Office of Diversity\, Equity\, and Inclusion is promoting this virtual event entitled Legacy Lecture: Elizabeth Packard: The Woman Who Would Not Be Silenced. The event is organized by the National First Ladies’ Library & Museum. \nThis Women’s History Month\, join us for a powerful Legacy Lecture featuring historian and performer Laura Keyes as she embodies Elizabeth Packard\, a fierce advocate for women’s rights and mental health reform. \nIn 1860\, Packard was unjustly committed to an asylum by her husband\, a situation legally permitted at the time\, and she endured three years of confinement. Despite these harrowing circumstances\, Elizabeth Packard secured her release and launched a groundbreaking campaign for legal reform to protect married women from similar injustices. \nLaura Keyes brings Elizabeth’s courage and passion to life in this unique\, immersive presentation\, capturing the spirit of a woman who fought tirelessly for justice. \nFrom noon to 1 p.m. Register at www.eventbrite.com/e/legacy-lecture-elizabeth-packard-the-woman-who-would-not-be-silenced-tickets-1070698410769?aff=erelpanelorg
URL:https://www.wcsu.edu/events/calendar/legacy-lecture-elizabeth-packard-the-woman-who-would-not-be-silenced/
LOCATION:Virtual event
CATEGORIES:Diversity,Virtual event,Webinar,WOW
ATTACH;FMTTYPE=image/jpeg:https://www.wcsu.edu/events/wp-content/uploads/sites/181/2025/02/Womens-History-Month_500x300.jpg
END:VEVENT
BEGIN:VEVENT
DTSTART;TZID=America/New_York:20250316T140000
DTEND;TZID=America/New_York:20250316T160000
DTSTAMP:20260423T075337
CREATED:20250303T202228Z
LAST-MODIFIED:20250303T202228Z
UID:10071026-1742133600-1742140800@www.wcsu.edu
SUMMARY:Put Yourself Back in the Narrative: The Past\, Present\, and Future of Women in Science
DESCRIPTION:PUT YOURSELF BACK IN THE NARRATIVE – THE PAST\, PRESENT\, AND FUTURE OF WOMEN IN SCIENCE: The Office of Diversity\, Equity\, and Inclusion\, Department of History and Women’s Studies Program are promoting the event entitled Put Yourself Back in the Narrative: The Past\, Present\, and Future of Women in Science. \nCyd Cipolla\, Clinical Associate Professor of Media\, Culture\, and Communication at NYU’s Steinhardt School\, will present a talk titled “Put Yourself Back in the Narrative: The Past\, Present\, and Future of Women in Science.” Dr. Cipolla’s talk explores the question of the under-representation of women in STEM fields as an introduction to some of the major ideas in feminist studies of science\, including the central issue of the ethics of care\, and discusses strategies for how we can encourage greater gender diversity at all levels of STEM education. \nThe event will be from 2 to 4 p.m. at the C.H. Booth Library\, 25 Main St. in Newtown.
URL:https://www.wcsu.edu/events/calendar/put-yourself-back-in-the-narrative-the-past-present-and-future-of-women-in-science/
LOCATION:C.H. Booth Library\, 25 Main Street\, Newtown\, CT\, 06470\, United States
CATEGORIES:Diversity,Lectures,Public Events
ATTACH;FMTTYPE=image/jpeg:https://www.wcsu.edu/events/wp-content/uploads/sites/181/2025/02/Womens-History-Month_500x300.jpg
ORGANIZER;CN="Department of History and World Perspectives":MAILTO:wilcoxw@wcsu.edu
END:VEVENT
BEGIN:VEVENT
DTSTART;TZID=America/New_York:20250319T100000
DTEND;TZID=America/New_York:20250319T120000
DTSTAMP:20260423T075337
CREATED:20250303T140745Z
LAST-MODIFIED:20250303T140745Z
UID:10071018-1742378400-1742385600@www.wcsu.edu
SUMMARY:Safe Zone Training (for Faculty and Staff)
DESCRIPTION:SAFE ZONE TRAINING FOR FACULTY & STAFF: Safe Zone Trainings are opportunities to learn about LGBTQ+ identities\, gender\, and sexuality and examine prejudice\, assumptions\, and privilege. This training will be held in person from 10 a.m. to noon at the Pride Center\, Midtown Student Center\, Room 218. \nTo RSVP\, please email the Pride Center Coordinator at pridecenter@wcsu.edu
URL:https://www.wcsu.edu/events/calendar/safe-zone-training-for-faculty-and-staff/
LOCATION:WCSU Pride Center
CATEGORIES:Diversity,Training
ATTACH;FMTTYPE=image/jpeg:https://www.wcsu.edu/events/wp-content/uploads/sites/181/2024/05/Pride-flag_500x300.jpg
END:VEVENT
BEGIN:VEVENT
DTSTART;TZID=America/New_York:20250324T190000
DTEND;TZID=America/New_York:20250324T200000
DTSTAMP:20260423T075337
CREATED:20250305T200513Z
LAST-MODIFIED:20250305T200513Z
UID:10071034-1742842800-1742846400@www.wcsu.edu
SUMMARY:Special Cooking with the First Ladies
DESCRIPTION:SPECIAL COOKING WITH THE FIRST LADIES: The Office of Diversity\, Equity\, and Inclusion is promoting this event entitled Special Cooking with the First Ladies: Women’s History Month Program. The event is organized by the National First Ladies’ Library & Museum. \nStep back in time to explore the unique stories of the women of the Manhattan Project\, including the Calutron Girls\, who worked in the “Secret City” of Oak Ridge\, Tennessee\, with no knowledge of the impact they would have on World War II. This Women’s History Month program will shine a spotlight on these women’s contributions\, complemented by insights into First Ladies Eleanor Roosevelt and Bess Truman\, who helped guide the nation during this pivotal era. Participants will receive exclusive recipes from the wartime Oak Ridge cookbook Cooking Behind The Fence and a few favorites from the First Ladies of the 1940s. \nSarah Morgan\, a historian with a passion for culinary history\, will lead this engaging event. Known for her “Cooking with the First Ladies” content\, Sarah brings history to life through the dishes of America’s past. Don’t miss this special session filled with stories of resilience\, patriotism\, and recipes that fueled a generation. \nNOTE: American Sign Language (ASL) interpretation will be provided via Zoom. More information on accessing ASL services will be available during the Zoom webinar. This program is entirely virtual. From 7 to 8 p.m. \nRegister at www.eventbrite.com/e/special-cooking-with-the-first-ladies-womens-history-month-program-tickets-1070738249929?aff=erelpanelorg
URL:https://www.wcsu.edu/events/calendar/special-cooking-with-the-first-ladies/
LOCATION:Virtual event
CATEGORIES:Diversity,Lectures,Virtual event,Webinar,WOW
ATTACH;FMTTYPE=image/jpeg:https://www.wcsu.edu/events/wp-content/uploads/sites/181/2025/02/Womens-History-Month_500x300.jpg
END:VEVENT
BEGIN:VEVENT
DTSTART;TZID=America/New_York:20250326T100000
DTEND;TZID=America/New_York:20250326T120000
DTSTAMP:20260423T075337
CREATED:20250228T160130Z
LAST-MODIFIED:20250228T160130Z
UID:10071010-1742983200-1742990400@www.wcsu.edu
SUMMARY:Safe Zone Training (for Students)
DESCRIPTION:SAFE ZONE TRAINING FOR STUDENTS: Safe Zone Trainings are opportunities to learn about LGBTQ+ identities\, gender\, and sexuality and examine prejudice\, assumptions\, and privilege. This training will be held in person from 10 a.m. to noon at the Pride Center\, Midtown Student Center\, Room 218. \nTo RSVP\, please email the Pride Center Coordinator at pridecenter@wcsu.edu \n 
URL:https://www.wcsu.edu/events/calendar/safe-zone-training-for-students-2/
LOCATION:WCSU Pride Center
CATEGORIES:Diversity,Training
ATTACH;FMTTYPE=image/jpeg:https://www.wcsu.edu/events/wp-content/uploads/sites/181/2024/05/Pride-flag_500x300.jpg
END:VEVENT
BEGIN:VEVENT
DTSTART;TZID=America/New_York:20250326T120000
DTEND;TZID=America/New_York:20250326T140000
DTSTAMP:20260423T075337
CREATED:20250303T202429Z
LAST-MODIFIED:20250303T202429Z
UID:10071027-1742990400-1742997600@www.wcsu.edu
SUMMARY:Women's History Month Tabling with the ICA Office
DESCRIPTION:WOMEN’S HISTORY MONTH TABLING WITH THE ICA OFFICE: Celebrate Women’s History Month with the Intercultural Affairs Office! Stop by our table to learn about the remarkable contributions of women throughout history\, engage in interactive activities\, and discover ways to support and uplift women in our community. Grab some resources\, test your knowledge\, learn about upcoming events and win a prize. Everyone is welcome to participate! From noon to 2 p.m. in Berkshire Hall on the Midtown campus.
URL:https://www.wcsu.edu/events/calendar/womens-history-month-tabling-with-the-ica-office-3/
LOCATION:Berkshire Hall\, 181 White St.\, Danbury\, CT
CATEGORIES:Diversity,Information Session,Social Event
ATTACH;FMTTYPE=image/jpeg:https://www.wcsu.edu/events/wp-content/uploads/sites/181/2025/02/Womens-History-Month_500x300.jpg
ORGANIZER;CN="Office of InterCultural Affairs":MAILTO:dennisd@wcsu.edu
END:VEVENT
BEGIN:VEVENT
DTSTART;TZID=America/New_York:20250331T190000
DTEND;TZID=America/New_York:20250331T203000
DTSTAMP:20260423T075337
CREATED:20250128T172741Z
LAST-MODIFIED:20250128T172741Z
UID:10070855-1743447600-1743453000@www.wcsu.edu
SUMMARY:Martín Espada\, "Jailbreak of Sparrows" Debut Reading
DESCRIPTION:MARTIN ESPADA\, “JAILBREAK OF SPARROWS” DEBUT READING: National Book Award-winning poet Martín Espada will give the debut reading from his new book of poems\, “Jailbreak of Sparrows” at 7 p.m. in Room 218 of the Classroom Building on the Westside campus. A book signing will follow. \nAs a poet\, essayist\, translator\, editor\, and attorney\, Martín Espada has dedicated much of his career to the pursuit of social justice\, including fighting for human rights and reclaiming the historical record. His critically acclaimed collections of poetry celebrate — and lament — the working class experience\, and\, whether narrating the struggles of immigrants as they adjust to life in the United States or chronicling the battles that Latin Americans have waged against their own repressive governments\, Espada has given voice to otherness\, powerlessness\, and poverty in poetry that is Whitmanesque in scope and has been recognized with the National Book Award\, the $100\,000 Ruth Lilly Award\, and the American Book Award\, among many others. He is a Professor of English at the University of Massachusetts. \nFree and open to the public.
URL:https://www.wcsu.edu/events/calendar/martin-espada-jailbreak-of-sparrows-debut-reading/
LOCATION:President’s Reception Room\, Westside Classroom Building 218\, 43 Lake Ave. Extension\, Danbury\, CT
CATEGORIES:Discussion,Reading,Speaker,WOW
ATTACH;FMTTYPE=image/png:https://www.wcsu.edu/events/wp-content/uploads/sites/181/2025/01/Kathwari-Spring-Seminars-2025.png
ORGANIZER;CN="Kathwari Honors Program":MAILTO:honors@wcsu.edu
END:VEVENT
BEGIN:VEVENT
DTSTART;TZID=America/New_York:20250331T190000
DTEND;TZID=America/New_York:20250331T210000
DTSTAMP:20260423T075337
CREATED:20250325T183547Z
LAST-MODIFIED:20250402T160702Z
UID:10071093-1743447600-1743454800@www.wcsu.edu
SUMMARY:National Immigrant Solidarity Screening and Rally
DESCRIPTION:NATIONAL IMMIGRANT SOLIDARITY SCREENING AND RALLY: The Office of Diversity\, Equity\, & Inclusion and the UndocuAlly Task Force is promoting this virtual event. \nA National Immigrant Solidarity Rally will be virtual from 7 to 9 p.m. on Monday\, March 31. The event will gather filmmakers\, immigration rights leaders\, students\, and concerned community members from across the country to share experiences\, strategies\, and resources to inspire solidarity and action. \nThe Rally will be accessible to both English and Spanish speakers. To participate\, go to https://us02web.zoom.us/webinar/register/WN_p__InhCuTeehbQsFrx0y5w?_gl=1*yoawht*_gcl_au*MTMwNTMxMTk1Ny4xNzM2MjcwMTE0*_ga*NTIxMDA5MDI1LjE2OTM0OTc5ODg.*_ga_L8TBF28DDX*MTczODg1NjI3OS40LjEuMTczODg1NjU0Mi4wLjAuMA..#/registration. \nThe rally will also make BORDERLAND | The Line Within\, FREE to watch online the weekend before the rally. \nCopy and paste the following link to access BORDERLAND for free anytime between March 29 at 9 a.m. ET- March 31 at 7 p.m. ET: https://linktr.ee/skylightpix
URL:https://www.wcsu.edu/events/calendar/national-immigrant-solidarity-screening-and-rally/
LOCATION:Virtual
CATEGORIES:Affiliated Event,Diversity,Information Session,Virtual event,Webinar
ATTACH;FMTTYPE=image/jpeg:https://www.wcsu.edu/events/wp-content/uploads/sites/181/2025/03/Virtual-Event-500x300-no-shield.jpg
ORGANIZER;CN="WCSU UndocuAlly Task Force":MAILTO:bandhauerc@wcsu.edu
END:VEVENT
END:VCALENDAR