BEGIN:VCALENDAR
VERSION:2.0
PRODID:-//WCSU Events - ECPv6.15.17.1//NONSGML v1.0//EN
CALSCALE:GREGORIAN
METHOD:PUBLISH
X-ORIGINAL-URL:https://www.wcsu.edu/events
X-WR-CALDESC:Events for WCSU Events
REFRESH-INTERVAL;VALUE=DURATION:PT1H
X-Robots-Tag:noindex
X-PUBLISHED-TTL:PT1H
BEGIN:VTIMEZONE
TZID:America/New_York
BEGIN:DAYLIGHT
TZOFFSETFROM:-0500
TZOFFSETTO:-0400
TZNAME:EDT
DTSTART:20240310T070000
END:DAYLIGHT
BEGIN:STANDARD
TZOFFSETFROM:-0400
TZOFFSETTO:-0500
TZNAME:EST
DTSTART:20241103T060000
END:STANDARD
BEGIN:DAYLIGHT
TZOFFSETFROM:-0500
TZOFFSETTO:-0400
TZNAME:EDT
DTSTART:20250309T070000
END:DAYLIGHT
BEGIN:STANDARD
TZOFFSETFROM:-0400
TZOFFSETTO:-0500
TZNAME:EST
DTSTART:20251102T060000
END:STANDARD
BEGIN:DAYLIGHT
TZOFFSETFROM:-0500
TZOFFSETTO:-0400
TZNAME:EDT
DTSTART:20260308T070000
END:DAYLIGHT
BEGIN:STANDARD
TZOFFSETFROM:-0400
TZOFFSETTO:-0500
TZNAME:EST
DTSTART:20261101T060000
END:STANDARD
END:VTIMEZONE
BEGIN:VEVENT
DTSTART;TZID=America/New_York:20250401T200000
DTEND;TZID=America/New_York:20250401T220000
DTSTAMP:20260421T063054
CREATED:20250401T125937Z
LAST-MODIFIED:20250401T125937Z
UID:10071172-1743537600-1743544800@www.wcsu.edu
SUMMARY:Trivia Night with BSU and ICA
DESCRIPTION:TRIVIA NIGHT WITH BSU AND ICA: Join us to relax\, recharge\, and test your knowledge! Join us for a Women’s History Month Self-Care & Trivia Night from 8 to 10 p.m. in the Westside Campus Center North Ballroom. \n 
URL:https://www.wcsu.edu/events/calendar/trivia-night-with-bsu-and-ica/
LOCATION:Westside Campus Center North Ballroom\, 43 Lake Ave. Extension\, Danbury\, CT
CATEGORIES:Diversity
ATTACH;FMTTYPE=image/jpeg:https://www.wcsu.edu/events/wp-content/uploads/sites/181/2025/02/Womens-History-Month_500x300.jpg
END:VEVENT
BEGIN:VEVENT
DTSTART;TZID=America/New_York:20250409T170000
DTEND;TZID=America/New_York:20250409T183000
DTSTAMP:20260421T063054
CREATED:20250103T150033Z
LAST-MODIFIED:20250116T170438Z
UID:10070744-1744218000-1744223400@www.wcsu.edu
SUMMARY:Diversity\, Equity\, and Inclusion Listening Session
DESCRIPTION:DIVERSITY\, EQUITY\, AND INCLUSION LISTENING SESSION: Join us for this open forum for students to share their experiences at WestConn related to Diversity\, Equity\, and Inclusion. From 5 to 6:30 p.m. in Room 202 of the Student Center on the Midtown campus. RSVP at https://wcsutickets.regfox.com/dei-listening-session-april-9-2025
URL:https://www.wcsu.edu/events/calendar/diversity-equity-and-inclusion-listening-session/
LOCATION:Midtown Student Center 202\, 181 White St.\, Danbury\, CT
CATEGORIES:Diversity,Meeting
ATTACH;FMTTYPE=image/png:https://www.wcsu.edu/events/wp-content/uploads/sites/181/2023/10/11_9-Budgeting-for-Better-Health.png
END:VEVENT
BEGIN:VEVENT
DTSTART;TZID=America/New_York:20250416T140000
DTEND;TZID=America/New_York:20250416T153000
DTSTAMP:20260421T063054
CREATED:20250408T133244Z
LAST-MODIFIED:20250408T133244Z
UID:10071207-1744812000-1744817400@www.wcsu.edu
SUMMARY:"From Involvement to Impact: Centering Student Leadership in Institutional Transformation"
DESCRIPTION:FROM INVOLVEMENT TO IMPACT – CENTERTING STUDENT LEADERSHIP IN INSTITUTIONAL TRANSFORMATION: The Office of Diversity\, Equity\, and Inclusion is promoting this virtual event from HACU (Hispanic Association of Colleges and Universities). \nJoin us for a transformative webinar that delves into how meaningful student leadership and partnership can drive institutional transformation\, particularly at Hispanic-Serving Institutions (HSIs). We’ll spotlight Pasadena City College’s (PCC) Student Advisory Equipo—an innovative\, compensated council under the Title V HSI grant that positions students as co-leaders in shaping campus policies and initiatives. A key focus of this session will be cross-cultural collaboration\, highlighted by the partnership between the Student Advisory Equipo and BLACC (Black Lancer Advisory Collaborative Council)\, illustrating a powerful model for shared governance and equity-focused change. Additionally\, we will explore PACTS (Pedagogical Advancement Through Collaboration of Teachers and Students)\, a dynamic faculty-student initiative that seamlessly integrates student voices into instructional strategies and curriculum development\, reshaping teaching practices and student support. \nThis virtual event is from 2 to 3:30 p.m. Register at https://us02web.zoom.us/webinar/register/WN_LdZkeAZYTAeTBHauzgqwtw#/registration
URL:https://www.wcsu.edu/events/calendar/from-involvement-to-impact-centering-student-leadership-in-institutional-transformation/
LOCATION:Virtual
CATEGORIES:Affiliated Event,Diversity,Virtual event,Webinar
ATTACH;FMTTYPE=image/jpeg:https://www.wcsu.edu/events/wp-content/uploads/sites/181/2025/03/Virtual-Event-500x300-no-shield.jpg
END:VEVENT
BEGIN:VEVENT
DTSTART;TZID=America/New_York:20250417T140000
DTEND;TZID=America/New_York:20250417T153000
DTSTAMP:20260421T063054
CREATED:20250408T133029Z
LAST-MODIFIED:20250408T133029Z
UID:10071208-1744898400-1744903800@www.wcsu.edu
SUMMARY:Hispanic-Serving Borderland Institutions: Best Teaching\, Mentoring\, and Learning Practices
DESCRIPTION:HISPANIC-SERVING BORDERLAND INSTITUTIONS – BEST TEACHING\, MENTORING\, AND LEARNING PRACTICES: The Office of Diversity\, Equity\, and Inclusion is promoting this virtual event from HACU (Hispanic Association of Colleges and Universities) \nEquity at Minority Serving Institutions should strive to provide multiple opportunities and contribute to the mission of student success for underserved populations. New Mexico State University and Dona Ana Community College are implementing innovative interventions to achieve student success in higher education. The focus on mentoring\, teaching and learning practices to accomplish student engagement and success and highlight learning what successful practices can be replicated in other similar academic settings and promoting asset-based approaches among departments and programs at Hispanic-Serving Institutions (HSIs). \nThis virtual event is from 2 to 3:30 p.m. Register at https://us02web.zoom.us/webinar/register/WN_WRAxcuocSpS7uTpz6hh3lg#/registration
URL:https://www.wcsu.edu/events/calendar/hispanic-serving-borderland-institutions-best-teaching-mentoring-and-learning-practices/
LOCATION:Virtual
CATEGORIES:Affiliated Event,Diversity,Information Session,Virtual event,Webinar
ATTACH;FMTTYPE=image/jpeg:https://www.wcsu.edu/events/wp-content/uploads/sites/181/2025/03/Virtual-Event-500x300-no-shield.jpg
END:VEVENT
END:VCALENDAR