BEGIN:VCALENDAR
VERSION:2.0
PRODID:-//WCSU Events - ECPv6.15.17.1//NONSGML v1.0//EN
CALSCALE:GREGORIAN
METHOD:PUBLISH
X-ORIGINAL-URL:https://www.wcsu.edu/events
X-WR-CALDESC:Events for WCSU Events
REFRESH-INTERVAL;VALUE=DURATION:PT1H
X-Robots-Tag:noindex
X-PUBLISHED-TTL:PT1H
BEGIN:VTIMEZONE
TZID:America/New_York
BEGIN:DAYLIGHT
TZOFFSETFROM:-0500
TZOFFSETTO:-0400
TZNAME:EDT
DTSTART:20240310T070000
END:DAYLIGHT
BEGIN:STANDARD
TZOFFSETFROM:-0400
TZOFFSETTO:-0500
TZNAME:EST
DTSTART:20241103T060000
END:STANDARD
BEGIN:DAYLIGHT
TZOFFSETFROM:-0500
TZOFFSETTO:-0400
TZNAME:EDT
DTSTART:20250309T070000
END:DAYLIGHT
BEGIN:STANDARD
TZOFFSETFROM:-0400
TZOFFSETTO:-0500
TZNAME:EST
DTSTART:20251102T060000
END:STANDARD
BEGIN:DAYLIGHT
TZOFFSETFROM:-0500
TZOFFSETTO:-0400
TZNAME:EDT
DTSTART:20260308T070000
END:DAYLIGHT
BEGIN:STANDARD
TZOFFSETFROM:-0400
TZOFFSETTO:-0500
TZNAME:EST
DTSTART:20261101T060000
END:STANDARD
END:VTIMEZONE
BEGIN:VEVENT
DTSTART;TZID=America/New_York:20251119T160000
DTEND;TZID=America/New_York:20251119T173000
DTSTAMP:20260419T234231
CREATED:20251022T200858Z
LAST-MODIFIED:20251110T194652Z
UID:10072262-1763568000-1763573400@www.wcsu.edu
SUMMARY:Promoting Peace Within 2.0
DESCRIPTION:PROMOTING PEACE WITHIN 2.0:  The Institute for Holistic Health Studies\, along with the Office of Diversity\, Inclusion\, & Equality and the International Student Exchange program\, will present “Promoting Peace Within 2.0\,” an event that celebrates our common pursuit of tranquility in our hearts\, minds\, and spirits. Individually and/or in groups\, we all seek serenity and calm in our hearts while living in this hectic and unpredictable world.  We come from different cultures or traditions with their own practices or modalities to create inner stillness\, but we all seek the same inner peace. \nPromoting Peace Within 2.0 is a gathering of campus organizations\, each sharing cultural traditions and practices for creating stillness within. We will share our techniques and traditions and celebrate our connections to one another — our community.   Light refreshments will be served.  This event will be held in the Haas Library on the Midtown campus  from 4 – 5:30 p.m. \nCome and share your traditions and practices with us and discover that we all journey to the same destination — we just take different paths to get there. \nAll  are welcome. For additional information\, contact Christel Autuori\, Director\, IHHS\, at autuoric@wcsu.edu
URL:https://www.wcsu.edu/events/calendar/promoting-peace-within-2-0/
LOCATION:Ruth Haas Library\, 181 White St.\, Danbury\, CT
CATEGORIES:Health And Wellness
ATTACH;FMTTYPE=image/jpeg:https://www.wcsu.edu/events/wp-content/uploads/sites/181/2025/10/thumbnail_Promoting-Peace-Within-2.0.jpg
ORGANIZER;CN="Institute for Holistic Health Studies (IHHS)":MAILTO:autuoric@wcsu.edu
END:VEVENT
BEGIN:VEVENT
DTSTART;TZID=America/New_York:20251119T183000
DTEND;TZID=America/New_York:20251119T200000
DTSTAMP:20260419T234231
CREATED:20251022T140649Z
LAST-MODIFIED:20251022T140717Z
UID:10072249-1763577000-1763582400@www.wcsu.edu
SUMMARY:Native Americans and the Constitution
DESCRIPTION:NATIVE AMERICANS AND THE CONSTITUTION: The Office of Diversity\, Equity\, and Inclusion is promoting this virtual event hosted by the National Constitution Center for Native American Heritage Month. \nIn this session\, attendees will delve into the comprehensive historical context of Native American history\, examining its constitutional implications and their significance. Join us as scholar Gregory Ablavsky dives into stories about Native Americans and their contributions to U.S. constitutional history. Ginnie Holloway\, a member of the Center’s Teacher Advisory Board\, will lead the practical integration of these vital narratives into educational curricula and instruction. \nThis virtual event will be from 6:30 to 8 p.m. Register to attend at https://constitutioncenter.org/calendar/native-americans-and-the-constitution
URL:https://www.wcsu.edu/events/calendar/native-americans-and-the-constitution/
LOCATION:Virtual
CATEGORIES:Affiliated Event,Information Session,Public Events,Virtual event,Webinar
ATTACH;FMTTYPE=image/jpeg:https://www.wcsu.edu/events/wp-content/uploads/sites/181/2025/03/Virtual-Event-500x300-no-shield.jpg
END:VEVENT
END:VCALENDAR