BEGIN:VCALENDAR
VERSION:2.0
PRODID:-//WCSU Events - ECPv6.15.17.1//NONSGML v1.0//EN
CALSCALE:GREGORIAN
METHOD:PUBLISH
X-WR-CALNAME:WCSU Events
X-ORIGINAL-URL:https://www.wcsu.edu/events
X-WR-CALDESC:Events for WCSU Events
REFRESH-INTERVAL;VALUE=DURATION:PT1H
X-Robots-Tag:noindex
X-PUBLISHED-TTL:PT1H
BEGIN:VTIMEZONE
TZID:UTC
BEGIN:STANDARD
TZOFFSETFROM:+0000
TZOFFSETTO:+0000
TZNAME:UTC
DTSTART:20210101T000000
END:STANDARD
END:VTIMEZONE
BEGIN:VEVENT
DTSTART;TZID=UTC:20220901T160000
DTEND;TZID=UTC:20220901T180000
DTSTAMP:20260422T215852
CREATED:20220815T191426Z
LAST-MODIFIED:20220818T165909Z
UID:10062661-1662048000-1662055200@www.wcsu.edu
SUMMARY:Field Hockey
DESCRIPTION:FIELD HOCKEY: Field Hockey vs. Manhattanville College at 4 p.m. at the Westside Athletic Complex. For more information\, visit https://westconnathletics.com/index.aspx.
URL:https://www.wcsu.edu/events/calendar/field-hockey-13/
LOCATION:Westside Athletic Complex\, 43 Lake Ave. Extension\, Danbury\, CT
CATEGORIES:Athletics
ATTACH;FMTTYPE=image/jpeg:https://www.wcsu.edu/events/wp-content/uploads/sites/181/2022/08/WCSU-FH-9-1-22-e1660827524631.jpg
END:VEVENT
BEGIN:VEVENT
DTSTART;TZID=UTC:20220910T120000
DTEND;TZID=UTC:20220910T140000
DTSTAMP:20260422T215852
CREATED:20220815T192145Z
LAST-MODIFIED:20220908T180854Z
UID:10062666-1662811200-1662818400@www.wcsu.edu
SUMMARY:Field Hockey
DESCRIPTION:FIELD HOCKEY: Field Hockey vs. Westfield State at noon at the Westside Athletic Complex. For more information\, visit https://westconnathletics.com/index.aspx.
URL:https://www.wcsu.edu/events/calendar/field-hockey-14/
LOCATION:Westside Athletic Complex\, 43 Lake Ave. Extension\, Danbury\, CT
CATEGORIES:Athletics
ATTACH;FMTTYPE=image/jpeg:https://www.wcsu.edu/events/wp-content/uploads/sites/181/2022/08/Field-Hockey-9-10-e1662646113958.jpg
END:VEVENT
BEGIN:VEVENT
DTSTART;TZID=UTC:20220914T160000
DTEND;TZID=UTC:20220914T180000
DTSTAMP:20260422T215852
CREATED:20220815T192927Z
LAST-MODIFIED:20220907T223233Z
UID:10060401-1663171200-1663178400@www.wcsu.edu
SUMMARY:Field Hockey
DESCRIPTION:FIELD HOCKEY: Field Hockey vs. Ramapo College at 4 p.m. at the Westside Athletic Complex. For more information\, visit https://westconnathletics.com/index.aspx.
URL:https://www.wcsu.edu/events/calendar/field-hockey-15/
LOCATION:Westside Athletic Complex\, 43 Lake Ave. Extension\, Danbury\, CT
CATEGORIES:Athletics
ATTACH;FMTTYPE=image/jpeg:https://www.wcsu.edu/events/wp-content/uploads/sites/181/2022/08/field-hockey-9-14-22-e1662575536976.jpg
END:VEVENT
BEGIN:VEVENT
DTSTART;TZID=UTC:20220921T180000
DTEND;TZID=UTC:20220921T200000
DTSTAMP:20260422T215852
CREATED:20220815T193623Z
LAST-MODIFIED:20220921T235721Z
UID:10062669-1663783200-1663790400@www.wcsu.edu
SUMMARY:Field Hockey
DESCRIPTION:FIELD HOCKEY: Field Hockey vs. Elms College (MA) at 6 p.m. at the Westside Athletic Complex. For more information\, visit https://westconnathletics.com/index.aspx.
URL:https://www.wcsu.edu/events/calendar/field-hockey-16/
LOCATION:Westside Athletic Complex\, 43 Lake Ave. Extension\, Danbury\, CT
CATEGORIES:Athletics
ATTACH;FMTTYPE=image/jpeg:https://www.wcsu.edu/events/wp-content/uploads/sites/181/2022/08/field-hockey-9-21-22-e1663790224280.jpg
END:VEVENT
BEGIN:VEVENT
DTSTART;TZID=UTC:20220924T130000
DTEND;TZID=UTC:20220924T150000
DTSTAMP:20260422T215852
CREATED:20220815T194030Z
LAST-MODIFIED:20220922T181605Z
UID:10062674-1664024400-1664031600@www.wcsu.edu
SUMMARY:Field Hockey
DESCRIPTION:FIELD HOCKEY: Field Hockey vs. Keene State College (NH) at 1 p.m. at the Westside Athletic Complex. For more information\, visit https://westconnathletics.com/index.aspx.
URL:https://www.wcsu.edu/events/calendar/field-hockey-17/
LOCATION:Westside Athletic Complex\, 43 Lake Ave. Extension\, Danbury\, CT
CATEGORIES:Athletics
ATTACH;FMTTYPE=image/jpeg:https://www.wcsu.edu/events/wp-content/uploads/sites/181/2022/08/Field-Hockey-9-24-22-e1663856151465.jpg
END:VEVENT
BEGIN:VEVENT
DTSTART;TZID=UTC:20220927T180000
DTEND;TZID=UTC:20220927T200000
DTSTAMP:20260422T215852
CREATED:20220815T190930Z
LAST-MODIFIED:20220922T225055Z
UID:10062678-1664301600-1664308800@www.wcsu.edu
SUMMARY:Field Hockey
DESCRIPTION:FIELD HOCKEY: Field Hockey vs. Framingham State University (MA) at 6 p.m. at the Westside Athletic Complex. For more information\, visit https://westconnathletics.com/index.aspx.
URL:https://www.wcsu.edu/events/calendar/field-hockey-12/
LOCATION:Westside Athletic Complex\, 43 Lake Ave. Extension\, Danbury\, CT
CATEGORIES:Athletics
ATTACH;FMTTYPE=image/jpeg:https://www.wcsu.edu/events/wp-content/uploads/sites/181/2022/08/Field-Hockey-9-27-22-e1663872586131.jpg
END:VEVENT
END:VCALENDAR