BEGIN:VCALENDAR
VERSION:2.0
PRODID:-//WCSU Events - ECPv6.15.17.1//NONSGML v1.0//EN
CALSCALE:GREGORIAN
METHOD:PUBLISH
X-WR-CALNAME:WCSU Events
X-ORIGINAL-URL:https://www.wcsu.edu/events
X-WR-CALDESC:Events for WCSU Events
REFRESH-INTERVAL;VALUE=DURATION:PT1H
X-Robots-Tag:noindex
X-PUBLISHED-TTL:PT1H
BEGIN:VTIMEZONE
TZID:America/New_York
BEGIN:DAYLIGHT
TZOFFSETFROM:-0500
TZOFFSETTO:-0400
TZNAME:EDT
DTSTART:20250309T070000
END:DAYLIGHT
BEGIN:STANDARD
TZOFFSETFROM:-0400
TZOFFSETTO:-0500
TZNAME:EST
DTSTART:20251102T060000
END:STANDARD
BEGIN:DAYLIGHT
TZOFFSETFROM:-0500
TZOFFSETTO:-0400
TZNAME:EDT
DTSTART:20260308T070000
END:DAYLIGHT
BEGIN:STANDARD
TZOFFSETFROM:-0400
TZOFFSETTO:-0500
TZNAME:EST
DTSTART:20261101T060000
END:STANDARD
BEGIN:DAYLIGHT
TZOFFSETFROM:-0500
TZOFFSETTO:-0400
TZNAME:EDT
DTSTART:20270314T070000
END:DAYLIGHT
BEGIN:STANDARD
TZOFFSETFROM:-0400
TZOFFSETTO:-0500
TZNAME:EST
DTSTART:20271107T060000
END:STANDARD
END:VTIMEZONE
BEGIN:VEVENT
DTSTART;TZID=America/New_York:20260429T113000
DTEND;TZID=America/New_York:20260429T160000
DTSTAMP:20260419T135940
CREATED:20260312T163903Z
LAST-MODIFIED:20260416T194444Z
UID:10074460-1777462200-1777478400@www.wcsu.edu
SUMMARY:WestConn Cultural Food Truck Fest
DESCRIPTION:WESTCONN CULTURAL FOOD TRUCK FEST: The WestConn Cultural Food Truck Fest from 11:30 a.m. to 4 p.m. on the Midtown Rec Field near the Science Building will be a celebration of culture\, community\, and amazing food. \nFood trucks from El Taco Loco\, Don Empanadas\, Wild Sips\, and Wheel of Fortune will be parked adjacent to the Rec Field. Students who show up and register will receive a food voucher for use at one of the trucks — vouchers are limited. \nThere will be crafts\, games\, activities and more. This is a great opportunity to share culture\, connect with the campus community\, and make the event unforgettable
URL:https://www.wcsu.edu/events/calendar/westconn-cultural-food-truck-fest/
LOCATION:Midtown REC Field\, 181 White St.\, Danbury\, CT
CATEGORIES:Diversity,Food,Outdoor,Social Event,WOW
ATTACH;FMTTYPE=image/jpeg:https://www.wcsu.edu/events/wp-content/uploads/sites/181/2022/08/SB-REC-Field.jpg
END:VEVENT
END:VCALENDAR