BEGIN:VCALENDAR
VERSION:2.0
PRODID:-//WCSU Events - ECPv6.15.17.1//NONSGML v1.0//EN
CALSCALE:GREGORIAN
METHOD:PUBLISH
X-WR-CALNAME:WCSU Events
X-ORIGINAL-URL:https://www.wcsu.edu/events
X-WR-CALDESC:Events for WCSU Events
REFRESH-INTERVAL;VALUE=DURATION:PT1H
X-Robots-Tag:noindex
X-PUBLISHED-TTL:PT1H
BEGIN:VTIMEZONE
TZID:America/New_York
BEGIN:DAYLIGHT
TZOFFSETFROM:-0500
TZOFFSETTO:-0400
TZNAME:EDT
DTSTART:20240310T070000
END:DAYLIGHT
BEGIN:STANDARD
TZOFFSETFROM:-0400
TZOFFSETTO:-0500
TZNAME:EST
DTSTART:20241103T060000
END:STANDARD
BEGIN:DAYLIGHT
TZOFFSETFROM:-0500
TZOFFSETTO:-0400
TZNAME:EDT
DTSTART:20250309T070000
END:DAYLIGHT
BEGIN:STANDARD
TZOFFSETFROM:-0400
TZOFFSETTO:-0500
TZNAME:EST
DTSTART:20251102T060000
END:STANDARD
BEGIN:DAYLIGHT
TZOFFSETFROM:-0500
TZOFFSETTO:-0400
TZNAME:EDT
DTSTART:20260308T070000
END:DAYLIGHT
BEGIN:STANDARD
TZOFFSETFROM:-0400
TZOFFSETTO:-0500
TZNAME:EST
DTSTART:20261101T060000
END:STANDARD
END:VTIMEZONE
BEGIN:VEVENT
DTSTART;TZID=America/New_York:20250418T160000
DTEND;TZID=America/New_York:20250418T200000
DTSTAMP:20260419T215632
CREATED:20250408T132803Z
LAST-MODIFIED:20250408T132803Z
UID:10071201-1744992000-1745006400@www.wcsu.edu
SUMMARY:Now Boarding: North America
DESCRIPTION:NOW BOARDING – NORTH AMERICA: Join us from 4 to 8 p.m. for dinner at Berkshire Hall on the Midtown campus and at the Westside Campus Center Restaurant as we wrap up our global food tour with the bold and comforting Flavors of North America! Enjoy Ginger Ponzu Salmon Poke\, Poutine\, and Red Velvet Whoopie Pie.
URL:https://www.wcsu.edu/events/calendar/now-boarding-north-america/
LOCATION:Berkshire Hall and Westside Campus Center Dining\, Danbury\, CT
CATEGORIES:Food
ATTACH;FMTTYPE=image/jpeg:https://www.wcsu.edu/events/wp-content/uploads/sites/181/2025/01/Berkshire-Dining-with-students_500x300.jpg
ORGANIZER;CN="Sodexo":MAILTO:Donald.Grayson@Sodexo.com
END:VEVENT
END:VCALENDAR