BEGIN:VCALENDAR
VERSION:2.0
PRODID:-//WCSU Events - ECPv6.15.17.1//NONSGML v1.0//EN
CALSCALE:GREGORIAN
METHOD:PUBLISH
X-WR-CALNAME:WCSU Events
X-ORIGINAL-URL:https://www.wcsu.edu/events
X-WR-CALDESC:Events for WCSU Events
REFRESH-INTERVAL;VALUE=DURATION:PT1H
X-Robots-Tag:noindex
X-PUBLISHED-TTL:PT1H
BEGIN:VTIMEZONE
TZID:UTC
BEGIN:STANDARD
TZOFFSETFROM:+0000
TZOFFSETTO:+0000
TZNAME:UTC
DTSTART:20210101T000000
END:STANDARD
END:VTIMEZONE
BEGIN:VEVENT
DTSTART;TZID=UTC:20221027T190000
DTEND;TZID=UTC:20221027T213000
DTSTAMP:20260425T070522
CREATED:20221021T165222Z
LAST-MODIFIED:20221021T165222Z
UID:10061403-1666897200-1666906200@www.wcsu.edu
SUMMARY:Halloween Party
DESCRIPTION:HALLOWEEN PARTY: It’s Spooky Season! Come celebrate Halloween with us at 7 p.m. in the Midtown Student Center Room 202! There will be food\, music\, prizes\, Kahoot\, and games! Costumes are highly encouraged! We hope to see you there! Thank you to SGA for funding this event!
URL:https://www.wcsu.edu/events/calendar/halloween-party-2/
LOCATION:Midtown Student Center 202\, 181 White St.\, Danbury\, CT
CATEGORIES:Food,Games,Music,Social Event,WOW
ATTACH;FMTTYPE=image/png:https://www.wcsu.edu/events/wp-content/uploads/sites/181/2022/10/Screen-Shot-2022-10-20-at-3.56.37-PM.png
END:VEVENT
BEGIN:VEVENT
DTSTART;TZID=UTC:20221028T180000
DTEND;TZID=UTC:20221028T220000
DTSTAMP:20260425T070522
CREATED:20221021T235030Z
LAST-MODIFIED:20221021T235030Z
UID:10061413-1666980000-1666994400@www.wcsu.edu
SUMMARY:Go Werewolves Halloween Party
DESCRIPTION:GO WEREWOLVES HALLOWEEN PARTY: Come creep your way into the Commuter Student Organization’s Go Werewolves Halloween Party … if you dare! There will be freaky food\, mystifying music\, ghoulish games\, paranormal prizes\, and more! Come to the event in your costume\, and enter the Halloween costume contest! The first place prize is a $50 Amazon gift card! Face your fears and come join us for a night to remember! From 6 to 10 p.m. in the Wolves Den in the Midtown Student Center.
URL:https://www.wcsu.edu/events/calendar/go-werewolves-halloween-party/
LOCATION:Wolves Den (MT Student Center\, lower level)\, 181 White St.\, Danbury\, CT
CATEGORIES:Contest,Dance,Food,Social Event
ATTACH;FMTTYPE=image/png:https://www.wcsu.edu/events/wp-content/uploads/sites/181/2022/10/Commuter-Student-Organization-Go-Werewolves-Halloween-Party-Flyer-e1666381383910.png
END:VEVENT
END:VCALENDAR