BEGIN:VCALENDAR
VERSION:2.0
PRODID:-//WCSU Events - ECPv6.15.17.1//NONSGML v1.0//EN
CALSCALE:GREGORIAN
METHOD:PUBLISH
X-ORIGINAL-URL:https://www.wcsu.edu/events
X-WR-CALDESC:Events for WCSU Events
REFRESH-INTERVAL;VALUE=DURATION:PT1H
X-Robots-Tag:noindex
X-PUBLISHED-TTL:PT1H
BEGIN:VTIMEZONE
TZID:America/New_York
BEGIN:DAYLIGHT
TZOFFSETFROM:-0500
TZOFFSETTO:-0400
TZNAME:EDT
DTSTART:20220313T070000
END:DAYLIGHT
BEGIN:STANDARD
TZOFFSETFROM:-0400
TZOFFSETTO:-0500
TZNAME:EST
DTSTART:20221106T060000
END:STANDARD
BEGIN:DAYLIGHT
TZOFFSETFROM:-0500
TZOFFSETTO:-0400
TZNAME:EDT
DTSTART:20230312T070000
END:DAYLIGHT
BEGIN:STANDARD
TZOFFSETFROM:-0400
TZOFFSETTO:-0500
TZNAME:EST
DTSTART:20231105T060000
END:STANDARD
BEGIN:DAYLIGHT
TZOFFSETFROM:-0500
TZOFFSETTO:-0400
TZNAME:EDT
DTSTART:20240310T070000
END:DAYLIGHT
BEGIN:STANDARD
TZOFFSETFROM:-0400
TZOFFSETTO:-0500
TZNAME:EST
DTSTART:20241103T060000
END:STANDARD
END:VTIMEZONE
BEGIN:VEVENT
DTSTART;TZID=America/New_York:20231122T080000
DTEND;TZID=America/New_York:20231122T170000
DTSTAMP:20260421T193928
CREATED:20231016T151527Z
LAST-MODIFIED:20231016T151527Z
UID:10064069-1700640000-1700672400@www.wcsu.edu
SUMMARY:Thanksgiving Recess
DESCRIPTION:THANKSGIVING RECESS: No classes; the university is open.
URL:https://www.wcsu.edu/events/calendar/thanksgiving-recess-3/
CATEGORIES:Holiday
END:VEVENT
BEGIN:VEVENT
DTSTART;VALUE=DATE:20231123
DTEND;VALUE=DATE:20231124
DTSTAMP:20260421T193928
CREATED:20231117T200554Z
LAST-MODIFIED:20231117T200554Z
UID:10064192-1700697600-1700783999@www.wcsu.edu
SUMMARY:Thanksgiving Recess
DESCRIPTION:THANKSGIVING RECESS: No classes; the university is closed.
URL:https://www.wcsu.edu/events/calendar/thanksgiving-recess/2023-11-23/
CATEGORIES:Holiday
END:VEVENT
BEGIN:VEVENT
DTSTART;VALUE=DATE:20231124
DTEND;VALUE=DATE:20231125
DTSTAMP:20260421T193928
CREATED:20231117T200554Z
LAST-MODIFIED:20231117T200554Z
UID:10064193-1700784000-1700870399@www.wcsu.edu
SUMMARY:Thanksgiving Recess
DESCRIPTION:THANKSGIVING RECESS: No classes; the university is closed.
URL:https://www.wcsu.edu/events/calendar/thanksgiving-recess/2023-11-24/
CATEGORIES:Holiday
END:VEVENT
BEGIN:VEVENT
DTSTART;VALUE=DATE:20231125
DTEND;VALUE=DATE:20231126
DTSTAMP:20260421T193928
CREATED:20231117T200554Z
LAST-MODIFIED:20231117T200554Z
UID:10064194-1700870400-1700956799@www.wcsu.edu
SUMMARY:Thanksgiving Recess
DESCRIPTION:THANKSGIVING RECESS: No classes; the university is closed.
URL:https://www.wcsu.edu/events/calendar/thanksgiving-recess/2023-11-25/
CATEGORIES:Holiday
END:VEVENT
BEGIN:VEVENT
DTSTART;VALUE=DATE:20231126
DTEND;VALUE=DATE:20231127
DTSTAMP:20260421T193928
CREATED:20231117T200554Z
LAST-MODIFIED:20231117T200554Z
UID:10064195-1700956800-1701043199@www.wcsu.edu
SUMMARY:Thanksgiving Recess
DESCRIPTION:THANKSGIVING RECESS: No classes; the university is closed.
URL:https://www.wcsu.edu/events/calendar/thanksgiving-recess/2023-11-26/
CATEGORIES:Holiday
END:VEVENT
BEGIN:VEVENT
DTSTART;TZID=America/New_York:20231128T160000
DTEND;TZID=America/New_York:20231128T173000
DTSTAMP:20260421T193928
CREATED:20231116T195621Z
LAST-MODIFIED:20231120T200011Z
UID:10064189-1701187200-1701192600@www.wcsu.edu
SUMMARY:Tree Lighting
DESCRIPTION:TREE LIGHTING: \nDay: Tuesday\, Nov. 28 \nTime: 4 – 5:30 p.m.  \nLocation: Science Building lawn\, Midtown campus \n  \nThere will be hot chocolate and cookies from Sodexo. \nHoliday grams from the University Singers. \nStuff-a-Cruiser for DCF Toys for Tots sponsored by the WCSU PD (bring an unwrapped gift). \nFree Wolves gloves sponsored by the Alumni Association. \n 
URL:https://www.wcsu.edu/events/calendar/tree-lighting/
LOCATION:Rec Field – Science Building Lawn\, 181 White St.\, Danbury\, CT
CATEGORIES:Social Event
ATTACH;FMTTYPE=image/jpeg:https://www.wcsu.edu/events/wp-content/uploads/sites/181/2023/11/tree-lighting4-002.jpg
END:VEVENT
END:VCALENDAR