BEGIN:VCALENDAR
VERSION:2.0
PRODID:-//WCSU Events - ECPv6.15.17.1//NONSGML v1.0//EN
CALSCALE:GREGORIAN
METHOD:PUBLISH
X-ORIGINAL-URL:https://www.wcsu.edu/events
X-WR-CALDESC:Events for WCSU Events
REFRESH-INTERVAL;VALUE=DURATION:PT1H
X-Robots-Tag:noindex
X-PUBLISHED-TTL:PT1H
BEGIN:VTIMEZONE
TZID:America/New_York
BEGIN:DAYLIGHT
TZOFFSETFROM:-0500
TZOFFSETTO:-0400
TZNAME:EDT
DTSTART:20250309T070000
END:DAYLIGHT
BEGIN:STANDARD
TZOFFSETFROM:-0400
TZOFFSETTO:-0500
TZNAME:EST
DTSTART:20251102T060000
END:STANDARD
BEGIN:DAYLIGHT
TZOFFSETFROM:-0500
TZOFFSETTO:-0400
TZNAME:EDT
DTSTART:20260308T070000
END:DAYLIGHT
BEGIN:STANDARD
TZOFFSETFROM:-0400
TZOFFSETTO:-0500
TZNAME:EST
DTSTART:20261101T060000
END:STANDARD
BEGIN:DAYLIGHT
TZOFFSETFROM:-0500
TZOFFSETTO:-0400
TZNAME:EDT
DTSTART:20270314T070000
END:DAYLIGHT
BEGIN:STANDARD
TZOFFSETFROM:-0400
TZOFFSETTO:-0500
TZNAME:EST
DTSTART:20271107T060000
END:STANDARD
END:VTIMEZONE
BEGIN:VEVENT
DTSTART;TZID=America/New_York:20260415T120000
DTEND;TZID=America/New_York:20260415T123000
DTSTAMP:20260419T124330
CREATED:20260414T144257Z
LAST-MODIFIED:20260414T144257Z
UID:10074565-1776254400-1776256200@www.wcsu.edu
SUMMARY:Laughter Yoga
DESCRIPTION:LAUGHTER YOGA: Who does not love to laugh? Children laugh all day long — adults not so much. Laughter Yoga was invented in the mid 1990s by Dr. Madan Kataria. Dr. Silvana Coza-Nokovic trained with him to be a laughter yoga therapist and she brings fun and laughter to us here at WestConn. Join us at noon in Room 114 of White Hall on the Midtown campus for 30 minutes of laughter and fun. Laughter improves our blood circulation\, our respiration rate\, and releases endorphins — the “feel good” hormones that counteract the stress hormones. No experience is necessary — just a desire to laugh with friends!
URL:https://www.wcsu.edu/events/calendar/laughter-yoga-2/
LOCATION:White Hall 114
CATEGORIES:Health And Wellness
ATTACH;FMTTYPE=image/jpeg:https://www.wcsu.edu/events/wp-content/uploads/sites/181/2025/10/IHHS_2-scaled.jpg
ORGANIZER;CN="Institute for Holistic Health Studies (IHHS)":MAILTO:autuoric@wcsu.edu
END:VEVENT
END:VCALENDAR