BEGIN:VCALENDAR
VERSION:2.0
PRODID:-//WCSU Events - ECPv6.15.17.1//NONSGML v1.0//EN
CALSCALE:GREGORIAN
METHOD:PUBLISH
X-WR-CALNAME:WCSU Events
X-ORIGINAL-URL:https://www.wcsu.edu/events
X-WR-CALDESC:Events for WCSU Events
REFRESH-INTERVAL;VALUE=DURATION:PT1H
X-Robots-Tag:noindex
X-PUBLISHED-TTL:PT1H
BEGIN:VTIMEZONE
TZID:America/New_York
BEGIN:DAYLIGHT
TZOFFSETFROM:-0500
TZOFFSETTO:-0400
TZNAME:EDT
DTSTART:20240310T070000
END:DAYLIGHT
BEGIN:STANDARD
TZOFFSETFROM:-0400
TZOFFSETTO:-0500
TZNAME:EST
DTSTART:20241103T060000
END:STANDARD
BEGIN:DAYLIGHT
TZOFFSETFROM:-0500
TZOFFSETTO:-0400
TZNAME:EDT
DTSTART:20250309T070000
END:DAYLIGHT
BEGIN:STANDARD
TZOFFSETFROM:-0400
TZOFFSETTO:-0500
TZNAME:EST
DTSTART:20251102T060000
END:STANDARD
BEGIN:DAYLIGHT
TZOFFSETFROM:-0500
TZOFFSETTO:-0400
TZNAME:EDT
DTSTART:20260308T070000
END:DAYLIGHT
BEGIN:STANDARD
TZOFFSETFROM:-0400
TZOFFSETTO:-0500
TZNAME:EST
DTSTART:20261101T060000
END:STANDARD
END:VTIMEZONE
BEGIN:VEVENT
DTSTART;TZID=America/New_York:20250212T120000
DTEND;TZID=America/New_York:20250212T140000
DTSTAMP:20260420T160522
CREATED:20250131T174514Z
LAST-MODIFIED:20250131T174514Z
UID:10070876-1739361600-1739368800@www.wcsu.edu
SUMMARY:Random Acts of Kindness Week - Mail a Letter to Someone Important
DESCRIPTION:RANDOM ACTS OF KINDNESS WEEK – MAIL A LETTER TO SOMEONE IMPORTANT: We’ll provide the paper\, envelope\, and stamp! Write a note to someone important to you and we’ll mail it to them. From noon to 2 p.m. in Berkshire Hall on the Midtown campus.
URL:https://www.wcsu.edu/events/calendar/random-acts-of-kindness-week-mail-a-letter-to-someone-important/
LOCATION:Berkshire Hall\, 181 White St.\, Danbury\, CT
CATEGORIES:Health And Wellness
ATTACH;FMTTYPE=image/jpeg:https://www.wcsu.edu/events/wp-content/uploads/sites/181/2023/10/Berkshire-10-18-23.jpg
ORGANIZER;CN="Student Affairs":MAILTO:diazv@wcsu.edu
END:VEVENT
END:VCALENDAR