BEGIN:VCALENDAR
VERSION:2.0
PRODID:-//WCSU Events - ECPv6.15.17.1//NONSGML v1.0//EN
CALSCALE:GREGORIAN
METHOD:PUBLISH
X-WR-CALNAME:WCSU Events
X-ORIGINAL-URL:https://www.wcsu.edu/events
X-WR-CALDESC:Events for WCSU Events
REFRESH-INTERVAL;VALUE=DURATION:PT1H
X-Robots-Tag:noindex
X-PUBLISHED-TTL:PT1H
BEGIN:VTIMEZONE
TZID:America/New_York
BEGIN:DAYLIGHT
TZOFFSETFROM:-0500
TZOFFSETTO:-0400
TZNAME:EDT
DTSTART:20220313T070000
END:DAYLIGHT
BEGIN:STANDARD
TZOFFSETFROM:-0400
TZOFFSETTO:-0500
TZNAME:EST
DTSTART:20221106T060000
END:STANDARD
BEGIN:DAYLIGHT
TZOFFSETFROM:-0500
TZOFFSETTO:-0400
TZNAME:EDT
DTSTART:20230312T070000
END:DAYLIGHT
BEGIN:STANDARD
TZOFFSETFROM:-0400
TZOFFSETTO:-0500
TZNAME:EST
DTSTART:20231105T060000
END:STANDARD
BEGIN:DAYLIGHT
TZOFFSETFROM:-0500
TZOFFSETTO:-0400
TZNAME:EDT
DTSTART:20240310T070000
END:DAYLIGHT
BEGIN:STANDARD
TZOFFSETFROM:-0400
TZOFFSETTO:-0500
TZNAME:EST
DTSTART:20241103T060000
END:STANDARD
END:VTIMEZONE
BEGIN:VEVENT
DTSTART;TZID=America/New_York:20230926T160000
DTEND;TZID=America/New_York:20230926T180000
DTSTAMP:20260425T113429
CREATED:20230919T132421Z
LAST-MODIFIED:20230925T171129Z
UID:10063930-1695744000-1695751200@www.wcsu.edu
SUMMARY:Mingle With Amigos
DESCRIPTION:MINGLE WITH AMIGOS: Come and have fun with your friends and meet new people! There will be free food\, games and music from 4 to 6 p.m. in the Midtown Student Center Game Room.
URL:https://www.wcsu.edu/events/calendar/mingle-with-amigos/
LOCATION:Midtown Student Center\, 181 White St.\, Danbury\, CT
ATTACH;FMTTYPE=image/jpeg:https://www.wcsu.edu/events/wp-content/uploads/sites/181/2023/09/9_26-Mingle-with-Migos.jpg
ORGANIZER;CN="LASO":MAILTO:sanchez264@wcsu.edu
END:VEVENT
BEGIN:VEVENT
DTSTART;TZID=America/New_York:20230928T103000
DTEND;TZID=America/New_York:20230928T150000
DTSTAMP:20260425T113429
CREATED:20230921T192113Z
LAST-MODIFIED:20230925T171359Z
UID:10063938-1695897000-1695913200@www.wcsu.edu
SUMMARY:Book Haunt
DESCRIPTION:BOOK HAUNT: Do you like to read? Do you like free books? \nIf so\, LASO and CSO are partnering to get free books to you! \nWe are going to be on the Westside campus from 10:30 a.m. to noon\, and on the Midtown campus from 1-3 p.m.\, putting books around. For you to get these books\,  you only need to follow our clues in our Instagram stories! \nDo you know WCSU enough to get the clues?
URL:https://www.wcsu.edu/events/calendar/book-haunt/
LOCATION:Midtown campus\, 181 White St.\, Danbury\, CT
CATEGORIES:Games
ATTACH;FMTTYPE=image/jpeg:https://www.wcsu.edu/events/wp-content/uploads/sites/181/2023/09/9_28-Book-Haunt.jpg
END:VEVENT
END:VCALENDAR