BEGIN:VCALENDAR
VERSION:2.0
PRODID:-//WCSU Events - ECPv6.15.17.1//NONSGML v1.0//EN
CALSCALE:GREGORIAN
METHOD:PUBLISH
X-WR-CALNAME:WCSU Events
X-ORIGINAL-URL:https://www.wcsu.edu/events
X-WR-CALDESC:Events for WCSU Events
REFRESH-INTERVAL;VALUE=DURATION:PT1H
X-Robots-Tag:noindex
X-PUBLISHED-TTL:PT1H
BEGIN:VTIMEZONE
TZID:America/New_York
BEGIN:DAYLIGHT
TZOFFSETFROM:-0500
TZOFFSETTO:-0400
TZNAME:EDT
DTSTART:20230312T070000
END:DAYLIGHT
BEGIN:STANDARD
TZOFFSETFROM:-0400
TZOFFSETTO:-0500
TZNAME:EST
DTSTART:20231105T060000
END:STANDARD
BEGIN:DAYLIGHT
TZOFFSETFROM:-0500
TZOFFSETTO:-0400
TZNAME:EDT
DTSTART:20240310T070000
END:DAYLIGHT
BEGIN:STANDARD
TZOFFSETFROM:-0400
TZOFFSETTO:-0500
TZNAME:EST
DTSTART:20241103T060000
END:STANDARD
BEGIN:DAYLIGHT
TZOFFSETFROM:-0500
TZOFFSETTO:-0400
TZNAME:EDT
DTSTART:20250309T070000
END:DAYLIGHT
BEGIN:STANDARD
TZOFFSETFROM:-0400
TZOFFSETTO:-0500
TZNAME:EST
DTSTART:20251102T060000
END:STANDARD
END:VTIMEZONE
BEGIN:VEVENT
DTSTART;TZID=America/New_York:20240403T110000
DTEND;TZID=America/New_York:20240403T120000
DTSTAMP:20260421T225749
CREATED:20240306T210500Z
LAST-MODIFIED:20240326T190225Z
UID:10065801-1712142000-1712145600@www.wcsu.edu
SUMMARY:MFA Visiting Artist Lecture - Eric Aho\, Painter
DESCRIPTION:WCSU M.F.A. VISITING ARTIST LECTURE WITH ERIC AHO\, PAINTER:\nWed\, April 3\, 2024\, 11 a.m. \nVisual & Performing Arts Center\, Room 144\, WCSU Westside campus\nFree & Open to the Public\, Limited Seating Available\nRSVP required. Reserve a spot here. \nEric Aho is a painter who lives and works in Saxtons River\, VT. He studied at the Central Saint Martins School of Art and Design in London and received a BFA from the Massachusetts College of Art in Boston. In 1989\, he participated in the first exchange of scholars in over thirty years between the U.S. and Cuba. He completed his graduate work at the Lahti Art Institute in Finland on a Fulbright Fellowship in 1991-92 and an American-Scandinavian Foundation grant in 1993. \nAho’s works have been exhibited widely in the U.S. and abroad. Currently represented by DC Moore Gallery in NYC\, he has had 7 solo exhibitions there from 2009 to 2022. He has also had several museum shows\, including the Aldrich Museum of Contemporary Art\, the Hood Museum of Art\, and Portland Art Museum. In 2016\, the New Britain Museum of American Art presented “Eric Aho: An Unfinished Point in a Vast Surrounding\,” which comprised over 50 paintings of the French landscape exploring the path of his father’s experience in WW II. \nIn 2009\, Aho was elected to the National Academy Museum. He is a recipient of numerous grants and awards\, including a Pollock-Krasner Foundation grant; the John Koch Award for Painting from the National Academy; and an Artist Residency at the Weir Farm National Historical Park. His works are in the collections of The Metropolitan Museum of Art; The New York Public Library; Museum of Fine Arts\, Boston; New Britain Museum of American Art; Denver Art Museum; and Fine Arts Museums of San Francisco\, among others.
URL:https://www.wcsu.edu/events/calendar/mfa-visiting-artist-lecture-eric-aho-painter/
LOCATION:VPAC Room 144\, 43 Lake Ave. Extension\, Danbury\, CT
CATEGORIES:Art,Lectures,Painting,Speaker
ATTACH;FMTTYPE=image/jpeg:https://www.wcsu.edu/events/wp-content/uploads/sites/181/2023/10/Dept-of-Art-generic-image.jpg
END:VEVENT
BEGIN:VEVENT
DTSTART;TZID=America/New_York:20240419T133000
DTEND;TZID=America/New_York:20240419T143000
DTSTAMP:20260421T225749
CREATED:20240401T193815Z
LAST-MODIFIED:20240411T161918Z
UID:10065927-1713533400-1713537000@www.wcsu.edu
SUMMARY:Psychology Department Talk
DESCRIPTION:PSYCHOLOGY DEPARTMENT TALK – “HANDLING STRESS: USING STRESS REAPPRAISAL TO OPTIMIZE ACADEMIC PERFORMANCE”: Psychology Department Guest Speaker Dr. Emily Hangen\, visiting Assistant Professor of Psychology at Fairfield University\, will give a talk entitled: “Handling Stress: Using Stress Reappraisal to Optimize Academic Performance” from 1:30-2:30 p.m. at the Westside Campus Center\, Room 212/214. This talk will provide attendees with research-based strategies to optimize performance in stressful situations. Students\, faculty and staff are all welcome to attend. \n 
URL:https://www.wcsu.edu/events/calendar/psychology-department-talk/
LOCATION:Westside Campus Center 212/214\, 43 Lake Ave. Extension\, Danbury\, CT
CATEGORIES:Lectures
ATTACH;FMTTYPE=image/jpeg:https://www.wcsu.edu/events/wp-content/uploads/sites/181/2023/02/Westside-Campus-Center2.jpg
END:VEVENT
BEGIN:VEVENT
DTSTART;TZID=America/New_York:20240424T110000
DTEND;TZID=America/New_York:20240424T120000
DTSTAMP:20260421T225749
CREATED:20240312T183352Z
LAST-MODIFIED:20240312T183352Z
UID:10065819-1713956400-1713960000@www.wcsu.edu
SUMMARY:MFA Visiting Artist Lecture
DESCRIPTION:VISITING ARTIST LECTURE WITH JUDY GLANTZMAN\, INTERDISCIPLINARY ARTIST: At 11 a.m. in Visual & Performing Arts Center\, room 144\, WCSU\, Westside campus. Free and open to the public; limited seating available- RSVP required at www.eventbrite.com/e/visiting-artist-lecture-judy-glantzman-interdisciplinary-artist-tickets-851131576457. \nJudy Glantzman is an interdisciplinary artist and a graduate of Rhode Island School of Design. Exhibiting since 1983\, she first received critical attention for early shows in the East Village at Civilian Warfare and Gracie Mansion\, then later with Blum Helman and Hirschl & Adler Modern. Since 2006\, she has been represented by the Betty Cuningham Gallery. She has taught at RISD\, New York Studio School\, MICA\, and Purchase College. In 2018\, she was Artist in Residence at Dartmouth College. \nGlantzman’s work has been shown and reviewed throughout the U.S. and internationally in Germany\, Italy\, the Netherlands\, and Canada. She was honored by The Dactyl Foundation in NYC with a thirty-year retrospective in 2009. Her 2019 solo show at Betty Cuningham Gallery was a forty-year retrospective\, which inspired a public interview with art historian Jennifer Samet\, later published in Hyperallergic. \nGlantzman’s numerous awards include a Guggenheim Fellowship; two NY Foundation for the Arts grants; a Pollock Krasner Foundation grant; Anonymous Was a Woman Foundation grant; and a NY Artist Space Exhibition grant. In 2018\, she was elected to the National Academy of Design. Her works are in many private and public collections\, including the Whitney Museum of American Art; Phoenix Art Museum; Tampa Museum of Art; Weatherspoon Art Museum; and the San Francisco Museum of Modern Art.
URL:https://www.wcsu.edu/events/calendar/mfa-visiting-artist-lecture/
LOCATION:Visual & Performing Arts Center\, 43 Lake Ave. Extension\, Danbury\, CT\, 06811
CATEGORIES:Art,Lectures,Visual & Performing Arts
ATTACH;FMTTYPE=image/jpeg:https://www.wcsu.edu/events/wp-content/uploads/sites/181/2023/10/Dept-of-Art-generic-image.jpg
END:VEVENT
END:VCALENDAR