BEGIN:VCALENDAR
VERSION:2.0
PRODID:-//WCSU Events - ECPv6.15.17.1//NONSGML v1.0//EN
CALSCALE:GREGORIAN
METHOD:PUBLISH
X-ORIGINAL-URL:https://www.wcsu.edu/events
X-WR-CALDESC:Events for WCSU Events
REFRESH-INTERVAL;VALUE=DURATION:PT1H
X-Robots-Tag:noindex
X-PUBLISHED-TTL:PT1H
BEGIN:VTIMEZONE
TZID:America/New_York
BEGIN:DAYLIGHT
TZOFFSETFROM:-0500
TZOFFSETTO:-0400
TZNAME:EDT
DTSTART:20220313T070000
END:DAYLIGHT
BEGIN:STANDARD
TZOFFSETFROM:-0400
TZOFFSETTO:-0500
TZNAME:EST
DTSTART:20221106T060000
END:STANDARD
BEGIN:DAYLIGHT
TZOFFSETFROM:-0500
TZOFFSETTO:-0400
TZNAME:EDT
DTSTART:20230312T070000
END:DAYLIGHT
BEGIN:STANDARD
TZOFFSETFROM:-0400
TZOFFSETTO:-0500
TZNAME:EST
DTSTART:20231105T060000
END:STANDARD
BEGIN:DAYLIGHT
TZOFFSETFROM:-0500
TZOFFSETTO:-0400
TZNAME:EDT
DTSTART:20240310T070000
END:DAYLIGHT
BEGIN:STANDARD
TZOFFSETFROM:-0400
TZOFFSETTO:-0500
TZNAME:EST
DTSTART:20241103T060000
END:STANDARD
END:VTIMEZONE
BEGIN:VEVENT
DTSTART;TZID=America/New_York:20230304T093000
DTEND;TZID=America/New_York:20230304T093000
DTSTAMP:20260420T003346
CREATED:20230224T182345Z
LAST-MODIFIED:20230224T183323Z
UID:10063480-1677922200-1677922200@www.wcsu.edu
SUMMARY:PAC Harry Potter Trip
DESCRIPTION:PAC HARRY POTTER AND THE CURSED CHILD TRIP: We’re headed to NYC to see Harry Potter and the Cursed Child! Tickets are available for purchase through the PAC Instagram bio. Tickets are $25 for students and $90 for guests! Bus pick up on Midtown will be at 9:30 a.m. and 10 a.m. for Westside. Bus drop off on Westside will be 10 p.m. and 10:15 p.m. for Midtown.
URL:https://www.wcsu.edu/events/calendar/pac-harry-potter-trip/
LOCATION:Bus Trip
CATEGORIES:Entertainment,Trip
ATTACH;FMTTYPE=image/jpeg:https://www.wcsu.edu/events/wp-content/uploads/sites/181/2023/02/IMG_9902.jpg
ORGANIZER;CN="Program Activities Council (PAC)":MAILTO:quirkm@wcsu.edu
END:VEVENT
BEGIN:VEVENT
DTSTART;TZID=America/New_York:20230308T133000
DTEND;TZID=America/New_York:20230308T133000
DTSTAMP:20260420T003346
CREATED:20230224T194555Z
LAST-MODIFIED:20230224T210351Z
UID:10063483-1678282200-1678282200@www.wcsu.edu
SUMMARY:PAC Novelty
DESCRIPTION:PAC ESSENTIAL OIL ROLL-ON NOVELTY: Stop by the Midtown Student Center from 1:30 to 4:30 p.m. to make your own essential oil roll-on!
URL:https://www.wcsu.edu/events/calendar/pac-novelty/
LOCATION:Midtown Student Center\, 181 White St.\, Danbury\, CT
CATEGORIES:Entertainment
ATTACH;FMTTYPE=image/jpeg:https://www.wcsu.edu/events/wp-content/uploads/sites/181/2022/12/PAC.jpg
ORGANIZER;CN="Program Activities Council (PAC)":MAILTO:quirkm@wcsu.edu
END:VEVENT
BEGIN:VEVENT
DTSTART;TZID=America/New_York:20230321T200000
DTEND;TZID=America/New_York:20230321T200000
DTSTAMP:20260420T003346
CREATED:20230308T185446Z
LAST-MODIFIED:20230308T185509Z
UID:10063514-1679428800-1679428800@www.wcsu.edu
SUMMARY:PAC Lucky Bingo
DESCRIPTION:PAC LUCKY BINGO: Bring your luck to bingo at 8 p.m. in the Westside Ballroom for some lucky prizes!!!
URL:https://www.wcsu.edu/events/calendar/pac-lucky-bingo/
LOCATION:Westside Campus Center Ballroom\, 43 Lake Ave. Extension\, Danbury\, CT
CATEGORIES:Entertainment
ATTACH;FMTTYPE=image/jpeg:https://www.wcsu.edu/events/wp-content/uploads/sites/181/2023/02/Westfest-4.jpg
ORGANIZER;CN="Program Activities Council (PAC)":MAILTO:quirkm@wcsu.edu
END:VEVENT
BEGIN:VEVENT
DTSTART;TZID=America/New_York:20230322T190000
DTEND;TZID=America/New_York:20230322T190000
DTSTAMP:20260420T003346
CREATED:20230308T201527Z
LAST-MODIFIED:20230308T201527Z
UID:10063517-1679511600-1679511600@www.wcsu.edu
SUMMARY:PAC Xtreme Play
DESCRIPTION:PAC XTREME PLAY: Join us for some fun at Danbury’s Xtreme Play from 7 to 9 p.m.! Transportation is not provided. The form to sign up is available on the PAC Instagram bio!
URL:https://www.wcsu.edu/events/calendar/pac-xtreme-play/
LOCATION:Off-campus Trip
CATEGORIES:Recreation
ATTACH;FMTTYPE=image/jpeg:https://www.wcsu.edu/events/wp-content/uploads/sites/181/2022/12/PAC.jpg
ORGANIZER;CN="Program Activities Council (PAC)":MAILTO:quirkm@wcsu.edu
END:VEVENT
BEGIN:VEVENT
DTSTART;TZID=America/New_York:20230328T133000
DTEND;TZID=America/New_York:20230328T163000
DTSTAMP:20260420T003346
CREATED:20230315T135043Z
LAST-MODIFIED:20230315T135051Z
UID:10063530-1680010200-1680021000@www.wcsu.edu
SUMMARY:PAC Terrarium
DESCRIPTION:PAC BUILD YOUR OWN TERRARIUM: Stop by the Midtown Student Center from 1:30 to 4:30 p.m. to build your own Terrarium!
URL:https://www.wcsu.edu/events/calendar/pac-build-your-own-terrarium/
LOCATION:Midtown Student Center\, 181 White St.\, Danbury\, CT
CATEGORIES:Entertainment
ATTACH;FMTTYPE=image/jpeg:https://www.wcsu.edu/events/wp-content/uploads/sites/181/2023/02/Midtown-Student-Center.jpg
ORGANIZER;CN="Program Activities Council (PAC)":MAILTO:quirkm@wcsu.edu
END:VEVENT
END:VCALENDAR