BEGIN:VCALENDAR
VERSION:2.0
PRODID:-//WCSU Events - ECPv6.15.17.1//NONSGML v1.0//EN
CALSCALE:GREGORIAN
METHOD:PUBLISH
X-WR-CALNAME:WCSU Events
X-ORIGINAL-URL:https://www.wcsu.edu/events
X-WR-CALDESC:Events for WCSU Events
REFRESH-INTERVAL;VALUE=DURATION:PT1H
X-Robots-Tag:noindex
X-PUBLISHED-TTL:PT1H
BEGIN:VTIMEZONE
TZID:America/New_York
BEGIN:DAYLIGHT
TZOFFSETFROM:-0500
TZOFFSETTO:-0400
TZNAME:EDT
DTSTART:20230312T070000
END:DAYLIGHT
BEGIN:STANDARD
TZOFFSETFROM:-0400
TZOFFSETTO:-0500
TZNAME:EST
DTSTART:20231105T060000
END:STANDARD
BEGIN:DAYLIGHT
TZOFFSETFROM:-0500
TZOFFSETTO:-0400
TZNAME:EDT
DTSTART:20240310T070000
END:DAYLIGHT
BEGIN:STANDARD
TZOFFSETFROM:-0400
TZOFFSETTO:-0500
TZNAME:EST
DTSTART:20241103T060000
END:STANDARD
BEGIN:DAYLIGHT
TZOFFSETFROM:-0500
TZOFFSETTO:-0400
TZNAME:EDT
DTSTART:20250309T070000
END:DAYLIGHT
BEGIN:STANDARD
TZOFFSETFROM:-0400
TZOFFSETTO:-0500
TZNAME:EST
DTSTART:20251102T060000
END:STANDARD
END:VTIMEZONE
BEGIN:VEVENT
DTSTART;TZID=America/New_York:20240502T110000
DTEND;TZID=America/New_York:20240502T150000
DTSTAMP:20260422T074404
CREATED:20240220T135401Z
LAST-MODIFIED:20240226T162723Z
UID:10065482-1714647600-1714662000@www.wcsu.edu
SUMMARY:SGA Food Pantry
DESCRIPTION:SGA FOOD PANTRY: The SGA Food Pantry is open to all students on Tuesdays & Thursdays from 11 a.m. – 3 p.m. We are located in the Executive Dining Room of the Midtown Student Center (past the WCSU Bookstore). When the university is closed\, the SGA Food Pantry will also be closed. Come check us out! For any questions\, please contact Emily Kappel at kapel007@wcsu.edu.
URL:https://www.wcsu.edu/events/calendar/sga-food-pantry/2024-05-02/
LOCATION:Midtown Student Center\, 181 White St.\, Danbury\, CT
CATEGORIES:Food
ATTACH;FMTTYPE=image/jpeg:https://www.wcsu.edu/events/wp-content/uploads/sites/181/2024/02/2_27_29-SGA-Food-Pantry.jpg
ORGANIZER;CN="Student Government Association - WCSU Food Pantry":MAILTO:kappel007@wcsu.edu
END:VEVENT
BEGIN:VEVENT
DTSTART;TZID=America/New_York:20240507T110000
DTEND;TZID=America/New_York:20240507T150000
DTSTAMP:20260422T074404
CREATED:20240222T165101Z
LAST-MODIFIED:20240226T161842Z
UID:10065613-1715079600-1715094000@www.wcsu.edu
SUMMARY:SGA Food Pantry
DESCRIPTION:SGA FOOD PANTRY: The SGA Food Pantry is open to all students on Tuesdays & Thursdays from 11 a.m. – 3 p.m. We are located in the Executive Dining Room of the Midtown Student Center (past the WCSU Bookstore). When the university is closed\, the SGA Food Pantry will also be closed. Come check us out! For any questions\, please contact Emily Kappel at kapel007@wcsu.edu.
URL:https://www.wcsu.edu/events/calendar/sga-food-pantry-2/2024-05-07/
LOCATION:Midtown Student Center\, 181 White St.\, Danbury\, CT
CATEGORIES:Food
ATTACH;FMTTYPE=image/jpeg:https://www.wcsu.edu/events/wp-content/uploads/sites/181/2024/02/2_27_29-SGA-Food-Pantry.jpg
ORGANIZER;CN="Student Government Association - WCSU Food Pantry":MAILTO:kappel007@wcsu.edu
END:VEVENT
BEGIN:VEVENT
DTSTART;TZID=America/New_York:20240509T110000
DTEND;TZID=America/New_York:20240509T150000
DTSTAMP:20260422T074404
CREATED:20240506T163557Z
LAST-MODIFIED:20240506T163558Z
UID:10065483-1715252400-1715266800@www.wcsu.edu
SUMMARY:SGA Food Pantry
DESCRIPTION:SGA FOOD PANTRY: The SGA Food Pantry is open to all students on Tuesdays & Thursdays from 11 a.m. – 3 p.m. We are located in the Executive Dining Room of the Midtown Student Center (past the WCSU Bookstore). \nToday is the final day of the Food Pantry for the semester. For students in need over the summer\, there will be a form posted on the SGA Instagram page where students can request a pre-made bag and arrange a pick-up time. \nCome check us out! For any questions\, please contact Emily Kappel at kapel007@wcsu.edu.
URL:https://www.wcsu.edu/events/calendar/sga-food-pantry-3/
LOCATION:Midtown Student Center\, 181 White St.\, Danbury\, CT
CATEGORIES:Food
ATTACH;FMTTYPE=image/jpeg:https://www.wcsu.edu/events/wp-content/uploads/sites/181/2024/02/2_27_29-SGA-Food-Pantry.jpg
ORGANIZER;CN="Student Government Association - WCSU Food Pantry":MAILTO:kappel007@wcsu.edu
END:VEVENT
BEGIN:VEVENT
DTSTART;TZID=America/New_York:20240510T140000
DTEND;TZID=America/New_York:20240510T233000
DTSTAMP:20260422T074404
CREATED:20231110T145958Z
LAST-MODIFIED:20240226T170732Z
UID:10064172-1715349600-1715383800@www.wcsu.edu
SUMMARY:NYC Senior Dinner Cruise
DESCRIPTION:NYC SENIOR DINNER CRUISE: Sponsored by SGA. Come down for an amazing night aboard a magnificent cruise around New York City. Enjoy a great dinner\, a cash bar\, prizes\, and much more! All students can purchase a ticket. Students must purchase a ticket for themselves and guest (if applicable). Shuttle transportation is provided both to and from the event. Report to Westside around 2 p.m. to take the bus to the event\, and expect a return to Westside around 11:30 p.m.\nTheme: Roaring ’20s – Dress to Impress! Get tickets at https://wcsutickets.regfox.com/senior-class-nyc-dinner-cruise-2024.
URL:https://www.wcsu.edu/events/calendar/nyc-senior-dinner-cruise/
LOCATION:CT
CATEGORIES:Dance,Food,Music,Trip
ATTACH;FMTTYPE=image/png:https://www.wcsu.edu/events/wp-content/uploads/sites/181/2023/11/Sports-1.png
END:VEVENT
END:VCALENDAR