BEGIN:VCALENDAR
VERSION:2.0
PRODID:-//WCSU Events - ECPv6.15.17.1//NONSGML v1.0//EN
CALSCALE:GREGORIAN
METHOD:PUBLISH
X-WR-CALNAME:WCSU Events
X-ORIGINAL-URL:https://www.wcsu.edu/events
X-WR-CALDESC:Events for WCSU Events
REFRESH-INTERVAL;VALUE=DURATION:PT1H
X-Robots-Tag:noindex
X-PUBLISHED-TTL:PT1H
BEGIN:VTIMEZONE
TZID:America/New_York
BEGIN:DAYLIGHT
TZOFFSETFROM:-0500
TZOFFSETTO:-0400
TZNAME:EDT
DTSTART:20230312T070000
END:DAYLIGHT
BEGIN:STANDARD
TZOFFSETFROM:-0400
TZOFFSETTO:-0500
TZNAME:EST
DTSTART:20231105T060000
END:STANDARD
BEGIN:DAYLIGHT
TZOFFSETFROM:-0500
TZOFFSETTO:-0400
TZNAME:EDT
DTSTART:20240310T070000
END:DAYLIGHT
BEGIN:STANDARD
TZOFFSETFROM:-0400
TZOFFSETTO:-0500
TZNAME:EST
DTSTART:20241103T060000
END:STANDARD
BEGIN:DAYLIGHT
TZOFFSETFROM:-0500
TZOFFSETTO:-0400
TZNAME:EDT
DTSTART:20250309T070000
END:DAYLIGHT
BEGIN:STANDARD
TZOFFSETFROM:-0400
TZOFFSETTO:-0500
TZNAME:EST
DTSTART:20251102T060000
END:STANDARD
END:VTIMEZONE
BEGIN:VEVENT
DTSTART;TZID=America/New_York:20240912T080000
DTEND;TZID=America/New_York:20240912T170000
DTSTAMP:20260424T072636
CREATED:20240910T184642Z
LAST-MODIFIED:20240910T184642Z
UID:10067854-1726128000-1726160400@www.wcsu.edu
SUMMARY:National Chocolate Milkshake Day
DESCRIPTION:NATIONAL CHOCOLATE MILKSHAKE DAY: Join us at Fireside Lobby Cafe in Berkshire Hall on the Midtown campus and Daily Grind in the Westside Campus Center from 8 a.m. to 5 p.m. for National Chocolate Milkshake Day. All day\, both cafes will be serving a chocolate milkshake.
URL:https://www.wcsu.edu/events/calendar/national-chocolate-milkshake-day/
LOCATION:Berkshire Hall and Westside Campus Center Dining\, Danbury\, CT
CATEGORIES:Food
ATTACH;FMTTYPE=image/jpeg:https://www.wcsu.edu/events/wp-content/uploads/sites/181/2023/10/Berkshire-10-18-23.jpg
ORGANIZER;CN="Sodexo":MAILTO:Donald.Grayson@Sodexo.com
END:VEVENT
BEGIN:VEVENT
DTSTART;TZID=America/New_York:20240913T120000
DTEND;TZID=America/New_York:20240913T170000
DTSTAMP:20260424T072636
CREATED:20240815T144538Z
LAST-MODIFIED:20240828T163045Z
UID:10067748-1726228800-1726246800@www.wcsu.edu
SUMMARY:WCSU Street Fest
DESCRIPTION:WCSU STREET FEST: Join us on Dr. James Roach Ave. near the Science Building on the Midtown campus from noon to 5 p.m. for our first annual WCSU Street Fest hosted by WCSU Dining. There will be an array of student clubs\, vendors\, and local restaurants/food trucks. There will be live performances and a chance for you to explore campus and engage with the community.
URL:https://www.wcsu.edu/events/calendar/wcsu-street-fest/
LOCATION:Midtown campus\, 181 White St.\, Danbury\, CT
CATEGORIES:Festival,Food,WOW
ATTACH;FMTTYPE=image/jpeg:https://www.wcsu.edu/events/wp-content/uploads/sites/181/2023/02/Science-Building.jpg
ORGANIZER;CN="Sodexo":MAILTO:Donald.Grayson@Sodexo.com
END:VEVENT
BEGIN:VEVENT
DTSTART;TZID=America/New_York:20240919T110000
DTEND;TZID=America/New_York:20240919T150000
DTSTAMP:20260424T072636
CREATED:20240911T161110Z
LAST-MODIFIED:20240911T161110Z
UID:10067867-1726743600-1726758000@www.wcsu.edu
SUMMARY:Pumpkin Carve and Paint
DESCRIPTION:PUMPKIN CARVE AND PAINT: From 11 a.m. to 3 p.m. on the Berkshire lawn\, Midtown campus\, there will be a Pumpkin Patch Carve and Paint. There will be a carving contest where there will be three winners who receive a mystery prize. It is a free event that the dining hall will be hosting\, until supplies run out.
URL:https://www.wcsu.edu/events/calendar/pumpkin-carve-and-paint/
LOCATION:Berkshire Hall\, 181 White St.\, Danbury\, CT
CATEGORIES:Contest,Food
ATTACH;FMTTYPE=image/jpeg:https://www.wcsu.edu/events/wp-content/uploads/sites/181/2023/10/Berkshire-10-18-23.jpg
ORGANIZER;CN="Sodexo":MAILTO:Donald.Grayson@Sodexo.com
END:VEVENT
BEGIN:VEVENT
DTSTART;TZID=America/New_York:20240925T113000
DTEND;TZID=America/New_York:20240925T200000
DTSTAMP:20260424T072636
CREATED:20240911T160856Z
LAST-MODIFIED:20240911T160856Z
UID:10069695-1727263800-1727294400@www.wcsu.edu
SUMMARY:National Quesadilla Day
DESCRIPTION:NATIONAL QUESADILLA DAY: From 11:30 a.m. to 8 p.m.\, there will be quesadillas at the Action Station in honor of National Quesadilla Day. It will be all day at Berkshire Dining on Midtown and during dinner time at the Westside Campus Center.
URL:https://www.wcsu.edu/events/calendar/national-quesadilla-day/
LOCATION:Berkshire Hall and Westside Campus Center Dining\, Danbury\, CT
CATEGORIES:Food
ATTACH;FMTTYPE=image/jpeg:https://www.wcsu.edu/events/wp-content/uploads/sites/181/2023/10/Berkshire-10-18-23.jpg
ORGANIZER;CN="Sodexo":MAILTO:Donald.Grayson@Sodexo.com
END:VEVENT
BEGIN:VEVENT
DTSTART;TZID=America/New_York:20240926T113000
DTEND;TZID=America/New_York:20240926T200000
DTSTAMP:20260424T072636
CREATED:20240911T160035Z
LAST-MODIFIED:20240911T160035Z
UID:10069696-1727350200-1727380800@www.wcsu.edu
SUMMARY:National Dumpling Day + Stir Fry
DESCRIPTION:NATIONAL DUMPLING DAY PLUS STIR FRY: From 11:30 a.m. to 8 p.m.\, the Action Station will be serving dumplings and stir fry. This will be served at Berkshire Dining on Midtown all day\, and at the Westside Campus Center during dinner.
URL:https://www.wcsu.edu/events/calendar/national-dumpling-day-stir-fry/
LOCATION:Berkshire Hall and Westside Campus Center Dining\, Danbury\, CT
CATEGORIES:Food
ATTACH;FMTTYPE=image/jpeg:https://www.wcsu.edu/events/wp-content/uploads/sites/181/2023/10/Berkshire-10-18-23.jpg
ORGANIZER;CN="Sodexo":MAILTO:Donald.Grayson@Sodexo.com
END:VEVENT
END:VCALENDAR