BEGIN:VCALENDAR
VERSION:2.0
PRODID:-//WCSU Events - ECPv6.15.17.1//NONSGML v1.0//EN
CALSCALE:GREGORIAN
METHOD:PUBLISH
X-WR-CALNAME:WCSU Events
X-ORIGINAL-URL:https://www.wcsu.edu/events
X-WR-CALDESC:Events for WCSU Events
REFRESH-INTERVAL;VALUE=DURATION:PT1H
X-Robots-Tag:noindex
X-PUBLISHED-TTL:PT1H
BEGIN:VTIMEZONE
TZID:America/New_York
BEGIN:DAYLIGHT
TZOFFSETFROM:-0500
TZOFFSETTO:-0400
TZNAME:EDT
DTSTART:20230312T070000
END:DAYLIGHT
BEGIN:STANDARD
TZOFFSETFROM:-0400
TZOFFSETTO:-0500
TZNAME:EST
DTSTART:20231105T060000
END:STANDARD
BEGIN:DAYLIGHT
TZOFFSETFROM:-0500
TZOFFSETTO:-0400
TZNAME:EDT
DTSTART:20240310T070000
END:DAYLIGHT
BEGIN:STANDARD
TZOFFSETFROM:-0400
TZOFFSETTO:-0500
TZNAME:EST
DTSTART:20241103T060000
END:STANDARD
BEGIN:DAYLIGHT
TZOFFSETFROM:-0500
TZOFFSETTO:-0400
TZNAME:EDT
DTSTART:20250309T070000
END:DAYLIGHT
BEGIN:STANDARD
TZOFFSETFROM:-0400
TZOFFSETTO:-0500
TZNAME:EST
DTSTART:20251102T060000
END:STANDARD
END:VTIMEZONE
BEGIN:VEVENT
DTSTART;TZID=America/New_York:20241105T110000
DTEND;TZID=America/New_York:20241105T200000
DTSTAMP:20260423T133224
CREATED:20241021T191234Z
LAST-MODIFIED:20241021T191234Z
UID:10070088-1730804400-1730836800@www.wcsu.edu
SUMMARY:Big City Bites
DESCRIPTION:BIG CITY BITES: Join the dining hall on both campuses as we host Big City Bites for the first two week during November on Tuesdays and Thursdays. On Nov. 5\, we will be serving Chicago Italian Bowls and Tiramisu Stuffed Donuts. On Nov. 7\, we will be serving New Orleans-style Cajun Chicken Bisque and Bananas Foster Roll Up with Beignets. On Nov. 12\, we will be serving Philly-Style Cheesesteak and Cookies and Cream Cheesecake. On Nov. 14\, we will be serving Toronto-style Maple Chile Glazed Pork Lion\, Cranberry Walnut Wild Rice\, and Red Velvet Cookie Sandwich. All of these will be served in Berkshire Hall on Midtown all day and in  the Westside Campus Center during dinner.
URL:https://www.wcsu.edu/events/calendar/big-city-bites-2/2024-11-05/
LOCATION:Berkshire Hall and Westside Campus Center Dining\, Danbury\, CT
ATTACH;FMTTYPE=image/jpeg:https://www.wcsu.edu/events/wp-content/uploads/sites/181/2023/10/Berkshire-10-18-23.jpg
ORGANIZER;CN="Sodexo":MAILTO:Donald.Grayson@Sodexo.com
END:VEVENT
BEGIN:VEVENT
DTSTART;TZID=America/New_York:20241107T110000
DTEND;TZID=America/New_York:20241107T200000
DTSTAMP:20260423T133224
CREATED:20241021T191234Z
LAST-MODIFIED:20241021T191234Z
UID:10070089-1730977200-1731009600@www.wcsu.edu
SUMMARY:Big City Bites
DESCRIPTION:BIG CITY BITES: Join the dining hall on both campuses as we host Big City Bites for the first two week during November on Tuesdays and Thursdays. On Nov. 5\, we will be serving Chicago Italian Bowls and Tiramisu Stuffed Donuts. On Nov. 7\, we will be serving New Orleans-style Cajun Chicken Bisque and Bananas Foster Roll Up with Beignets. On Nov. 12\, we will be serving Philly-Style Cheesesteak and Cookies and Cream Cheesecake. On Nov. 14\, we will be serving Toronto-style Maple Chile Glazed Pork Lion\, Cranberry Walnut Wild Rice\, and Red Velvet Cookie Sandwich. All of these will be served in Berkshire Hall on Midtown all day and in  the Westside Campus Center during dinner.
URL:https://www.wcsu.edu/events/calendar/big-city-bites-2/2024-11-07/
LOCATION:Berkshire Hall and Westside Campus Center Dining\, Danbury\, CT
ATTACH;FMTTYPE=image/jpeg:https://www.wcsu.edu/events/wp-content/uploads/sites/181/2023/10/Berkshire-10-18-23.jpg
ORGANIZER;CN="Sodexo":MAILTO:Donald.Grayson@Sodexo.com
END:VEVENT
BEGIN:VEVENT
DTSTART;TZID=America/New_York:20241112T110000
DTEND;TZID=America/New_York:20241112T200000
DTSTAMP:20260423T133224
CREATED:20241021T191234Z
LAST-MODIFIED:20241021T191234Z
UID:10070090-1731409200-1731441600@www.wcsu.edu
SUMMARY:Big City Bites
DESCRIPTION:BIG CITY BITES: Join the dining hall on both campuses as we host Big City Bites for the first two week during November on Tuesdays and Thursdays. On Nov. 5\, we will be serving Chicago Italian Bowls and Tiramisu Stuffed Donuts. On Nov. 7\, we will be serving New Orleans-style Cajun Chicken Bisque and Bananas Foster Roll Up with Beignets. On Nov. 12\, we will be serving Philly-Style Cheesesteak and Cookies and Cream Cheesecake. On Nov. 14\, we will be serving Toronto-style Maple Chile Glazed Pork Lion\, Cranberry Walnut Wild Rice\, and Red Velvet Cookie Sandwich. All of these will be served in Berkshire Hall on Midtown all day and in  the Westside Campus Center during dinner.
URL:https://www.wcsu.edu/events/calendar/big-city-bites-2/2024-11-12/
LOCATION:Berkshire Hall and Westside Campus Center Dining\, Danbury\, CT
ATTACH;FMTTYPE=image/jpeg:https://www.wcsu.edu/events/wp-content/uploads/sites/181/2023/10/Berkshire-10-18-23.jpg
ORGANIZER;CN="Sodexo":MAILTO:Donald.Grayson@Sodexo.com
END:VEVENT
BEGIN:VEVENT
DTSTART;TZID=America/New_York:20241114T110000
DTEND;TZID=America/New_York:20241114T200000
DTSTAMP:20260423T133224
CREATED:20241021T191234Z
LAST-MODIFIED:20241021T191234Z
UID:10070091-1731582000-1731614400@www.wcsu.edu
SUMMARY:Big City Bites
DESCRIPTION:BIG CITY BITES: Join the dining hall on both campuses as we host Big City Bites for the first two week during November on Tuesdays and Thursdays. On Nov. 5\, we will be serving Chicago Italian Bowls and Tiramisu Stuffed Donuts. On Nov. 7\, we will be serving New Orleans-style Cajun Chicken Bisque and Bananas Foster Roll Up with Beignets. On Nov. 12\, we will be serving Philly-Style Cheesesteak and Cookies and Cream Cheesecake. On Nov. 14\, we will be serving Toronto-style Maple Chile Glazed Pork Lion\, Cranberry Walnut Wild Rice\, and Red Velvet Cookie Sandwich. All of these will be served in Berkshire Hall on Midtown all day and in  the Westside Campus Center during dinner.
URL:https://www.wcsu.edu/events/calendar/big-city-bites-2/2024-11-14/
LOCATION:Berkshire Hall and Westside Campus Center Dining\, Danbury\, CT
ATTACH;FMTTYPE=image/jpeg:https://www.wcsu.edu/events/wp-content/uploads/sites/181/2023/10/Berkshire-10-18-23.jpg
ORGANIZER;CN="Sodexo":MAILTO:Donald.Grayson@Sodexo.com
END:VEVENT
BEGIN:VEVENT
DTSTART;TZID=America/New_York:20241114T120000
DTEND;TZID=America/New_York:20241114T140000
DTSTAMP:20260423T133224
CREATED:20241111T181540Z
LAST-MODIFIED:20241114T133452Z
UID:10070232-1731585600-1731592800@www.wcsu.edu
SUMMARY:Slice of Gratitude
DESCRIPTION:SLICE OF GRATITUDE: Sample free pies from noon to 2 p.m. in Berkshire Hall on the Midtown campus. Apple\, pumpkin pecan and Boston creme pies will also be available for purchase for $12 each.
URL:https://www.wcsu.edu/events/calendar/slice-of-gratitude/
LOCATION:Berkshire Hall\, 181 White St.\, Danbury\, CT
CATEGORIES:Food,WOW
ATTACH;FMTTYPE=image/jpeg:https://www.wcsu.edu/events/wp-content/uploads/sites/181/2024/11/Slice-of-Gratitude_500x300.jpg
ORGANIZER;CN="Sodexo":MAILTO:Donald.Grayson@Sodexo.com
END:VEVENT
END:VCALENDAR