BEGIN:VCALENDAR
VERSION:2.0
PRODID:-//WCSU Events - ECPv6.15.17.1//NONSGML v1.0//EN
CALSCALE:GREGORIAN
METHOD:PUBLISH
X-WR-CALNAME:WCSU Events
X-ORIGINAL-URL:https://www.wcsu.edu/events
X-WR-CALDESC:Events for WCSU Events
REFRESH-INTERVAL;VALUE=DURATION:PT1H
X-Robots-Tag:noindex
X-PUBLISHED-TTL:PT1H
BEGIN:VTIMEZONE
TZID:America/New_York
BEGIN:DAYLIGHT
TZOFFSETFROM:-0500
TZOFFSETTO:-0400
TZNAME:EDT
DTSTART:20240310T070000
END:DAYLIGHT
BEGIN:STANDARD
TZOFFSETFROM:-0400
TZOFFSETTO:-0500
TZNAME:EST
DTSTART:20241103T060000
END:STANDARD
BEGIN:DAYLIGHT
TZOFFSETFROM:-0500
TZOFFSETTO:-0400
TZNAME:EDT
DTSTART:20250309T070000
END:DAYLIGHT
BEGIN:STANDARD
TZOFFSETFROM:-0400
TZOFFSETTO:-0500
TZNAME:EST
DTSTART:20251102T060000
END:STANDARD
BEGIN:DAYLIGHT
TZOFFSETFROM:-0500
TZOFFSETTO:-0400
TZNAME:EDT
DTSTART:20260308T070000
END:DAYLIGHT
BEGIN:STANDARD
TZOFFSETFROM:-0400
TZOFFSETTO:-0500
TZNAME:EST
DTSTART:20261101T060000
END:STANDARD
END:VTIMEZONE
BEGIN:VEVENT
DTSTART;TZID=America/New_York:20250402T160000
DTEND;TZID=America/New_York:20250402T200000
DTSTAMP:20260421T144923
CREATED:20250403T130203Z
LAST-MODIFIED:20250403T130203Z
UID:10071185-1743609600-1743624000@www.wcsu.edu
SUMMARY:Now Boarding: Grab Your Ticket to Delicious Destinations
DESCRIPTION:NOW BOARDING – GRAB YOUR TICKET TO DELICIOUS DESTINATIONS: From April 14 to 18\, embark on a five-day global food journey as we explore flavors from five continents! Each night\, our dining halls will transport you to a different part of the world with authentic and mouthwatering dishes. \nNext stop: North America! Join us for dinner from 4 to 8 p.m. at Berkshire Hall on the Midtown campus and the Westside Campus Center on Friday\, April 18\, where you can enjoy Ginger Ponzu Salmon Poke\, Poutine\, and New York Cheesecake.
URL:https://www.wcsu.edu/events/calendar/now-boarding-grab-your-ticket-to-delicious-destinations/
LOCATION:Berkshire Hall and Westside Campus Center Dining\, Danbury\, CT
CATEGORIES:Food
ATTACH;FMTTYPE=image/jpeg:https://www.wcsu.edu/events/wp-content/uploads/sites/181/2025/01/Berkshire-Dining-with-students_500x300.jpg
ORGANIZER;CN="Sodexo":MAILTO:Donald.Grayson@Sodexo.com
END:VEVENT
BEGIN:VEVENT
DTSTART;TZID=America/New_York:20250407T160000
DTEND;TZID=America/New_York:20250407T200000
DTSTAMP:20260421T144923
CREATED:20250408T132036Z
LAST-MODIFIED:20250408T132036Z
UID:10071195-1744041600-1744056000@www.wcsu.edu
SUMMARY:National Arab American Heritage Month
DESCRIPTION:NATIONAL ARAB AMERICAN HERITAGE MONTH – MUSLIM STUDENT ASSOCIATION MENUS: We’re celebrating National Arab American Heritage Month with culturally inspired dinners every Monday and Wednesday across both campuses — in collaboration with the Muslim Student Association! Join us each week to enjoy vibrant flavors and dishes that honor Arab culture. Tonight’s feature: shawarma with a side of fries! From 4 to 8 p.m. in Berkshire Hall on the Midtown campus and at the Westside Campus Center Restaurant.
URL:https://www.wcsu.edu/events/calendar/national-arab-american-heritage-month/
LOCATION:Berkshire Hall and Westside Campus Center Dining\, Danbury\, CT
CATEGORIES:Food
ATTACH;FMTTYPE=image/jpeg:https://www.wcsu.edu/events/wp-content/uploads/sites/181/2023/10/Berkshire-10-18-23.jpg
ORGANIZER;CN="Sodexo":MAILTO:Donald.Grayson@Sodexo.com
END:VEVENT
BEGIN:VEVENT
DTSTART;TZID=America/New_York:20250409T160000
DTEND;TZID=America/New_York:20250409T200000
DTSTAMP:20260421T144923
CREATED:20250408T132203Z
LAST-MODIFIED:20250408T132203Z
UID:10071196-1744214400-1744228800@www.wcsu.edu
SUMMARY:National Arab American Heritage Month
DESCRIPTION:NATIONAL ARAB AMERICAN HERITAGE MONTH – MUSLIM STUDENT ASSOCIATION MENUS: We’re celebrating National Arab American Heritage Month with culturally inspired dinners every Monday and Wednesday across both campuses — in collaboration with the Muslim Student Association! Join us each week to enjoy vibrant flavors and dishes that honor Arab culture. Tonight’s feature: koshari with a side of hummus and for dessert baklava! From 4 to 8 p.m. in Berkshire Hall on the Midtown campus and at the Westside Campus Center Restaurant.
URL:https://www.wcsu.edu/events/calendar/national-arab-american-heritage-month-2/
LOCATION:Berkshire Hall and Westside Campus Center Dining\, Danbury\, CT
CATEGORIES:Food
ATTACH;FMTTYPE=image/jpeg:https://www.wcsu.edu/events/wp-content/uploads/sites/181/2023/10/Berkshire-10-18-23.jpg
ORGANIZER;CN="Sodexo":MAILTO:Donald.Grayson@Sodexo.com
END:VEVENT
BEGIN:VEVENT
DTSTART;TZID=America/New_York:20250410T163000
DTEND;TZID=America/New_York:20250410T190000
DTSTAMP:20260421T144923
CREATED:20250327T125143Z
LAST-MODIFIED:20250401T130554Z
UID:10071157-1744302600-1744311600@www.wcsu.edu
SUMMARY:Taste of the Blossoms Campus Cuisine
DESCRIPTION:TASTE OF THE BLOSSOMS CAMPUS CUISINE: Join us for Taste of the Blossoms Campus Cuisine from 4:30 to 7 p.m. in the Berkshire Dining Hall on the Midtown campus! Enjoy a curated Japanese-inspired menu featuring fresh\, seasonal ingredients and bold flavors. From the tender and flavorful Beef Tataki to the sweet and earthy Matcha Green Tea Cheesecake\, every dish is crafted to bring a taste of spring to your plate. The cost is one meal swipe + $5. Don’t miss this delicious celebration of Japanese cuisine!
URL:https://www.wcsu.edu/events/calendar/taste-of-the-blossoms-campus-cuisine/
LOCATION:Berkshire Hall\, 181 White St.\, Danbury\, CT
CATEGORIES:Food
ATTACH;FMTTYPE=image/jpeg:https://www.wcsu.edu/events/wp-content/uploads/sites/181/2025/01/Berkshire-Dining-with-students_500x300.jpg
ORGANIZER;CN="WCSU Dining":MAILTO:heidi.diaz@sodexo.com
END:VEVENT
BEGIN:VEVENT
DTSTART;TZID=America/New_York:20250415T160000
DTEND;TZID=America/New_York:20250415T200000
DTSTAMP:20260421T144923
CREATED:20250403T131346Z
LAST-MODIFIED:20250403T131346Z
UID:10071182-1744732800-1744747200@www.wcsu.edu
SUMMARY:Now Boarding: Grab Your Ticket to Delicious Destinations
DESCRIPTION:NOW BOARDING – GRAB YOUR TICKET TO DELICIOUS DESTINATIONS: From April 14 to 18\, embark on a five-day global food journey as we explore flavors from five continents! Each night\, our dining halls will transport you to a different part of the world with authentic and mouthwatering dishes. \nNext stop: South America! Join us from 4 to 8 p.m. for dinner in Berkshire Hall on the Midtown campus and at the Westside Campus Center on Tuesday\, April 15\, where you can enjoy Venezuelan Arepas\, Black Beans with Rice\, and Brigadeiros.
URL:https://www.wcsu.edu/events/calendar/now-boarding-grab-your-ticket-to-delicious-destinations-4/
LOCATION:Berkshire Hall and Westside Campus Center Dining\, Danbury\, CT
CATEGORIES:Food
ATTACH;FMTTYPE=image/jpeg:https://www.wcsu.edu/events/wp-content/uploads/sites/181/2025/01/Berkshire-Dining-with-students_500x300.jpg
ORGANIZER;CN="Sodexo":MAILTO:Donald.Grayson@Sodexo.com
END:VEVENT
BEGIN:VEVENT
DTSTART;TZID=America/New_York:20250416T160000
DTEND;TZID=America/New_York:20250416T200000
DTSTAMP:20260421T144923
CREATED:20250403T131201Z
LAST-MODIFIED:20250403T131201Z
UID:10071183-1744819200-1744833600@www.wcsu.edu
SUMMARY:Now Boarding: Grab Your Ticket to Delicious Destinations
DESCRIPTION:NOW BOARDING – GRAB YOUR TICKET TO DELICIOUS DESTINATIONS: From April 14 to 18\, embark on a five-day global food journey as we explore flavors from five continents! Each night\, our dining halls will transport you to a different part of the world with authentic and mouthwatering dishes. \nNext stop: Europe! Join us from 4 to 8 p.m. for dinner on Wednesday\, April 16\, in Berkshire Hall on the Midtown campus and at the Westside Campus Center\, where you can enjoy Holupchi\, Pierogis\, and Tiramisu.
URL:https://www.wcsu.edu/events/calendar/now-boarding-grab-your-ticket-to-delicious-destinations-3/
LOCATION:Berkshire Hall and Westside Campus Center Dining\, Danbury\, CT
CATEGORIES:Food
ATTACH;FMTTYPE=image/jpeg:https://www.wcsu.edu/events/wp-content/uploads/sites/181/2025/01/Berkshire-Dining-with-students_500x300.jpg
ORGANIZER;CN="Sodexo":MAILTO:Donald.Grayson@Sodexo.com
END:VEVENT
BEGIN:VEVENT
DTSTART;TZID=America/New_York:20250417T160000
DTEND;TZID=America/New_York:20250417T200000
DTSTAMP:20260421T144923
CREATED:20250403T130355Z
LAST-MODIFIED:20250403T130355Z
UID:10071184-1744905600-1744920000@www.wcsu.edu
SUMMARY:Now Boarding: Grab Your Ticket to Delicious Destinations
DESCRIPTION:NOW BOARDING – GRAB YOUR TICKET TO DELICIOUS DESTINATIONS: From April 14 to 18\, embark on a five-day global food journey as we explore flavors from five continents! Each night\, our dining halls will transport you to a different part of the world with authentic and mouthwatering dishes. \nNext stop: Africa! Join us for dinner from 4 to 8 p.m. on Thursday\, April 17\, at Berkshire Hall on the Midtown campus and the  Westside Campus Center\, where you can enjoy Kabsa\, Jollof Rice\, and Malva Pudding.
URL:https://www.wcsu.edu/events/calendar/now-boarding-grab-your-ticket-to-delicious-destinations-2/
LOCATION:Berkshire Hall and Westside Campus Center Dining\, Danbury\, CT
CATEGORIES:Food
ATTACH;FMTTYPE=image/jpeg:https://www.wcsu.edu/events/wp-content/uploads/sites/181/2025/01/Berkshire-Dining-with-students_500x300.jpg
ORGANIZER;CN="Sodexo":MAILTO:Donald.Grayson@Sodexo.com
END:VEVENT
BEGIN:VEVENT
DTSTART;TZID=America/New_York:20250418T160000
DTEND;TZID=America/New_York:20250418T200000
DTSTAMP:20260421T144923
CREATED:20250408T132803Z
LAST-MODIFIED:20250408T132803Z
UID:10071201-1744992000-1745006400@www.wcsu.edu
SUMMARY:Now Boarding: North America
DESCRIPTION:NOW BOARDING – NORTH AMERICA: Join us from 4 to 8 p.m. for dinner at Berkshire Hall on the Midtown campus and at the Westside Campus Center Restaurant as we wrap up our global food tour with the bold and comforting Flavors of North America! Enjoy Ginger Ponzu Salmon Poke\, Poutine\, and Red Velvet Whoopie Pie.
URL:https://www.wcsu.edu/events/calendar/now-boarding-north-america/
LOCATION:Berkshire Hall and Westside Campus Center Dining\, Danbury\, CT
CATEGORIES:Food
ATTACH;FMTTYPE=image/jpeg:https://www.wcsu.edu/events/wp-content/uploads/sites/181/2025/01/Berkshire-Dining-with-students_500x300.jpg
ORGANIZER;CN="Sodexo":MAILTO:Donald.Grayson@Sodexo.com
END:VEVENT
BEGIN:VEVENT
DTSTART;TZID=America/New_York:20250421T113000
DTEND;TZID=America/New_York:20250421T140000
DTSTAMP:20260421T144923
CREATED:20250327T201109Z
LAST-MODIFIED:20250401T130755Z
UID:10071159-1745235000-1745244000@www.wcsu.edu
SUMMARY:Earth Cups Tabling Event
DESCRIPTION:EARTH CUPS TABLING EVENT: Join us for Make Your Own Earth Cups in honor of Earth Day from 11:30 a.m. to 2 p.m. in Berkshire Hall on the Midtown campus! Celebrate with a delicious dirt cup\, layered with chocolate pudding\, crumbled cookies\, and topped with gummy worms. This free event is the perfect way to enjoy a sweet treat while honoring our planet. Don’t miss out! \n  \n 
URL:https://www.wcsu.edu/events/calendar/earth-cups-tabling-event/
LOCATION:Berkshire Hall\, 181 White St.\, Danbury\, CT
ATTACH;FMTTYPE=image/jpeg:https://www.wcsu.edu/events/wp-content/uploads/sites/181/2023/10/Berkshire-10-18-23.jpg
ORGANIZER;CN="WCSU Dining":MAILTO:heidi.diaz@sodexo.com
END:VEVENT
END:VCALENDAR