BEGIN:VCALENDAR
VERSION:2.0
PRODID:-//WCSU Events - ECPv6.15.17.1//NONSGML v1.0//EN
CALSCALE:GREGORIAN
METHOD:PUBLISH
X-WR-CALNAME:WCSU Events
X-ORIGINAL-URL:https://www.wcsu.edu/events
X-WR-CALDESC:Events for WCSU Events
REFRESH-INTERVAL;VALUE=DURATION:PT1H
X-Robots-Tag:noindex
X-PUBLISHED-TTL:PT1H
BEGIN:VTIMEZONE
TZID:America/New_York
BEGIN:DAYLIGHT
TZOFFSETFROM:-0500
TZOFFSETTO:-0400
TZNAME:EDT
DTSTART:20240310T070000
END:DAYLIGHT
BEGIN:STANDARD
TZOFFSETFROM:-0400
TZOFFSETTO:-0500
TZNAME:EST
DTSTART:20241103T060000
END:STANDARD
BEGIN:DAYLIGHT
TZOFFSETFROM:-0500
TZOFFSETTO:-0400
TZNAME:EDT
DTSTART:20250309T070000
END:DAYLIGHT
BEGIN:STANDARD
TZOFFSETFROM:-0400
TZOFFSETTO:-0500
TZNAME:EST
DTSTART:20251102T060000
END:STANDARD
BEGIN:DAYLIGHT
TZOFFSETFROM:-0500
TZOFFSETTO:-0400
TZNAME:EDT
DTSTART:20260308T070000
END:DAYLIGHT
BEGIN:STANDARD
TZOFFSETFROM:-0400
TZOFFSETTO:-0500
TZNAME:EST
DTSTART:20261101T060000
END:STANDARD
END:VTIMEZONE
BEGIN:VEVENT
DTSTART;TZID=America/New_York:20250410T163000
DTEND;TZID=America/New_York:20250410T190000
DTSTAMP:20260421T152023
CREATED:20250327T125143Z
LAST-MODIFIED:20250401T130554Z
UID:10071157-1744302600-1744311600@www.wcsu.edu
SUMMARY:Taste of the Blossoms Campus Cuisine
DESCRIPTION:TASTE OF THE BLOSSOMS CAMPUS CUISINE: Join us for Taste of the Blossoms Campus Cuisine from 4:30 to 7 p.m. in the Berkshire Dining Hall on the Midtown campus! Enjoy a curated Japanese-inspired menu featuring fresh\, seasonal ingredients and bold flavors. From the tender and flavorful Beef Tataki to the sweet and earthy Matcha Green Tea Cheesecake\, every dish is crafted to bring a taste of spring to your plate. The cost is one meal swipe + $5. Don’t miss this delicious celebration of Japanese cuisine!
URL:https://www.wcsu.edu/events/calendar/taste-of-the-blossoms-campus-cuisine/
LOCATION:Berkshire Hall\, 181 White St.\, Danbury\, CT
CATEGORIES:Food
ATTACH;FMTTYPE=image/jpeg:https://www.wcsu.edu/events/wp-content/uploads/sites/181/2025/01/Berkshire-Dining-with-students_500x300.jpg
ORGANIZER;CN="WCSU Dining":MAILTO:heidi.diaz@sodexo.com
END:VEVENT
END:VCALENDAR