BEGIN:VCALENDAR
VERSION:2.0
PRODID:-//WCSU Events - ECPv6.15.17.1//NONSGML v1.0//EN
CALSCALE:GREGORIAN
METHOD:PUBLISH
X-WR-CALNAME:WCSU Events
X-ORIGINAL-URL:https://www.wcsu.edu/events
X-WR-CALDESC:Events for WCSU Events
REFRESH-INTERVAL;VALUE=DURATION:PT1H
X-Robots-Tag:noindex
X-PUBLISHED-TTL:PT1H
BEGIN:VTIMEZONE
TZID:America/New_York
BEGIN:DAYLIGHT
TZOFFSETFROM:-0500
TZOFFSETTO:-0400
TZNAME:EDT
DTSTART:20240310T070000
END:DAYLIGHT
BEGIN:STANDARD
TZOFFSETFROM:-0400
TZOFFSETTO:-0500
TZNAME:EST
DTSTART:20241103T060000
END:STANDARD
BEGIN:DAYLIGHT
TZOFFSETFROM:-0500
TZOFFSETTO:-0400
TZNAME:EDT
DTSTART:20250309T070000
END:DAYLIGHT
BEGIN:STANDARD
TZOFFSETFROM:-0400
TZOFFSETTO:-0500
TZNAME:EST
DTSTART:20251102T060000
END:STANDARD
BEGIN:DAYLIGHT
TZOFFSETFROM:-0500
TZOFFSETTO:-0400
TZNAME:EDT
DTSTART:20260308T070000
END:DAYLIGHT
BEGIN:STANDARD
TZOFFSETFROM:-0400
TZOFFSETTO:-0500
TZNAME:EST
DTSTART:20261101T060000
END:STANDARD
END:VTIMEZONE
BEGIN:VEVENT
DTSTART;TZID=America/New_York:20250421T113000
DTEND;TZID=America/New_York:20250421T140000
DTSTAMP:20260421T170213
CREATED:20250327T201109Z
LAST-MODIFIED:20250401T130755Z
UID:10071159-1745235000-1745244000@www.wcsu.edu
SUMMARY:Earth Cups Tabling Event
DESCRIPTION:EARTH CUPS TABLING EVENT: Join us for Make Your Own Earth Cups in honor of Earth Day from 11:30 a.m. to 2 p.m. in Berkshire Hall on the Midtown campus! Celebrate with a delicious dirt cup\, layered with chocolate pudding\, crumbled cookies\, and topped with gummy worms. This free event is the perfect way to enjoy a sweet treat while honoring our planet. Don’t miss out! \n  \n 
URL:https://www.wcsu.edu/events/calendar/earth-cups-tabling-event/
LOCATION:Berkshire Hall\, 181 White St.\, Danbury\, CT
ATTACH;FMTTYPE=image/jpeg:https://www.wcsu.edu/events/wp-content/uploads/sites/181/2023/10/Berkshire-10-18-23.jpg
ORGANIZER;CN="WCSU Dining":MAILTO:heidi.diaz@sodexo.com
END:VEVENT
END:VCALENDAR