BEGIN:VCALENDAR
VERSION:2.0
PRODID:-//WCSU Events - ECPv6.15.17.1//NONSGML v1.0//EN
CALSCALE:GREGORIAN
METHOD:PUBLISH
X-ORIGINAL-URL:https://www.wcsu.edu/events
X-WR-CALDESC:Events for WCSU Events
REFRESH-INTERVAL;VALUE=DURATION:PT1H
X-Robots-Tag:noindex
X-PUBLISHED-TTL:PT1H
BEGIN:VTIMEZONE
TZID:America/New_York
BEGIN:DAYLIGHT
TZOFFSETFROM:-0500
TZOFFSETTO:-0400
TZNAME:EDT
DTSTART:20230312T070000
END:DAYLIGHT
BEGIN:STANDARD
TZOFFSETFROM:-0400
TZOFFSETTO:-0500
TZNAME:EST
DTSTART:20231105T060000
END:STANDARD
BEGIN:DAYLIGHT
TZOFFSETFROM:-0500
TZOFFSETTO:-0400
TZNAME:EDT
DTSTART:20240310T070000
END:DAYLIGHT
BEGIN:STANDARD
TZOFFSETFROM:-0400
TZOFFSETTO:-0500
TZNAME:EST
DTSTART:20241103T060000
END:STANDARD
BEGIN:DAYLIGHT
TZOFFSETFROM:-0500
TZOFFSETTO:-0400
TZNAME:EDT
DTSTART:20250309T070000
END:DAYLIGHT
BEGIN:STANDARD
TZOFFSETFROM:-0400
TZOFFSETTO:-0500
TZNAME:EST
DTSTART:20251102T060000
END:STANDARD
END:VTIMEZONE
BEGIN:VEVENT
DTSTART;TZID=America/New_York:20240404T160000
DTEND;TZID=America/New_York:20240404T180000
DTSTAMP:20260421T003026
CREATED:20240205T173710Z
LAST-MODIFIED:20240226T164623Z
UID:10064377-1712246400-1712253600@www.wcsu.edu
SUMMARY:Softball vs. University of Saint Joseph
DESCRIPTION:WESTCONN SOFTBALL VS. UNIVERSITY OF SAINT JOSEPH: The Wolves will face the University of Saint Joseph at 4 p.m. at the Westside Softball Field. For more information\, visit https://westconnathletics.com/.
URL:https://www.wcsu.edu/events/calendar/softball-vs-university-of-saint-joseph/
LOCATION:Westside Softball Field\, 43 Lake Ave. Extension\, Danbury\, CT\, United States
CATEGORIES:Athletics
ATTACH;FMTTYPE=image/png:https://www.wcsu.edu/events/wp-content/uploads/sites/181/2024/02/13.png
END:VEVENT
BEGIN:VEVENT
DTSTART;TZID=America/New_York:20240406T130000
DTEND;TZID=America/New_York:20240406T150000
DTSTAMP:20260421T003026
CREATED:20240205T173806Z
LAST-MODIFIED:20240226T164806Z
UID:10064378-1712408400-1712415600@www.wcsu.edu
SUMMARY:Softball vs. Keene State
DESCRIPTION:WESTCONN SOFTBALL VS. KEENE STATE: The Wolves will face Keene State at 1 p.m. at the Westside Softball Field. For more information\, visit https://westconnathletics.com/.
URL:https://www.wcsu.edu/events/calendar/softball-vs-keene-state/
LOCATION:Westside Softball Field\, 43 Lake Ave. Extension\, Danbury\, CT\, United States
CATEGORIES:Athletics
ATTACH;FMTTYPE=image/png:https://www.wcsu.edu/events/wp-content/uploads/sites/181/2024/02/13.png
END:VEVENT
BEGIN:VEVENT
DTSTART;TZID=America/New_York:20240416T160000
DTEND;TZID=America/New_York:20240416T180000
DTSTAMP:20260421T003026
CREATED:20240205T173918Z
LAST-MODIFIED:20240226T165437Z
UID:10064379-1713283200-1713290400@www.wcsu.edu
SUMMARY:Softball vs. UMass Dartmouth
DESCRIPTION:WESTCONN SOFTBALL VS. UMASS DARTMOUTH: The Wolves will face UMass Dartmouth at 4 p.m. at the Westside Softball Field. For more information\, visit https://westconnathletics.com/.
URL:https://www.wcsu.edu/events/calendar/softball-vs-umass-dartmouth/
LOCATION:Westside Softball Field\, 43 Lake Ave. Extension\, Danbury\, CT\, United States
CATEGORIES:Athletics
ATTACH;FMTTYPE=image/png:https://www.wcsu.edu/events/wp-content/uploads/sites/181/2024/02/13.png
END:VEVENT
BEGIN:VEVENT
DTSTART;TZID=America/New_York:20240427T130000
DTEND;TZID=America/New_York:20240427T150000
DTSTAMP:20260421T003026
CREATED:20240205T174024Z
LAST-MODIFIED:20240226T170253Z
UID:10064380-1714222800-1714230000@www.wcsu.edu
SUMMARY:Softball vs. VSU Castleton
DESCRIPTION:WESTCONN SOFTBALL VS. VSU CASTLETON: The Wolves will face Vermont State University Castleton at 1 p.m. at the Westside Softball Field. For more information\, visit https://westconnathletics.com/.
URL:https://www.wcsu.edu/events/calendar/softball-vs-vsu-castleton/
LOCATION:Westside Softball Field\, 43 Lake Ave. Extension\, Danbury\, CT\, United States
CATEGORIES:Athletics
ATTACH;FMTTYPE=image/png:https://www.wcsu.edu/events/wp-content/uploads/sites/181/2024/02/13.png
END:VEVENT
END:VCALENDAR