BEGIN:VCALENDAR
VERSION:2.0
PRODID:-//WCSU Events - ECPv6.15.17.1//NONSGML v1.0//EN
CALSCALE:GREGORIAN
METHOD:PUBLISH
X-WR-CALNAME:WCSU Events
X-ORIGINAL-URL:https://www.wcsu.edu/events
X-WR-CALDESC:Events for WCSU Events
REFRESH-INTERVAL;VALUE=DURATION:PT1H
X-Robots-Tag:noindex
X-PUBLISHED-TTL:PT1H
BEGIN:VTIMEZONE
TZID:America/New_York
BEGIN:DAYLIGHT
TZOFFSETFROM:-0500
TZOFFSETTO:-0400
TZNAME:EDT
DTSTART:20230312T070000
END:DAYLIGHT
BEGIN:STANDARD
TZOFFSETFROM:-0400
TZOFFSETTO:-0500
TZNAME:EST
DTSTART:20231105T060000
END:STANDARD
BEGIN:DAYLIGHT
TZOFFSETFROM:-0500
TZOFFSETTO:-0400
TZNAME:EDT
DTSTART:20240310T070000
END:DAYLIGHT
BEGIN:STANDARD
TZOFFSETFROM:-0400
TZOFFSETTO:-0500
TZNAME:EST
DTSTART:20241103T060000
END:STANDARD
BEGIN:DAYLIGHT
TZOFFSETFROM:-0500
TZOFFSETTO:-0400
TZNAME:EDT
DTSTART:20250309T070000
END:DAYLIGHT
BEGIN:STANDARD
TZOFFSETFROM:-0400
TZOFFSETTO:-0500
TZNAME:EST
DTSTART:20251102T060000
END:STANDARD
END:VTIMEZONE
BEGIN:VEVENT
DTSTART;TZID=America/New_York:20241007T160000
DTEND;TZID=America/New_York:20241007T170000
DTSTAMP:20260419T133301
CREATED:20241008T124711Z
LAST-MODIFIED:20241015T184305Z
UID:10069932-1728316800-1728320400@www.wcsu.edu
SUMMARY:Accounting Society Presents PKF O'Connor Davies
DESCRIPTION:ACCOUNTING SOCIETY PRESENTS PKF O’CONNOR DAVIES WITH MICHAEL F. GANINO CPA\, CFE: Join the Accounting Society in a guest presentation with Michael F. Ganino CPA\, CFE from PKF O’Connor Davies! PKF O’Connor Davies is a small to medium top-tier accounting\, tax and advisory practice based in Shelton. From 4 to 5 p.m. in Room 212/214 of the Westside Campus Center.
URL:https://www.wcsu.edu/events/calendar/accounting-society-presents-pkf-oconnor-davies/
LOCATION:Westside Campus Center 212/214\, 43 Lake Ave. Extension\, Danbury\, CT
CATEGORIES:Lectures
ATTACH;FMTTYPE=image/jpeg:https://www.wcsu.edu/events/wp-content/uploads/sites/181/2023/02/Westside-Campus-Center2.jpg
END:VEVENT
END:VCALENDAR