BEGIN:VCALENDAR
VERSION:2.0
PRODID:-//WCSU Events - ECPv6.15.17.1//NONSGML v1.0//EN
CALSCALE:GREGORIAN
METHOD:PUBLISH
X-WR-CALNAME:WCSU Events
X-ORIGINAL-URL:https://www.wcsu.edu/events
X-WR-CALDESC:Events for WCSU Events
REFRESH-INTERVAL;VALUE=DURATION:PT1H
X-Robots-Tag:noindex
X-PUBLISHED-TTL:PT1H
BEGIN:VTIMEZONE
TZID:UTC
BEGIN:STANDARD
TZOFFSETFROM:+0000
TZOFFSETTO:+0000
TZNAME:UTC
DTSTART:20210101T000000
END:STANDARD
END:VTIMEZONE
BEGIN:VEVENT
DTSTART;TZID=UTC:20220430T130000
DTEND;TZID=UTC:20220430T163000
DTSTAMP:20260425T221248
CREATED:20220203T234145Z
LAST-MODIFIED:20220414T183945Z
UID:10061808-1651323600-1651336200@www.wcsu.edu
SUMMARY:Men's Tennis LEC Match
DESCRIPTION:MEN’S TENNIS VS. BRIDGEWATER STATE UNIVERSITY: WestConn men’s tennis will host Bridgewater State University in a LEC match at 1 p.m. at the  Westside Courts. Check for any updated postponements and scheduled web streams at www.westconnathletics.com.
URL:https://www.wcsu.edu/events/calendar/mens-tennis-lec-match/
LOCATION:Westside Tennis Courts\, 43 Lake Ave. Extension\, Danbury\, CT
CATEGORIES:Athletics
ATTACH;FMTTYPE=image/jpeg:https://www.wcsu.edu/events/wp-content/uploads/sites/181/2022/02/tennis-430.jpg
END:VEVENT
END:VCALENDAR