BEGIN:VCALENDAR
VERSION:2.0
PRODID:-//WCSU Events - ECPv6.15.17.1//NONSGML v1.0//EN
CALSCALE:GREGORIAN
METHOD:PUBLISH
X-ORIGINAL-URL:https://www.wcsu.edu/events
X-WR-CALDESC:Events for WCSU Events
REFRESH-INTERVAL;VALUE=DURATION:PT1H
X-Robots-Tag:noindex
X-PUBLISHED-TTL:PT1H
BEGIN:VTIMEZONE
TZID:UTC
BEGIN:STANDARD
TZOFFSETFROM:+0000
TZOFFSETTO:+0000
TZNAME:UTC
DTSTART:20210101T000000
END:STANDARD
END:VTIMEZONE
BEGIN:VEVENT
DTSTART;TZID=UTC:20220406T160000
DTEND;TZID=UTC:20220406T200000
DTSTAMP:20260420T185535
CREATED:20220321T185455Z
LAST-MODIFIED:20220321T185504Z
UID:10062187-1649260800-1649275200@www.wcsu.edu
SUMMARY:COVID-19 Vaccination Clinic
DESCRIPTION:COVID-19 VACCINATION CLINIC: We have teamed up with CT DPH and Griffin Health to offer a weekly COVID-19 Vaccination clinic on campus. Wednesdays from 4 to 8 p.m. in the Midtown Student Center Colonial Corner. Get vaxxed\, stay healthy!
URL:https://www.wcsu.edu/events/calendar/covid-19-vaccination-clinic/2022-04-06/
LOCATION:Midtown Student Center Colonial Corner\, 181 White St.\, Danbury\, United States
CATEGORIES:Health And Wellness
ATTACH;FMTTYPE=image/png:https://www.wcsu.edu/events/wp-content/uploads/sites/181/2022/03/DPH-Van-Image-e1649947134401.png
END:VEVENT
END:VCALENDAR